BEGIN:VCALENDAR
VERSION:2.0
PRODID:-//Myrtle Learning - ECPv6.15.3//NONSGML v1.0//EN
CALSCALE:GREGORIAN
METHOD:PUBLISH
X-WR-CALNAME:Myrtle Learning
X-ORIGINAL-URL:https://myrtlelearning.com
X-WR-CALDESC:Events for Myrtle Learning
REFRESH-INTERVAL;VALUE=DURATION:PT1H
X-Robots-Tag:noindex
X-PUBLISHED-TTL:PT1H
BEGIN:VTIMEZONE
TZID:UTC
BEGIN:STANDARD
TZOFFSETFROM:+0000
TZOFFSETTO:+0000
TZNAME:UTC
DTSTART:20290101T000000
END:STANDARD
END:VTIMEZONE
BEGIN:VEVENT
DTSTART;TZID=UTC:20291201T110000
DTEND;TZID=UTC:20291201T140000
DTSTAMP:20260424T161405
CREATED:20240914T164127Z
LAST-MODIFIED:20250131T104731Z
UID:10063187-1890817200-1890828000@myrtlelearning.com
SUMMARY:26EP Myrtle 2 Ma/EVR
DESCRIPTION:26EP Myrtle 2 Ma/EVR \nThese group is made of students preparing for their 11plus exams in 2026 \nSelect the button below to join the lesson online
URL:https://myrtlelearning.com/event/26ep-myrtle-2-ma-evr/2029-12-01/
LOCATION:Myrtle Learning Centre\, Pattens Gardens\, Rochester\, Kent\, ME1 2QP\, United Kingdom
CATEGORIES:26EP Myrtle 2 Ma/EVR
ATTACH;FMTTYPE=image/jpeg:https://myrtlelearning.com/wp-content/uploads/2023/08/myrtle-icon-whitejpg.jpg
END:VEVENT
BEGIN:VEVENT
DTSTART;TZID=UTC:20291208T110000
DTEND;TZID=UTC:20291208T140000
DTSTAMP:20260424T161405
CREATED:20240914T164127Z
LAST-MODIFIED:20250131T104731Z
UID:10063188-1891422000-1891432800@myrtlelearning.com
SUMMARY:26EP Myrtle 2 Ma/EVR
DESCRIPTION:26EP Myrtle 2 Ma/EVR \nThese group is made of students preparing for their 11plus exams in 2026 \nSelect the button below to join the lesson online
URL:https://myrtlelearning.com/event/26ep-myrtle-2-ma-evr/2029-12-08/
LOCATION:Myrtle Learning Centre\, Pattens Gardens\, Rochester\, Kent\, ME1 2QP\, United Kingdom
CATEGORIES:26EP Myrtle 2 Ma/EVR
ATTACH;FMTTYPE=image/jpeg:https://myrtlelearning.com/wp-content/uploads/2023/08/myrtle-icon-whitejpg.jpg
END:VEVENT
BEGIN:VEVENT
DTSTART;TZID=UTC:20291215T110000
DTEND;TZID=UTC:20291215T140000
DTSTAMP:20260424T161405
CREATED:20240914T164127Z
LAST-MODIFIED:20250131T104731Z
UID:10063189-1892026800-1892037600@myrtlelearning.com
SUMMARY:26EP Myrtle 2 Ma/EVR
DESCRIPTION:26EP Myrtle 2 Ma/EVR \nThese group is made of students preparing for their 11plus exams in 2026 \nSelect the button below to join the lesson online
URL:https://myrtlelearning.com/event/26ep-myrtle-2-ma-evr/2029-12-15/
LOCATION:Myrtle Learning Centre\, Pattens Gardens\, Rochester\, Kent\, ME1 2QP\, United Kingdom
CATEGORIES:26EP Myrtle 2 Ma/EVR
ATTACH;FMTTYPE=image/jpeg:https://myrtlelearning.com/wp-content/uploads/2023/08/myrtle-icon-whitejpg.jpg
END:VEVENT
BEGIN:VEVENT
DTSTART;TZID=UTC:20291222T110000
DTEND;TZID=UTC:20291222T140000
DTSTAMP:20260424T161405
CREATED:20240914T164127Z
LAST-MODIFIED:20250131T104731Z
UID:10063190-1892631600-1892642400@myrtlelearning.com
SUMMARY:26EP Myrtle 2 Ma/EVR
DESCRIPTION:26EP Myrtle 2 Ma/EVR \nThese group is made of students preparing for their 11plus exams in 2026 \nSelect the button below to join the lesson online
URL:https://myrtlelearning.com/event/26ep-myrtle-2-ma-evr/2029-12-22/
LOCATION:Myrtle Learning Centre\, Pattens Gardens\, Rochester\, Kent\, ME1 2QP\, United Kingdom
CATEGORIES:26EP Myrtle 2 Ma/EVR
ATTACH;FMTTYPE=image/jpeg:https://myrtlelearning.com/wp-content/uploads/2023/08/myrtle-icon-whitejpg.jpg
END:VEVENT
BEGIN:VEVENT
DTSTART;TZID=UTC:20291229T110000
DTEND;TZID=UTC:20291229T140000
DTSTAMP:20260424T161405
CREATED:20240914T164127Z
LAST-MODIFIED:20250131T104731Z
UID:10063191-1893236400-1893247200@myrtlelearning.com
SUMMARY:26EP Myrtle 2 Ma/EVR
DESCRIPTION:26EP Myrtle 2 Ma/EVR \nThese group is made of students preparing for their 11plus exams in 2026 \nSelect the button below to join the lesson online
URL:https://myrtlelearning.com/event/26ep-myrtle-2-ma-evr/2029-12-29/
LOCATION:Myrtle Learning Centre\, Pattens Gardens\, Rochester\, Kent\, ME1 2QP\, United Kingdom
CATEGORIES:26EP Myrtle 2 Ma/EVR
ATTACH;FMTTYPE=image/jpeg:https://myrtlelearning.com/wp-content/uploads/2023/08/myrtle-icon-whitejpg.jpg
END:VEVENT
END:VCALENDAR