BEGIN:VCALENDAR
VERSION:2.0
PRODID:-//Myrtle Learning - ECPv6.15.3//NONSGML v1.0//EN
CALSCALE:GREGORIAN
METHOD:PUBLISH
X-ORIGINAL-URL:https://myrtlelearning.com
X-WR-CALDESC:Events for Myrtle Learning
REFRESH-INTERVAL;VALUE=DURATION:PT1H
X-Robots-Tag:noindex
X-PUBLISHED-TTL:PT1H
BEGIN:VTIMEZONE
TZID:UTC
BEGIN:STANDARD
TZOFFSETFROM:+0000
TZOFFSETTO:+0000
TZNAME:UTC
DTSTART:20310101T000000
END:STANDARD
END:VTIMEZONE
BEGIN:VEVENT
DTSTART;TZID=UTC:20310301T110000
DTEND;TZID=UTC:20310301T140000
DTSTAMP:20260425T140512
CREATED:20240914T164127Z
LAST-MODIFIED:20250131T104731Z
UID:10101120-1930129200-1930140000@myrtlelearning.com
SUMMARY:26EP Myrtle 2 Ma/EVR
DESCRIPTION:26EP Myrtle 2 Ma/EVR \nThese group is made of students preparing for their 11plus exams in 2026 \nSelect the button below to join the lesson online
URL:https://myrtlelearning.com/event/26ep-myrtle-2-ma-evr/2031-03-01/
LOCATION:Myrtle Learning Centre\, Pattens Gardens\, Rochester\, Kent\, ME1 2QP\, United Kingdom
CATEGORIES:26EP Myrtle 2 Ma/EVR
ATTACH;FMTTYPE=image/jpeg:https://myrtlelearning.com/wp-content/uploads/2023/08/myrtle-icon-whitejpg.jpg
END:VEVENT
BEGIN:VEVENT
DTSTART;TZID=UTC:20310308T110000
DTEND;TZID=UTC:20310308T140000
DTSTAMP:20260425T140512
CREATED:20240914T164127Z
LAST-MODIFIED:20250131T104731Z
UID:10101121-1930734000-1930744800@myrtlelearning.com
SUMMARY:26EP Myrtle 2 Ma/EVR
DESCRIPTION:26EP Myrtle 2 Ma/EVR \nThese group is made of students preparing for their 11plus exams in 2026 \nSelect the button below to join the lesson online
URL:https://myrtlelearning.com/event/26ep-myrtle-2-ma-evr/2031-03-08/
LOCATION:Myrtle Learning Centre\, Pattens Gardens\, Rochester\, Kent\, ME1 2QP\, United Kingdom
CATEGORIES:26EP Myrtle 2 Ma/EVR
ATTACH;FMTTYPE=image/jpeg:https://myrtlelearning.com/wp-content/uploads/2023/08/myrtle-icon-whitejpg.jpg
END:VEVENT
BEGIN:VEVENT
DTSTART;TZID=UTC:20310315T110000
DTEND;TZID=UTC:20310315T140000
DTSTAMP:20260425T140512
CREATED:20240914T164127Z
LAST-MODIFIED:20250131T104731Z
UID:10101122-1931338800-1931349600@myrtlelearning.com
SUMMARY:26EP Myrtle 2 Ma/EVR
DESCRIPTION:26EP Myrtle 2 Ma/EVR \nThese group is made of students preparing for their 11plus exams in 2026 \nSelect the button below to join the lesson online
URL:https://myrtlelearning.com/event/26ep-myrtle-2-ma-evr/2031-03-15/
LOCATION:Myrtle Learning Centre\, Pattens Gardens\, Rochester\, Kent\, ME1 2QP\, United Kingdom
CATEGORIES:26EP Myrtle 2 Ma/EVR
ATTACH;FMTTYPE=image/jpeg:https://myrtlelearning.com/wp-content/uploads/2023/08/myrtle-icon-whitejpg.jpg
END:VEVENT
BEGIN:VEVENT
DTSTART;TZID=UTC:20310322T110000
DTEND;TZID=UTC:20310322T140000
DTSTAMP:20260425T140512
CREATED:20240914T164127Z
LAST-MODIFIED:20250131T104731Z
UID:10101123-1931943600-1931954400@myrtlelearning.com
SUMMARY:26EP Myrtle 2 Ma/EVR
DESCRIPTION:26EP Myrtle 2 Ma/EVR \nThese group is made of students preparing for their 11plus exams in 2026 \nSelect the button below to join the lesson online
URL:https://myrtlelearning.com/event/26ep-myrtle-2-ma-evr/2031-03-22/
LOCATION:Myrtle Learning Centre\, Pattens Gardens\, Rochester\, Kent\, ME1 2QP\, United Kingdom
CATEGORIES:26EP Myrtle 2 Ma/EVR
ATTACH;FMTTYPE=image/jpeg:https://myrtlelearning.com/wp-content/uploads/2023/08/myrtle-icon-whitejpg.jpg
END:VEVENT
BEGIN:VEVENT
DTSTART;TZID=UTC:20310329T110000
DTEND;TZID=UTC:20310329T140000
DTSTAMP:20260425T140512
CREATED:20240914T164127Z
LAST-MODIFIED:20250131T104731Z
UID:10101124-1932548400-1932559200@myrtlelearning.com
SUMMARY:26EP Myrtle 2 Ma/EVR
DESCRIPTION:26EP Myrtle 2 Ma/EVR \nThese group is made of students preparing for their 11plus exams in 2026 \nSelect the button below to join the lesson online
URL:https://myrtlelearning.com/event/26ep-myrtle-2-ma-evr/2031-03-29/
LOCATION:Myrtle Learning Centre\, Pattens Gardens\, Rochester\, Kent\, ME1 2QP\, United Kingdom
CATEGORIES:26EP Myrtle 2 Ma/EVR
ATTACH;FMTTYPE=image/jpeg:https://myrtlelearning.com/wp-content/uploads/2023/08/myrtle-icon-whitejpg.jpg
END:VEVENT
END:VCALENDAR