BEGIN:VCALENDAR
VERSION:2.0
PRODID:-//Myrtle Learning - ECPv6.15.3//NONSGML v1.0//EN
CALSCALE:GREGORIAN
METHOD:PUBLISH
X-ORIGINAL-URL:https://myrtlelearning.com
X-WR-CALDESC:Events for Myrtle Learning
REFRESH-INTERVAL;VALUE=DURATION:PT1H
X-Robots-Tag:noindex
X-PUBLISHED-TTL:PT1H
BEGIN:VTIMEZONE
TZID:UTC
BEGIN:STANDARD
TZOFFSETFROM:+0000
TZOFFSETTO:+0000
TZNAME:UTC
DTSTART:20250101T000000
END:STANDARD
END:VTIMEZONE
BEGIN:VEVENT
DTSTART;TZID=UTC:20250307T190000
DTEND;TZID=UTC:20250307T200000
DTSTAMP:20260423T202929
CREATED:20250124T152628Z
LAST-MODIFIED:20250124T152630Z
UID:10060044-1741374000-1741377600@myrtlelearning.com
SUMMARY:26GE Myrtle 2
DESCRIPTION:26GE Myrtle 2  \nThese group is made of students preparing for their English exams in 2026 \nSelect the button below to join the lesson online
URL:https://myrtlelearning.com/event/26ge-myrtle-2-2/2025-03-07/
LOCATION:Online Session\, 25 Pattens Gardens\, Rochester\, Other\, ME1 2QP\, United Kingdom
CATEGORIES:26GE Myrtle 2
ATTACH;FMTTYPE=image/jpeg:https://myrtlelearning.com/wp-content/uploads/2023/08/myrtle-icon-whitejpg.jpg
END:VEVENT
BEGIN:VEVENT
DTSTART;TZID=UTC:20250314T190000
DTEND;TZID=UTC:20250314T200000
DTSTAMP:20260423T202929
CREATED:20250124T152628Z
LAST-MODIFIED:20250124T152630Z
UID:10060045-1741978800-1741982400@myrtlelearning.com
SUMMARY:26GE Myrtle 2
DESCRIPTION:26GE Myrtle 2  \nThese group is made of students preparing for their English exams in 2026 \nSelect the button below to join the lesson online
URL:https://myrtlelearning.com/event/26ge-myrtle-2-2/2025-03-14/
LOCATION:Online Session\, 25 Pattens Gardens\, Rochester\, Other\, ME1 2QP\, United Kingdom
CATEGORIES:26GE Myrtle 2
ATTACH;FMTTYPE=image/jpeg:https://myrtlelearning.com/wp-content/uploads/2023/08/myrtle-icon-whitejpg.jpg
END:VEVENT
BEGIN:VEVENT
DTSTART;TZID=UTC:20250321T190000
DTEND;TZID=UTC:20250321T200000
DTSTAMP:20260423T202929
CREATED:20250124T152628Z
LAST-MODIFIED:20250124T152630Z
UID:10060046-1742583600-1742587200@myrtlelearning.com
SUMMARY:26GE Myrtle 2
DESCRIPTION:26GE Myrtle 2  \nThese group is made of students preparing for their English exams in 2026 \nSelect the button below to join the lesson online
URL:https://myrtlelearning.com/event/26ge-myrtle-2-2/2025-03-21/
LOCATION:Online Session\, 25 Pattens Gardens\, Rochester\, Other\, ME1 2QP\, United Kingdom
CATEGORIES:26GE Myrtle 2
ATTACH;FMTTYPE=image/jpeg:https://myrtlelearning.com/wp-content/uploads/2023/08/myrtle-icon-whitejpg.jpg
END:VEVENT
BEGIN:VEVENT
DTSTART;TZID=UTC:20250328T190000
DTEND;TZID=UTC:20250328T200000
DTSTAMP:20260423T202929
CREATED:20250124T152628Z
LAST-MODIFIED:20250124T152630Z
UID:10060047-1743188400-1743192000@myrtlelearning.com
SUMMARY:26GE Myrtle 2
DESCRIPTION:26GE Myrtle 2  \nThese group is made of students preparing for their English exams in 2026 \nSelect the button below to join the lesson online
URL:https://myrtlelearning.com/event/26ge-myrtle-2-2/2025-03-28/
LOCATION:Online Session\, 25 Pattens Gardens\, Rochester\, Other\, ME1 2QP\, United Kingdom
CATEGORIES:26GE Myrtle 2
ATTACH;FMTTYPE=image/jpeg:https://myrtlelearning.com/wp-content/uploads/2023/08/myrtle-icon-whitejpg.jpg
END:VEVENT
END:VCALENDAR