BEGIN:VCALENDAR
VERSION:2.0
PRODID:-//Myrtle Learning - ECPv6.15.3//NONSGML v1.0//EN
CALSCALE:GREGORIAN
METHOD:PUBLISH
X-ORIGINAL-URL:https://myrtlelearning.com
X-WR-CALDESC:Events for Myrtle Learning
REFRESH-INTERVAL;VALUE=DURATION:PT1H
X-Robots-Tag:noindex
X-PUBLISHED-TTL:PT1H
BEGIN:VTIMEZONE
TZID:UTC
BEGIN:STANDARD
TZOFFSETFROM:+0000
TZOFFSETTO:+0000
TZNAME:UTC
DTSTART:20270101T000000
END:STANDARD
END:VTIMEZONE
BEGIN:VEVENT
DTSTART;TZID=UTC:20270205T190000
DTEND;TZID=UTC:20270205T200000
DTSTAMP:20260421T221326
CREATED:20250124T152628Z
LAST-MODIFIED:20250124T152630Z
UID:10060144-1801854000-1801857600@myrtlelearning.com
SUMMARY:26GE Myrtle 2
DESCRIPTION:26GE Myrtle 2  \nThese group is made of students preparing for their English exams in 2026 \nSelect the button below to join the lesson online
URL:https://myrtlelearning.com/event/26ge-myrtle-2-2/2027-02-05/
LOCATION:Online Session\, 25 Pattens Gardens\, Rochester\, Other\, ME1 2QP\, United Kingdom
CATEGORIES:26GE Myrtle 2
ATTACH;FMTTYPE=image/jpeg:https://myrtlelearning.com/wp-content/uploads/2023/08/myrtle-icon-whitejpg.jpg
END:VEVENT
BEGIN:VEVENT
DTSTART;TZID=UTC:20270212T190000
DTEND;TZID=UTC:20270212T200000
DTSTAMP:20260421T221326
CREATED:20250124T152628Z
LAST-MODIFIED:20250124T152630Z
UID:10060145-1802458800-1802462400@myrtlelearning.com
SUMMARY:26GE Myrtle 2
DESCRIPTION:26GE Myrtle 2  \nThese group is made of students preparing for their English exams in 2026 \nSelect the button below to join the lesson online
URL:https://myrtlelearning.com/event/26ge-myrtle-2-2/2027-02-12/
LOCATION:Online Session\, 25 Pattens Gardens\, Rochester\, Other\, ME1 2QP\, United Kingdom
CATEGORIES:26GE Myrtle 2
ATTACH;FMTTYPE=image/jpeg:https://myrtlelearning.com/wp-content/uploads/2023/08/myrtle-icon-whitejpg.jpg
END:VEVENT
BEGIN:VEVENT
DTSTART;TZID=UTC:20270219T190000
DTEND;TZID=UTC:20270219T200000
DTSTAMP:20260421T221326
CREATED:20250124T152628Z
LAST-MODIFIED:20250124T152630Z
UID:10060146-1803063600-1803067200@myrtlelearning.com
SUMMARY:26GE Myrtle 2
DESCRIPTION:26GE Myrtle 2  \nThese group is made of students preparing for their English exams in 2026 \nSelect the button below to join the lesson online
URL:https://myrtlelearning.com/event/26ge-myrtle-2-2/2027-02-19/
LOCATION:Online Session\, 25 Pattens Gardens\, Rochester\, Other\, ME1 2QP\, United Kingdom
CATEGORIES:26GE Myrtle 2
ATTACH;FMTTYPE=image/jpeg:https://myrtlelearning.com/wp-content/uploads/2023/08/myrtle-icon-whitejpg.jpg
END:VEVENT
BEGIN:VEVENT
DTSTART;TZID=UTC:20270226T190000
DTEND;TZID=UTC:20270226T200000
DTSTAMP:20260421T221326
CREATED:20250124T152628Z
LAST-MODIFIED:20250124T152630Z
UID:10060147-1803668400-1803672000@myrtlelearning.com
SUMMARY:26GE Myrtle 2
DESCRIPTION:26GE Myrtle 2  \nThese group is made of students preparing for their English exams in 2026 \nSelect the button below to join the lesson online
URL:https://myrtlelearning.com/event/26ge-myrtle-2-2/2027-02-26/
LOCATION:Online Session\, 25 Pattens Gardens\, Rochester\, Other\, ME1 2QP\, United Kingdom
CATEGORIES:26GE Myrtle 2
ATTACH;FMTTYPE=image/jpeg:https://myrtlelearning.com/wp-content/uploads/2023/08/myrtle-icon-whitejpg.jpg
END:VEVENT
END:VCALENDAR