BEGIN:VCALENDAR
VERSION:2.0
PRODID:-//Myrtle Learning - ECPv6.15.3//NONSGML v1.0//EN
CALSCALE:GREGORIAN
METHOD:PUBLISH
X-ORIGINAL-URL:https://myrtlelearning.com
X-WR-CALDESC:Events for Myrtle Learning
REFRESH-INTERVAL;VALUE=DURATION:PT1H
X-Robots-Tag:noindex
X-PUBLISHED-TTL:PT1H
BEGIN:VTIMEZONE
TZID:UTC
BEGIN:STANDARD
TZOFFSETFROM:+0000
TZOFFSETTO:+0000
TZNAME:UTC
DTSTART:20260101T000000
END:STANDARD
END:VTIMEZONE
BEGIN:VEVENT
DTSTART;TZID=UTC:20260502T160000
DTEND;TZID=UTC:20260502T170000
DTSTAMP:20260421T000416
CREATED:20260402T162155Z
LAST-MODIFIED:20260420T145311Z
UID:10101155-1777737600-1777741200@myrtlelearning.com
SUMMARY:26GE Myrtle 3
DESCRIPTION:26GE Myrtle 3 \nThese group is made of students preparing for their GCSE English exams in 2026 \nSelect the button below to join the lesson online
URL:https://myrtlelearning.com/event/26ge-myrtle-3/2026-05-02/
LOCATION:Online Session\, 25 Pattens Gardens\, Rochester\, Other\, ME1 2QP\, United Kingdom
CATEGORIES:26GE Myrtle 3
ATTACH;FMTTYPE=image/jpeg:https://myrtlelearning.com/wp-content/uploads/2023/08/myrtle-icon-whitejpg.jpg
ORGANIZER;CN="Abbie":MAILTO:barnesab@myrtlelearning.com
END:VEVENT
BEGIN:VEVENT
DTSTART;TZID=UTC:20260507T160000
DTEND;TZID=UTC:20260507T170000
DTSTAMP:20260421T000416
CREATED:20260402T162155Z
LAST-MODIFIED:20260420T145311Z
UID:10101156-1778169600-1778173200@myrtlelearning.com
SUMMARY:26GE Myrtle 3
DESCRIPTION:26GE Myrtle 3 \nThese group is made of students preparing for their GCSE English exams in 2026 \nSelect the button below to join the lesson online
URL:https://myrtlelearning.com/event/26ge-myrtle-3/2026-05-07/
LOCATION:Online Session\, 25 Pattens Gardens\, Rochester\, Other\, ME1 2QP\, United Kingdom
CATEGORIES:26GE Myrtle 3
ATTACH;FMTTYPE=image/jpeg:https://myrtlelearning.com/wp-content/uploads/2023/08/myrtle-icon-whitejpg.jpg
ORGANIZER;CN="Abbie":MAILTO:barnesab@myrtlelearning.com
END:VEVENT
BEGIN:VEVENT
DTSTART;TZID=UTC:20260509T160000
DTEND;TZID=UTC:20260509T170000
DTSTAMP:20260421T000416
CREATED:20260402T162155Z
LAST-MODIFIED:20260420T145311Z
UID:10101157-1778342400-1778346000@myrtlelearning.com
SUMMARY:26GE Myrtle 3
DESCRIPTION:26GE Myrtle 3 \nThese group is made of students preparing for their GCSE English exams in 2026 \nSelect the button below to join the lesson online
URL:https://myrtlelearning.com/event/26ge-myrtle-3/2026-05-09/
LOCATION:Online Session\, 25 Pattens Gardens\, Rochester\, Other\, ME1 2QP\, United Kingdom
CATEGORIES:26GE Myrtle 3
ATTACH;FMTTYPE=image/jpeg:https://myrtlelearning.com/wp-content/uploads/2023/08/myrtle-icon-whitejpg.jpg
ORGANIZER;CN="Abbie":MAILTO:barnesab@myrtlelearning.com
END:VEVENT
BEGIN:VEVENT
DTSTART;TZID=UTC:20260514T160000
DTEND;TZID=UTC:20260514T170000
DTSTAMP:20260421T000416
CREATED:20260402T162155Z
LAST-MODIFIED:20260420T145311Z
UID:10101158-1778774400-1778778000@myrtlelearning.com
SUMMARY:26GE Myrtle 3
DESCRIPTION:26GE Myrtle 3 \nThese group is made of students preparing for their GCSE English exams in 2026 \nSelect the button below to join the lesson online
URL:https://myrtlelearning.com/event/26ge-myrtle-3/2026-05-14/
LOCATION:Online Session\, 25 Pattens Gardens\, Rochester\, Other\, ME1 2QP\, United Kingdom
CATEGORIES:26GE Myrtle 3
ATTACH;FMTTYPE=image/jpeg:https://myrtlelearning.com/wp-content/uploads/2023/08/myrtle-icon-whitejpg.jpg
ORGANIZER;CN="Abbie":MAILTO:barnesab@myrtlelearning.com
END:VEVENT
BEGIN:VEVENT
DTSTART;TZID=UTC:20260516T160000
DTEND;TZID=UTC:20260516T170000
DTSTAMP:20260421T000416
CREATED:20260402T162155Z
LAST-MODIFIED:20260420T145311Z
UID:10101159-1778947200-1778950800@myrtlelearning.com
SUMMARY:26GE Myrtle 3
DESCRIPTION:26GE Myrtle 3 \nThese group is made of students preparing for their GCSE English exams in 2026 \nSelect the button below to join the lesson online
URL:https://myrtlelearning.com/event/26ge-myrtle-3/2026-05-16/
LOCATION:Online Session\, 25 Pattens Gardens\, Rochester\, Other\, ME1 2QP\, United Kingdom
CATEGORIES:26GE Myrtle 3
ATTACH;FMTTYPE=image/jpeg:https://myrtlelearning.com/wp-content/uploads/2023/08/myrtle-icon-whitejpg.jpg
ORGANIZER;CN="Abbie":MAILTO:barnesab@myrtlelearning.com
END:VEVENT
BEGIN:VEVENT
DTSTART;TZID=UTC:20260521T160000
DTEND;TZID=UTC:20260521T170000
DTSTAMP:20260421T000416
CREATED:20260402T162155Z
LAST-MODIFIED:20260420T145311Z
UID:10101160-1779379200-1779382800@myrtlelearning.com
SUMMARY:26GE Myrtle 3
DESCRIPTION:26GE Myrtle 3 \nThese group is made of students preparing for their GCSE English exams in 2026 \nSelect the button below to join the lesson online
URL:https://myrtlelearning.com/event/26ge-myrtle-3/2026-05-21/
LOCATION:Online Session\, 25 Pattens Gardens\, Rochester\, Other\, ME1 2QP\, United Kingdom
CATEGORIES:26GE Myrtle 3
ATTACH;FMTTYPE=image/jpeg:https://myrtlelearning.com/wp-content/uploads/2023/08/myrtle-icon-whitejpg.jpg
ORGANIZER;CN="Abbie":MAILTO:barnesab@myrtlelearning.com
END:VEVENT
BEGIN:VEVENT
DTSTART;TZID=UTC:20260523T160000
DTEND;TZID=UTC:20260523T170000
DTSTAMP:20260421T000416
CREATED:20260402T162155Z
LAST-MODIFIED:20260420T145311Z
UID:10101161-1779552000-1779555600@myrtlelearning.com
SUMMARY:26GE Myrtle 3
DESCRIPTION:26GE Myrtle 3 \nThese group is made of students preparing for their GCSE English exams in 2026 \nSelect the button below to join the lesson online
URL:https://myrtlelearning.com/event/26ge-myrtle-3/2026-05-23/
LOCATION:Online Session\, 25 Pattens Gardens\, Rochester\, Other\, ME1 2QP\, United Kingdom
CATEGORIES:26GE Myrtle 3
ATTACH;FMTTYPE=image/jpeg:https://myrtlelearning.com/wp-content/uploads/2023/08/myrtle-icon-whitejpg.jpg
ORGANIZER;CN="Abbie":MAILTO:barnesab@myrtlelearning.com
END:VEVENT
BEGIN:VEVENT
DTSTART;TZID=UTC:20260528T160000
DTEND;TZID=UTC:20260528T170000
DTSTAMP:20260421T000416
CREATED:20260402T162155Z
LAST-MODIFIED:20260420T145311Z
UID:10101162-1779984000-1779987600@myrtlelearning.com
SUMMARY:26GE Myrtle 3
DESCRIPTION:26GE Myrtle 3 \nThese group is made of students preparing for their GCSE English exams in 2026 \nSelect the button below to join the lesson online
URL:https://myrtlelearning.com/event/26ge-myrtle-3/2026-05-28/
LOCATION:Online Session\, 25 Pattens Gardens\, Rochester\, Other\, ME1 2QP\, United Kingdom
CATEGORIES:26GE Myrtle 3
ATTACH;FMTTYPE=image/jpeg:https://myrtlelearning.com/wp-content/uploads/2023/08/myrtle-icon-whitejpg.jpg
ORGANIZER;CN="Abbie":MAILTO:barnesab@myrtlelearning.com
END:VEVENT
BEGIN:VEVENT
DTSTART;TZID=UTC:20260530T160000
DTEND;TZID=UTC:20260530T170000
DTSTAMP:20260421T000416
CREATED:20260402T162155Z
LAST-MODIFIED:20260420T145311Z
UID:10101163-1780156800-1780160400@myrtlelearning.com
SUMMARY:26GE Myrtle 3
DESCRIPTION:26GE Myrtle 3 \nThese group is made of students preparing for their GCSE English exams in 2026 \nSelect the button below to join the lesson online
URL:https://myrtlelearning.com/event/26ge-myrtle-3/2026-05-30/
LOCATION:Online Session\, 25 Pattens Gardens\, Rochester\, Other\, ME1 2QP\, United Kingdom
CATEGORIES:26GE Myrtle 3
ATTACH;FMTTYPE=image/jpeg:https://myrtlelearning.com/wp-content/uploads/2023/08/myrtle-icon-whitejpg.jpg
ORGANIZER;CN="Abbie":MAILTO:barnesab@myrtlelearning.com
END:VEVENT
END:VCALENDAR