BEGIN:VCALENDAR
VERSION:2.0
PRODID:-//Myrtle Learning - ECPv6.15.3//NONSGML v1.0//EN
CALSCALE:GREGORIAN
METHOD:PUBLISH
X-ORIGINAL-URL:https://myrtlelearning.com
X-WR-CALDESC:Events for Myrtle Learning
REFRESH-INTERVAL;VALUE=DURATION:PT1H
X-Robots-Tag:noindex
X-PUBLISHED-TTL:PT1H
BEGIN:VTIMEZONE
TZID:UTC
BEGIN:STANDARD
TZOFFSETFROM:+0000
TZOFFSETTO:+0000
TZNAME:UTC
DTSTART:20290101T000000
END:STANDARD
END:VTIMEZONE
BEGIN:VEVENT
DTSTART;TZID=UTC:20290201T160000
DTEND;TZID=UTC:20290201T170000
DTSTAMP:20260423T073041
CREATED:20260402T162155Z
LAST-MODIFIED:20260420T145311Z
UID:10101442-1864656000-1864659600@myrtlelearning.com
SUMMARY:26GE Myrtle 3
DESCRIPTION:26GE Myrtle 3 \nThese group is made of students preparing for their GCSE English exams in 2026 \nSelect the button below to join the lesson online
URL:https://myrtlelearning.com/event/26ge-myrtle-3/2029-02-01/
LOCATION:Online Session\, 25 Pattens Gardens\, Rochester\, Other\, ME1 2QP\, United Kingdom
CATEGORIES:26GE Myrtle 3
ATTACH;FMTTYPE=image/jpeg:https://myrtlelearning.com/wp-content/uploads/2023/08/myrtle-icon-whitejpg.jpg
ORGANIZER;CN="Abbie":MAILTO:barnesab@myrtlelearning.com
END:VEVENT
BEGIN:VEVENT
DTSTART;TZID=UTC:20290203T160000
DTEND;TZID=UTC:20290203T170000
DTSTAMP:20260423T073041
CREATED:20260402T162155Z
LAST-MODIFIED:20260420T145311Z
UID:10101443-1864828800-1864832400@myrtlelearning.com
SUMMARY:26GE Myrtle 3
DESCRIPTION:26GE Myrtle 3 \nThese group is made of students preparing for their GCSE English exams in 2026 \nSelect the button below to join the lesson online
URL:https://myrtlelearning.com/event/26ge-myrtle-3/2029-02-03/
LOCATION:Online Session\, 25 Pattens Gardens\, Rochester\, Other\, ME1 2QP\, United Kingdom
CATEGORIES:26GE Myrtle 3
ATTACH;FMTTYPE=image/jpeg:https://myrtlelearning.com/wp-content/uploads/2023/08/myrtle-icon-whitejpg.jpg
ORGANIZER;CN="Abbie":MAILTO:barnesab@myrtlelearning.com
END:VEVENT
BEGIN:VEVENT
DTSTART;TZID=UTC:20290208T160000
DTEND;TZID=UTC:20290208T170000
DTSTAMP:20260423T073041
CREATED:20260402T162155Z
LAST-MODIFIED:20260420T145311Z
UID:10101444-1865260800-1865264400@myrtlelearning.com
SUMMARY:26GE Myrtle 3
DESCRIPTION:26GE Myrtle 3 \nThese group is made of students preparing for their GCSE English exams in 2026 \nSelect the button below to join the lesson online
URL:https://myrtlelearning.com/event/26ge-myrtle-3/2029-02-08/
LOCATION:Online Session\, 25 Pattens Gardens\, Rochester\, Other\, ME1 2QP\, United Kingdom
CATEGORIES:26GE Myrtle 3
ATTACH;FMTTYPE=image/jpeg:https://myrtlelearning.com/wp-content/uploads/2023/08/myrtle-icon-whitejpg.jpg
ORGANIZER;CN="Abbie":MAILTO:barnesab@myrtlelearning.com
END:VEVENT
BEGIN:VEVENT
DTSTART;TZID=UTC:20290210T160000
DTEND;TZID=UTC:20290210T170000
DTSTAMP:20260423T073041
CREATED:20260402T162155Z
LAST-MODIFIED:20260420T145311Z
UID:10101445-1865433600-1865437200@myrtlelearning.com
SUMMARY:26GE Myrtle 3
DESCRIPTION:26GE Myrtle 3 \nThese group is made of students preparing for their GCSE English exams in 2026 \nSelect the button below to join the lesson online
URL:https://myrtlelearning.com/event/26ge-myrtle-3/2029-02-10/
LOCATION:Online Session\, 25 Pattens Gardens\, Rochester\, Other\, ME1 2QP\, United Kingdom
CATEGORIES:26GE Myrtle 3
ATTACH;FMTTYPE=image/jpeg:https://myrtlelearning.com/wp-content/uploads/2023/08/myrtle-icon-whitejpg.jpg
ORGANIZER;CN="Abbie":MAILTO:barnesab@myrtlelearning.com
END:VEVENT
BEGIN:VEVENT
DTSTART;TZID=UTC:20290215T160000
DTEND;TZID=UTC:20290215T170000
DTSTAMP:20260423T073041
CREATED:20260402T162155Z
LAST-MODIFIED:20260420T145311Z
UID:10101446-1865865600-1865869200@myrtlelearning.com
SUMMARY:26GE Myrtle 3
DESCRIPTION:26GE Myrtle 3 \nThese group is made of students preparing for their GCSE English exams in 2026 \nSelect the button below to join the lesson online
URL:https://myrtlelearning.com/event/26ge-myrtle-3/2029-02-15/
LOCATION:Online Session\, 25 Pattens Gardens\, Rochester\, Other\, ME1 2QP\, United Kingdom
CATEGORIES:26GE Myrtle 3
ATTACH;FMTTYPE=image/jpeg:https://myrtlelearning.com/wp-content/uploads/2023/08/myrtle-icon-whitejpg.jpg
ORGANIZER;CN="Abbie":MAILTO:barnesab@myrtlelearning.com
END:VEVENT
BEGIN:VEVENT
DTSTART;TZID=UTC:20290217T160000
DTEND;TZID=UTC:20290217T170000
DTSTAMP:20260423T073041
CREATED:20260402T162155Z
LAST-MODIFIED:20260420T145311Z
UID:10101447-1866038400-1866042000@myrtlelearning.com
SUMMARY:26GE Myrtle 3
DESCRIPTION:26GE Myrtle 3 \nThese group is made of students preparing for their GCSE English exams in 2026 \nSelect the button below to join the lesson online
URL:https://myrtlelearning.com/event/26ge-myrtle-3/2029-02-17/
LOCATION:Online Session\, 25 Pattens Gardens\, Rochester\, Other\, ME1 2QP\, United Kingdom
CATEGORIES:26GE Myrtle 3
ATTACH;FMTTYPE=image/jpeg:https://myrtlelearning.com/wp-content/uploads/2023/08/myrtle-icon-whitejpg.jpg
ORGANIZER;CN="Abbie":MAILTO:barnesab@myrtlelearning.com
END:VEVENT
BEGIN:VEVENT
DTSTART;TZID=UTC:20290222T160000
DTEND;TZID=UTC:20290222T170000
DTSTAMP:20260423T073041
CREATED:20260402T162155Z
LAST-MODIFIED:20260420T145311Z
UID:10101448-1866470400-1866474000@myrtlelearning.com
SUMMARY:26GE Myrtle 3
DESCRIPTION:26GE Myrtle 3 \nThese group is made of students preparing for their GCSE English exams in 2026 \nSelect the button below to join the lesson online
URL:https://myrtlelearning.com/event/26ge-myrtle-3/2029-02-22/
LOCATION:Online Session\, 25 Pattens Gardens\, Rochester\, Other\, ME1 2QP\, United Kingdom
CATEGORIES:26GE Myrtle 3
ATTACH;FMTTYPE=image/jpeg:https://myrtlelearning.com/wp-content/uploads/2023/08/myrtle-icon-whitejpg.jpg
ORGANIZER;CN="Abbie":MAILTO:barnesab@myrtlelearning.com
END:VEVENT
BEGIN:VEVENT
DTSTART;TZID=UTC:20290224T160000
DTEND;TZID=UTC:20290224T170000
DTSTAMP:20260423T073041
CREATED:20260402T162155Z
LAST-MODIFIED:20260420T145311Z
UID:10101449-1866643200-1866646800@myrtlelearning.com
SUMMARY:26GE Myrtle 3
DESCRIPTION:26GE Myrtle 3 \nThese group is made of students preparing for their GCSE English exams in 2026 \nSelect the button below to join the lesson online
URL:https://myrtlelearning.com/event/26ge-myrtle-3/2029-02-24/
LOCATION:Online Session\, 25 Pattens Gardens\, Rochester\, Other\, ME1 2QP\, United Kingdom
CATEGORIES:26GE Myrtle 3
ATTACH;FMTTYPE=image/jpeg:https://myrtlelearning.com/wp-content/uploads/2023/08/myrtle-icon-whitejpg.jpg
ORGANIZER;CN="Abbie":MAILTO:barnesab@myrtlelearning.com
END:VEVENT
END:VCALENDAR