BEGIN:VCALENDAR
VERSION:2.0
PRODID:-//Myrtle Learning - ECPv6.15.3//NONSGML v1.0//EN
CALSCALE:GREGORIAN
METHOD:PUBLISH
X-ORIGINAL-URL:https://myrtlelearning.com
X-WR-CALDESC:Events for Myrtle Learning
REFRESH-INTERVAL;VALUE=DURATION:PT1H
X-Robots-Tag:noindex
X-PUBLISHED-TTL:PT1H
BEGIN:VTIMEZONE
TZID:UTC
BEGIN:STANDARD
TZOFFSETFROM:+0000
TZOFFSETTO:+0000
TZNAME:UTC
DTSTART:20290101T000000
END:STANDARD
END:VTIMEZONE
BEGIN:VEVENT
DTSTART;TZID=UTC:20290405T160000
DTEND;TZID=UTC:20290405T170000
DTSTAMP:20260423T101229
CREATED:20260402T162155Z
LAST-MODIFIED:20260420T145311Z
UID:10101460-1870099200-1870102800@myrtlelearning.com
SUMMARY:26GE Myrtle 3
DESCRIPTION:26GE Myrtle 3 \nThese group is made of students preparing for their GCSE English exams in 2026 \nSelect the button below to join the lesson online
URL:https://myrtlelearning.com/event/26ge-myrtle-3/2029-04-05/
LOCATION:Online Session\, 25 Pattens Gardens\, Rochester\, Other\, ME1 2QP\, United Kingdom
CATEGORIES:26GE Myrtle 3
ATTACH;FMTTYPE=image/jpeg:https://myrtlelearning.com/wp-content/uploads/2023/08/myrtle-icon-whitejpg.jpg
ORGANIZER;CN="Abbie":MAILTO:barnesab@myrtlelearning.com
END:VEVENT
BEGIN:VEVENT
DTSTART;TZID=UTC:20290407T160000
DTEND;TZID=UTC:20290407T170000
DTSTAMP:20260423T101229
CREATED:20260402T162155Z
LAST-MODIFIED:20260420T145311Z
UID:10101461-1870272000-1870275600@myrtlelearning.com
SUMMARY:26GE Myrtle 3
DESCRIPTION:26GE Myrtle 3 \nThese group is made of students preparing for their GCSE English exams in 2026 \nSelect the button below to join the lesson online
URL:https://myrtlelearning.com/event/26ge-myrtle-3/2029-04-07/
LOCATION:Online Session\, 25 Pattens Gardens\, Rochester\, Other\, ME1 2QP\, United Kingdom
CATEGORIES:26GE Myrtle 3
ATTACH;FMTTYPE=image/jpeg:https://myrtlelearning.com/wp-content/uploads/2023/08/myrtle-icon-whitejpg.jpg
ORGANIZER;CN="Abbie":MAILTO:barnesab@myrtlelearning.com
END:VEVENT
BEGIN:VEVENT
DTSTART;TZID=UTC:20290412T160000
DTEND;TZID=UTC:20290412T170000
DTSTAMP:20260423T101229
CREATED:20260402T162155Z
LAST-MODIFIED:20260420T145311Z
UID:10101462-1870704000-1870707600@myrtlelearning.com
SUMMARY:26GE Myrtle 3
DESCRIPTION:26GE Myrtle 3 \nThese group is made of students preparing for their GCSE English exams in 2026 \nSelect the button below to join the lesson online
URL:https://myrtlelearning.com/event/26ge-myrtle-3/2029-04-12/
LOCATION:Online Session\, 25 Pattens Gardens\, Rochester\, Other\, ME1 2QP\, United Kingdom
CATEGORIES:26GE Myrtle 3
ATTACH;FMTTYPE=image/jpeg:https://myrtlelearning.com/wp-content/uploads/2023/08/myrtle-icon-whitejpg.jpg
ORGANIZER;CN="Abbie":MAILTO:barnesab@myrtlelearning.com
END:VEVENT
BEGIN:VEVENT
DTSTART;TZID=UTC:20290414T160000
DTEND;TZID=UTC:20290414T170000
DTSTAMP:20260423T101229
CREATED:20260402T162155Z
LAST-MODIFIED:20260420T145311Z
UID:10101463-1870876800-1870880400@myrtlelearning.com
SUMMARY:26GE Myrtle 3
DESCRIPTION:26GE Myrtle 3 \nThese group is made of students preparing for their GCSE English exams in 2026 \nSelect the button below to join the lesson online
URL:https://myrtlelearning.com/event/26ge-myrtle-3/2029-04-14/
LOCATION:Online Session\, 25 Pattens Gardens\, Rochester\, Other\, ME1 2QP\, United Kingdom
CATEGORIES:26GE Myrtle 3
ATTACH;FMTTYPE=image/jpeg:https://myrtlelearning.com/wp-content/uploads/2023/08/myrtle-icon-whitejpg.jpg
ORGANIZER;CN="Abbie":MAILTO:barnesab@myrtlelearning.com
END:VEVENT
BEGIN:VEVENT
DTSTART;TZID=UTC:20290419T160000
DTEND;TZID=UTC:20290419T170000
DTSTAMP:20260423T101229
CREATED:20260402T162155Z
LAST-MODIFIED:20260420T145311Z
UID:10101464-1871308800-1871312400@myrtlelearning.com
SUMMARY:26GE Myrtle 3
DESCRIPTION:26GE Myrtle 3 \nThese group is made of students preparing for their GCSE English exams in 2026 \nSelect the button below to join the lesson online
URL:https://myrtlelearning.com/event/26ge-myrtle-3/2029-04-19/
LOCATION:Online Session\, 25 Pattens Gardens\, Rochester\, Other\, ME1 2QP\, United Kingdom
CATEGORIES:26GE Myrtle 3
ATTACH;FMTTYPE=image/jpeg:https://myrtlelearning.com/wp-content/uploads/2023/08/myrtle-icon-whitejpg.jpg
ORGANIZER;CN="Abbie":MAILTO:barnesab@myrtlelearning.com
END:VEVENT
BEGIN:VEVENT
DTSTART;TZID=UTC:20290421T160000
DTEND;TZID=UTC:20290421T170000
DTSTAMP:20260423T101229
CREATED:20260402T162155Z
LAST-MODIFIED:20260420T145311Z
UID:10101465-1871481600-1871485200@myrtlelearning.com
SUMMARY:26GE Myrtle 3
DESCRIPTION:26GE Myrtle 3 \nThese group is made of students preparing for their GCSE English exams in 2026 \nSelect the button below to join the lesson online
URL:https://myrtlelearning.com/event/26ge-myrtle-3/2029-04-21/
LOCATION:Online Session\, 25 Pattens Gardens\, Rochester\, Other\, ME1 2QP\, United Kingdom
CATEGORIES:26GE Myrtle 3
ATTACH;FMTTYPE=image/jpeg:https://myrtlelearning.com/wp-content/uploads/2023/08/myrtle-icon-whitejpg.jpg
ORGANIZER;CN="Abbie":MAILTO:barnesab@myrtlelearning.com
END:VEVENT
BEGIN:VEVENT
DTSTART;TZID=UTC:20290426T160000
DTEND;TZID=UTC:20290426T170000
DTSTAMP:20260423T101229
CREATED:20260402T162155Z
LAST-MODIFIED:20260420T145311Z
UID:10101466-1871913600-1871917200@myrtlelearning.com
SUMMARY:26GE Myrtle 3
DESCRIPTION:26GE Myrtle 3 \nThese group is made of students preparing for their GCSE English exams in 2026 \nSelect the button below to join the lesson online
URL:https://myrtlelearning.com/event/26ge-myrtle-3/2029-04-26/
LOCATION:Online Session\, 25 Pattens Gardens\, Rochester\, Other\, ME1 2QP\, United Kingdom
CATEGORIES:26GE Myrtle 3
ATTACH;FMTTYPE=image/jpeg:https://myrtlelearning.com/wp-content/uploads/2023/08/myrtle-icon-whitejpg.jpg
ORGANIZER;CN="Abbie":MAILTO:barnesab@myrtlelearning.com
END:VEVENT
BEGIN:VEVENT
DTSTART;TZID=UTC:20290428T160000
DTEND;TZID=UTC:20290428T170000
DTSTAMP:20260423T101229
CREATED:20260402T162155Z
LAST-MODIFIED:20260420T145311Z
UID:10101467-1872086400-1872090000@myrtlelearning.com
SUMMARY:26GE Myrtle 3
DESCRIPTION:26GE Myrtle 3 \nThese group is made of students preparing for their GCSE English exams in 2026 \nSelect the button below to join the lesson online
URL:https://myrtlelearning.com/event/26ge-myrtle-3/2029-04-28/
LOCATION:Online Session\, 25 Pattens Gardens\, Rochester\, Other\, ME1 2QP\, United Kingdom
CATEGORIES:26GE Myrtle 3
ATTACH;FMTTYPE=image/jpeg:https://myrtlelearning.com/wp-content/uploads/2023/08/myrtle-icon-whitejpg.jpg
ORGANIZER;CN="Abbie":MAILTO:barnesab@myrtlelearning.com
END:VEVENT
END:VCALENDAR