BEGIN:VCALENDAR
VERSION:2.0
PRODID:-//Myrtle Learning - ECPv6.15.3//NONSGML v1.0//EN
CALSCALE:GREGORIAN
METHOD:PUBLISH
X-WR-CALNAME:Myrtle Learning
X-ORIGINAL-URL:https://myrtlelearning.com
X-WR-CALDESC:Events for Myrtle Learning
REFRESH-INTERVAL;VALUE=DURATION:PT1H
X-Robots-Tag:noindex
X-PUBLISHED-TTL:PT1H
BEGIN:VTIMEZONE
TZID:UTC
BEGIN:STANDARD
TZOFFSETFROM:+0000
TZOFFSETTO:+0000
TZNAME:UTC
DTSTART:20300101T000000
END:STANDARD
END:VTIMEZONE
BEGIN:VEVENT
DTSTART;TZID=UTC:20301003T160000
DTEND;TZID=UTC:20301003T170000
DTSTAMP:20260425T162719
CREATED:20260402T162155Z
LAST-MODIFIED:20260420T145311Z
UID:10101616-1917273600-1917277200@myrtlelearning.com
SUMMARY:26GE Myrtle 3
DESCRIPTION:26GE Myrtle 3 \nThese group is made of students preparing for their GCSE English exams in 2026 \nSelect the button below to join the lesson online
URL:https://myrtlelearning.com/event/26ge-myrtle-3/2030-10-03/
LOCATION:Online Session\, 25 Pattens Gardens\, Rochester\, Other\, ME1 2QP\, United Kingdom
CATEGORIES:26GE Myrtle 3
ATTACH;FMTTYPE=image/jpeg:https://myrtlelearning.com/wp-content/uploads/2023/08/myrtle-icon-whitejpg.jpg
ORGANIZER;CN="Abbie":MAILTO:barnesab@myrtlelearning.com
END:VEVENT
BEGIN:VEVENT
DTSTART;TZID=UTC:20301005T160000
DTEND;TZID=UTC:20301005T170000
DTSTAMP:20260425T162719
CREATED:20260402T162155Z
LAST-MODIFIED:20260420T145311Z
UID:10101617-1917446400-1917450000@myrtlelearning.com
SUMMARY:26GE Myrtle 3
DESCRIPTION:26GE Myrtle 3 \nThese group is made of students preparing for their GCSE English exams in 2026 \nSelect the button below to join the lesson online
URL:https://myrtlelearning.com/event/26ge-myrtle-3/2030-10-05/
LOCATION:Online Session\, 25 Pattens Gardens\, Rochester\, Other\, ME1 2QP\, United Kingdom
CATEGORIES:26GE Myrtle 3
ATTACH;FMTTYPE=image/jpeg:https://myrtlelearning.com/wp-content/uploads/2023/08/myrtle-icon-whitejpg.jpg
ORGANIZER;CN="Abbie":MAILTO:barnesab@myrtlelearning.com
END:VEVENT
BEGIN:VEVENT
DTSTART;TZID=UTC:20301010T160000
DTEND;TZID=UTC:20301010T170000
DTSTAMP:20260425T162719
CREATED:20260402T162155Z
LAST-MODIFIED:20260420T145311Z
UID:10101618-1917878400-1917882000@myrtlelearning.com
SUMMARY:26GE Myrtle 3
DESCRIPTION:26GE Myrtle 3 \nThese group is made of students preparing for their GCSE English exams in 2026 \nSelect the button below to join the lesson online
URL:https://myrtlelearning.com/event/26ge-myrtle-3/2030-10-10/
LOCATION:Online Session\, 25 Pattens Gardens\, Rochester\, Other\, ME1 2QP\, United Kingdom
CATEGORIES:26GE Myrtle 3
ATTACH;FMTTYPE=image/jpeg:https://myrtlelearning.com/wp-content/uploads/2023/08/myrtle-icon-whitejpg.jpg
ORGANIZER;CN="Abbie":MAILTO:barnesab@myrtlelearning.com
END:VEVENT
BEGIN:VEVENT
DTSTART;TZID=UTC:20301012T160000
DTEND;TZID=UTC:20301012T170000
DTSTAMP:20260425T162719
CREATED:20260402T162155Z
LAST-MODIFIED:20260420T145311Z
UID:10101619-1918051200-1918054800@myrtlelearning.com
SUMMARY:26GE Myrtle 3
DESCRIPTION:26GE Myrtle 3 \nThese group is made of students preparing for their GCSE English exams in 2026 \nSelect the button below to join the lesson online
URL:https://myrtlelearning.com/event/26ge-myrtle-3/2030-10-12/
LOCATION:Online Session\, 25 Pattens Gardens\, Rochester\, Other\, ME1 2QP\, United Kingdom
CATEGORIES:26GE Myrtle 3
ATTACH;FMTTYPE=image/jpeg:https://myrtlelearning.com/wp-content/uploads/2023/08/myrtle-icon-whitejpg.jpg
ORGANIZER;CN="Abbie":MAILTO:barnesab@myrtlelearning.com
END:VEVENT
BEGIN:VEVENT
DTSTART;TZID=UTC:20301017T160000
DTEND;TZID=UTC:20301017T170000
DTSTAMP:20260425T162719
CREATED:20260402T162155Z
LAST-MODIFIED:20260420T145311Z
UID:10101620-1918483200-1918486800@myrtlelearning.com
SUMMARY:26GE Myrtle 3
DESCRIPTION:26GE Myrtle 3 \nThese group is made of students preparing for their GCSE English exams in 2026 \nSelect the button below to join the lesson online
URL:https://myrtlelearning.com/event/26ge-myrtle-3/2030-10-17/
LOCATION:Online Session\, 25 Pattens Gardens\, Rochester\, Other\, ME1 2QP\, United Kingdom
CATEGORIES:26GE Myrtle 3
ATTACH;FMTTYPE=image/jpeg:https://myrtlelearning.com/wp-content/uploads/2023/08/myrtle-icon-whitejpg.jpg
ORGANIZER;CN="Abbie":MAILTO:barnesab@myrtlelearning.com
END:VEVENT
BEGIN:VEVENT
DTSTART;TZID=UTC:20301019T160000
DTEND;TZID=UTC:20301019T170000
DTSTAMP:20260425T162719
CREATED:20260402T162155Z
LAST-MODIFIED:20260420T145311Z
UID:10101621-1918656000-1918659600@myrtlelearning.com
SUMMARY:26GE Myrtle 3
DESCRIPTION:26GE Myrtle 3 \nThese group is made of students preparing for their GCSE English exams in 2026 \nSelect the button below to join the lesson online
URL:https://myrtlelearning.com/event/26ge-myrtle-3/2030-10-19/
LOCATION:Online Session\, 25 Pattens Gardens\, Rochester\, Other\, ME1 2QP\, United Kingdom
CATEGORIES:26GE Myrtle 3
ATTACH;FMTTYPE=image/jpeg:https://myrtlelearning.com/wp-content/uploads/2023/08/myrtle-icon-whitejpg.jpg
ORGANIZER;CN="Abbie":MAILTO:barnesab@myrtlelearning.com
END:VEVENT
BEGIN:VEVENT
DTSTART;TZID=UTC:20301024T160000
DTEND;TZID=UTC:20301024T170000
DTSTAMP:20260425T162719
CREATED:20260402T162155Z
LAST-MODIFIED:20260420T145311Z
UID:10101622-1919088000-1919091600@myrtlelearning.com
SUMMARY:26GE Myrtle 3
DESCRIPTION:26GE Myrtle 3 \nThese group is made of students preparing for their GCSE English exams in 2026 \nSelect the button below to join the lesson online
URL:https://myrtlelearning.com/event/26ge-myrtle-3/2030-10-24/
LOCATION:Online Session\, 25 Pattens Gardens\, Rochester\, Other\, ME1 2QP\, United Kingdom
CATEGORIES:26GE Myrtle 3
ATTACH;FMTTYPE=image/jpeg:https://myrtlelearning.com/wp-content/uploads/2023/08/myrtle-icon-whitejpg.jpg
ORGANIZER;CN="Abbie":MAILTO:barnesab@myrtlelearning.com
END:VEVENT
BEGIN:VEVENT
DTSTART;TZID=UTC:20301026T160000
DTEND;TZID=UTC:20301026T170000
DTSTAMP:20260425T162719
CREATED:20260402T162155Z
LAST-MODIFIED:20260420T145311Z
UID:10101623-1919260800-1919264400@myrtlelearning.com
SUMMARY:26GE Myrtle 3
DESCRIPTION:26GE Myrtle 3 \nThese group is made of students preparing for their GCSE English exams in 2026 \nSelect the button below to join the lesson online
URL:https://myrtlelearning.com/event/26ge-myrtle-3/2030-10-26/
LOCATION:Online Session\, 25 Pattens Gardens\, Rochester\, Other\, ME1 2QP\, United Kingdom
CATEGORIES:26GE Myrtle 3
ATTACH;FMTTYPE=image/jpeg:https://myrtlelearning.com/wp-content/uploads/2023/08/myrtle-icon-whitejpg.jpg
ORGANIZER;CN="Abbie":MAILTO:barnesab@myrtlelearning.com
END:VEVENT
BEGIN:VEVENT
DTSTART;TZID=UTC:20301031T160000
DTEND;TZID=UTC:20301031T170000
DTSTAMP:20260425T162719
CREATED:20260402T162155Z
LAST-MODIFIED:20260420T145311Z
UID:10101624-1919692800-1919696400@myrtlelearning.com
SUMMARY:26GE Myrtle 3
DESCRIPTION:26GE Myrtle 3 \nThese group is made of students preparing for their GCSE English exams in 2026 \nSelect the button below to join the lesson online
URL:https://myrtlelearning.com/event/26ge-myrtle-3/2030-10-31/
LOCATION:Online Session\, 25 Pattens Gardens\, Rochester\, Other\, ME1 2QP\, United Kingdom
CATEGORIES:26GE Myrtle 3
ATTACH;FMTTYPE=image/jpeg:https://myrtlelearning.com/wp-content/uploads/2023/08/myrtle-icon-whitejpg.jpg
ORGANIZER;CN="Abbie":MAILTO:barnesab@myrtlelearning.com
END:VEVENT
END:VCALENDAR