BEGIN:VCALENDAR
VERSION:2.0
PRODID:-//Myrtle Learning - ECPv6.15.3//NONSGML v1.0//EN
CALSCALE:GREGORIAN
METHOD:PUBLISH
X-ORIGINAL-URL:https://myrtlelearning.com
X-WR-CALDESC:Events for Myrtle Learning
REFRESH-INTERVAL;VALUE=DURATION:PT1H
X-Robots-Tag:noindex
X-PUBLISHED-TTL:PT1H
BEGIN:VTIMEZONE
TZID:UTC
BEGIN:STANDARD
TZOFFSETFROM:+0000
TZOFFSETTO:+0000
TZNAME:UTC
DTSTART:20310101T000000
END:STANDARD
END:VTIMEZONE
BEGIN:VEVENT
DTSTART;TZID=UTC:20310102T160000
DTEND;TZID=UTC:20310102T170000
DTSTAMP:20260425T202635
CREATED:20260402T162155Z
LAST-MODIFIED:20260420T145311Z
UID:10101642-1925136000-1925139600@myrtlelearning.com
SUMMARY:26GE Myrtle 3
DESCRIPTION:26GE Myrtle 3 \nThese group is made of students preparing for their GCSE English exams in 2026 \nSelect the button below to join the lesson online
URL:https://myrtlelearning.com/event/26ge-myrtle-3/2031-01-02/
LOCATION:Online Session\, 25 Pattens Gardens\, Rochester\, Other\, ME1 2QP\, United Kingdom
CATEGORIES:26GE Myrtle 3
ATTACH;FMTTYPE=image/jpeg:https://myrtlelearning.com/wp-content/uploads/2023/08/myrtle-icon-whitejpg.jpg
ORGANIZER;CN="Abbie":MAILTO:barnesab@myrtlelearning.com
END:VEVENT
BEGIN:VEVENT
DTSTART;TZID=UTC:20310104T160000
DTEND;TZID=UTC:20310104T170000
DTSTAMP:20260425T202635
CREATED:20260402T162155Z
LAST-MODIFIED:20260420T145311Z
UID:10101643-1925308800-1925312400@myrtlelearning.com
SUMMARY:26GE Myrtle 3
DESCRIPTION:26GE Myrtle 3 \nThese group is made of students preparing for their GCSE English exams in 2026 \nSelect the button below to join the lesson online
URL:https://myrtlelearning.com/event/26ge-myrtle-3/2031-01-04/
LOCATION:Online Session\, 25 Pattens Gardens\, Rochester\, Other\, ME1 2QP\, United Kingdom
CATEGORIES:26GE Myrtle 3
ATTACH;FMTTYPE=image/jpeg:https://myrtlelearning.com/wp-content/uploads/2023/08/myrtle-icon-whitejpg.jpg
ORGANIZER;CN="Abbie":MAILTO:barnesab@myrtlelearning.com
END:VEVENT
BEGIN:VEVENT
DTSTART;TZID=UTC:20310109T160000
DTEND;TZID=UTC:20310109T170000
DTSTAMP:20260425T202635
CREATED:20260402T162155Z
LAST-MODIFIED:20260420T145311Z
UID:10101644-1925740800-1925744400@myrtlelearning.com
SUMMARY:26GE Myrtle 3
DESCRIPTION:26GE Myrtle 3 \nThese group is made of students preparing for their GCSE English exams in 2026 \nSelect the button below to join the lesson online
URL:https://myrtlelearning.com/event/26ge-myrtle-3/2031-01-09/
LOCATION:Online Session\, 25 Pattens Gardens\, Rochester\, Other\, ME1 2QP\, United Kingdom
CATEGORIES:26GE Myrtle 3
ATTACH;FMTTYPE=image/jpeg:https://myrtlelearning.com/wp-content/uploads/2023/08/myrtle-icon-whitejpg.jpg
ORGANIZER;CN="Abbie":MAILTO:barnesab@myrtlelearning.com
END:VEVENT
BEGIN:VEVENT
DTSTART;TZID=UTC:20310111T160000
DTEND;TZID=UTC:20310111T170000
DTSTAMP:20260425T202635
CREATED:20260402T162155Z
LAST-MODIFIED:20260420T145311Z
UID:10101645-1925913600-1925917200@myrtlelearning.com
SUMMARY:26GE Myrtle 3
DESCRIPTION:26GE Myrtle 3 \nThese group is made of students preparing for their GCSE English exams in 2026 \nSelect the button below to join the lesson online
URL:https://myrtlelearning.com/event/26ge-myrtle-3/2031-01-11/
LOCATION:Online Session\, 25 Pattens Gardens\, Rochester\, Other\, ME1 2QP\, United Kingdom
CATEGORIES:26GE Myrtle 3
ATTACH;FMTTYPE=image/jpeg:https://myrtlelearning.com/wp-content/uploads/2023/08/myrtle-icon-whitejpg.jpg
ORGANIZER;CN="Abbie":MAILTO:barnesab@myrtlelearning.com
END:VEVENT
BEGIN:VEVENT
DTSTART;TZID=UTC:20310116T160000
DTEND;TZID=UTC:20310116T170000
DTSTAMP:20260425T202635
CREATED:20260402T162155Z
LAST-MODIFIED:20260420T145311Z
UID:10101646-1926345600-1926349200@myrtlelearning.com
SUMMARY:26GE Myrtle 3
DESCRIPTION:26GE Myrtle 3 \nThese group is made of students preparing for their GCSE English exams in 2026 \nSelect the button below to join the lesson online
URL:https://myrtlelearning.com/event/26ge-myrtle-3/2031-01-16/
LOCATION:Online Session\, 25 Pattens Gardens\, Rochester\, Other\, ME1 2QP\, United Kingdom
CATEGORIES:26GE Myrtle 3
ATTACH;FMTTYPE=image/jpeg:https://myrtlelearning.com/wp-content/uploads/2023/08/myrtle-icon-whitejpg.jpg
ORGANIZER;CN="Abbie":MAILTO:barnesab@myrtlelearning.com
END:VEVENT
BEGIN:VEVENT
DTSTART;TZID=UTC:20310118T160000
DTEND;TZID=UTC:20310118T170000
DTSTAMP:20260425T202635
CREATED:20260402T162155Z
LAST-MODIFIED:20260420T145311Z
UID:10101647-1926518400-1926522000@myrtlelearning.com
SUMMARY:26GE Myrtle 3
DESCRIPTION:26GE Myrtle 3 \nThese group is made of students preparing for their GCSE English exams in 2026 \nSelect the button below to join the lesson online
URL:https://myrtlelearning.com/event/26ge-myrtle-3/2031-01-18/
LOCATION:Online Session\, 25 Pattens Gardens\, Rochester\, Other\, ME1 2QP\, United Kingdom
CATEGORIES:26GE Myrtle 3
ATTACH;FMTTYPE=image/jpeg:https://myrtlelearning.com/wp-content/uploads/2023/08/myrtle-icon-whitejpg.jpg
ORGANIZER;CN="Abbie":MAILTO:barnesab@myrtlelearning.com
END:VEVENT
BEGIN:VEVENT
DTSTART;TZID=UTC:20310123T160000
DTEND;TZID=UTC:20310123T170000
DTSTAMP:20260425T202635
CREATED:20260402T162155Z
LAST-MODIFIED:20260420T145311Z
UID:10101648-1926950400-1926954000@myrtlelearning.com
SUMMARY:26GE Myrtle 3
DESCRIPTION:26GE Myrtle 3 \nThese group is made of students preparing for their GCSE English exams in 2026 \nSelect the button below to join the lesson online
URL:https://myrtlelearning.com/event/26ge-myrtle-3/2031-01-23/
LOCATION:Online Session\, 25 Pattens Gardens\, Rochester\, Other\, ME1 2QP\, United Kingdom
CATEGORIES:26GE Myrtle 3
ATTACH;FMTTYPE=image/jpeg:https://myrtlelearning.com/wp-content/uploads/2023/08/myrtle-icon-whitejpg.jpg
ORGANIZER;CN="Abbie":MAILTO:barnesab@myrtlelearning.com
END:VEVENT
BEGIN:VEVENT
DTSTART;TZID=UTC:20310125T160000
DTEND;TZID=UTC:20310125T170000
DTSTAMP:20260425T202635
CREATED:20260402T162155Z
LAST-MODIFIED:20260420T145311Z
UID:10101649-1927123200-1927126800@myrtlelearning.com
SUMMARY:26GE Myrtle 3
DESCRIPTION:26GE Myrtle 3 \nThese group is made of students preparing for their GCSE English exams in 2026 \nSelect the button below to join the lesson online
URL:https://myrtlelearning.com/event/26ge-myrtle-3/2031-01-25/
LOCATION:Online Session\, 25 Pattens Gardens\, Rochester\, Other\, ME1 2QP\, United Kingdom
CATEGORIES:26GE Myrtle 3
ATTACH;FMTTYPE=image/jpeg:https://myrtlelearning.com/wp-content/uploads/2023/08/myrtle-icon-whitejpg.jpg
ORGANIZER;CN="Abbie":MAILTO:barnesab@myrtlelearning.com
END:VEVENT
BEGIN:VEVENT
DTSTART;TZID=UTC:20310130T160000
DTEND;TZID=UTC:20310130T170000
DTSTAMP:20260425T202635
CREATED:20260402T162155Z
LAST-MODIFIED:20260420T145311Z
UID:10101650-1927555200-1927558800@myrtlelearning.com
SUMMARY:26GE Myrtle 3
DESCRIPTION:26GE Myrtle 3 \nThese group is made of students preparing for their GCSE English exams in 2026 \nSelect the button below to join the lesson online
URL:https://myrtlelearning.com/event/26ge-myrtle-3/2031-01-30/
LOCATION:Online Session\, 25 Pattens Gardens\, Rochester\, Other\, ME1 2QP\, United Kingdom
CATEGORIES:26GE Myrtle 3
ATTACH;FMTTYPE=image/jpeg:https://myrtlelearning.com/wp-content/uploads/2023/08/myrtle-icon-whitejpg.jpg
ORGANIZER;CN="Abbie":MAILTO:barnesab@myrtlelearning.com
END:VEVENT
END:VCALENDAR