BEGIN:VCALENDAR
VERSION:2.0
PRODID:-//Myrtle Learning - ECPv6.15.3//NONSGML v1.0//EN
CALSCALE:GREGORIAN
METHOD:PUBLISH
X-ORIGINAL-URL:https://myrtlelearning.com
X-WR-CALDESC:Events for Myrtle Learning
REFRESH-INTERVAL;VALUE=DURATION:PT1H
X-Robots-Tag:noindex
X-PUBLISHED-TTL:PT1H
BEGIN:VTIMEZONE
TZID:UTC
BEGIN:STANDARD
TZOFFSETFROM:+0000
TZOFFSETTO:+0000
TZNAME:UTC
DTSTART:20310101T000000
END:STANDARD
END:VTIMEZONE
BEGIN:VEVENT
DTSTART;TZID=UTC:20310102T170000
DTEND;TZID=UTC:20310102T190000
DTSTAMP:20260421T045450
CREATED:20260416T160358Z
LAST-MODIFIED:20260416T160519Z
UID:10102713-1925139600-1925146800@myrtlelearning.com
SUMMARY:26GE Myrtle 4
DESCRIPTION:26GE Myrtle 4  \nThese group is made of students preparing for their GCSE exams in 2026 \nSelect the button below to join the lesson online
URL:https://myrtlelearning.com/event/26ge-myrtle-4-2/2031-01-02/
LOCATION:Online Session\, 25 Pattens Gardens\, Rochester\, Other\, ME1 2QP\, United Kingdom
CATEGORIES:26GE Myrtle 4
ATTACH;FMTTYPE=image/jpeg:https://myrtlelearning.com/wp-content/uploads/2023/08/myrtle-icon-whitejpg.jpg
ORGANIZER;CN="Abbie":MAILTO:barnesab@myrtlelearning.com
END:VEVENT
BEGIN:VEVENT
DTSTART;TZID=UTC:20310109T170000
DTEND;TZID=UTC:20310109T190000
DTSTAMP:20260421T045450
CREATED:20260416T160358Z
LAST-MODIFIED:20260416T160519Z
UID:10102714-1925744400-1925751600@myrtlelearning.com
SUMMARY:26GE Myrtle 4
DESCRIPTION:26GE Myrtle 4  \nThese group is made of students preparing for their GCSE exams in 2026 \nSelect the button below to join the lesson online
URL:https://myrtlelearning.com/event/26ge-myrtle-4-2/2031-01-09/
LOCATION:Online Session\, 25 Pattens Gardens\, Rochester\, Other\, ME1 2QP\, United Kingdom
CATEGORIES:26GE Myrtle 4
ATTACH;FMTTYPE=image/jpeg:https://myrtlelearning.com/wp-content/uploads/2023/08/myrtle-icon-whitejpg.jpg
ORGANIZER;CN="Abbie":MAILTO:barnesab@myrtlelearning.com
END:VEVENT
BEGIN:VEVENT
DTSTART;TZID=UTC:20310116T170000
DTEND;TZID=UTC:20310116T190000
DTSTAMP:20260421T045450
CREATED:20260416T160358Z
LAST-MODIFIED:20260416T160519Z
UID:10102715-1926349200-1926356400@myrtlelearning.com
SUMMARY:26GE Myrtle 4
DESCRIPTION:26GE Myrtle 4  \nThese group is made of students preparing for their GCSE exams in 2026 \nSelect the button below to join the lesson online
URL:https://myrtlelearning.com/event/26ge-myrtle-4-2/2031-01-16/
LOCATION:Online Session\, 25 Pattens Gardens\, Rochester\, Other\, ME1 2QP\, United Kingdom
CATEGORIES:26GE Myrtle 4
ATTACH;FMTTYPE=image/jpeg:https://myrtlelearning.com/wp-content/uploads/2023/08/myrtle-icon-whitejpg.jpg
ORGANIZER;CN="Abbie":MAILTO:barnesab@myrtlelearning.com
END:VEVENT
BEGIN:VEVENT
DTSTART;TZID=UTC:20310123T170000
DTEND;TZID=UTC:20310123T190000
DTSTAMP:20260421T045450
CREATED:20260416T160358Z
LAST-MODIFIED:20260416T160519Z
UID:10102716-1926954000-1926961200@myrtlelearning.com
SUMMARY:26GE Myrtle 4
DESCRIPTION:26GE Myrtle 4  \nThese group is made of students preparing for their GCSE exams in 2026 \nSelect the button below to join the lesson online
URL:https://myrtlelearning.com/event/26ge-myrtle-4-2/2031-01-23/
LOCATION:Online Session\, 25 Pattens Gardens\, Rochester\, Other\, ME1 2QP\, United Kingdom
CATEGORIES:26GE Myrtle 4
ATTACH;FMTTYPE=image/jpeg:https://myrtlelearning.com/wp-content/uploads/2023/08/myrtle-icon-whitejpg.jpg
ORGANIZER;CN="Abbie":MAILTO:barnesab@myrtlelearning.com
END:VEVENT
BEGIN:VEVENT
DTSTART;TZID=UTC:20310130T170000
DTEND;TZID=UTC:20310130T190000
DTSTAMP:20260421T045450
CREATED:20260416T160358Z
LAST-MODIFIED:20260416T160519Z
UID:10102717-1927558800-1927566000@myrtlelearning.com
SUMMARY:26GE Myrtle 4
DESCRIPTION:26GE Myrtle 4  \nThese group is made of students preparing for their GCSE exams in 2026 \nSelect the button below to join the lesson online
URL:https://myrtlelearning.com/event/26ge-myrtle-4-2/2031-01-30/
LOCATION:Online Session\, 25 Pattens Gardens\, Rochester\, Other\, ME1 2QP\, United Kingdom
CATEGORIES:26GE Myrtle 4
ATTACH;FMTTYPE=image/jpeg:https://myrtlelearning.com/wp-content/uploads/2023/08/myrtle-icon-whitejpg.jpg
ORGANIZER;CN="Abbie":MAILTO:barnesab@myrtlelearning.com
END:VEVENT
END:VCALENDAR