BEGIN:VCALENDAR
VERSION:2.0
PRODID:-//Myrtle Learning - ECPv6.15.3//NONSGML v1.0//EN
CALSCALE:GREGORIAN
METHOD:PUBLISH
X-ORIGINAL-URL:https://myrtlelearning.com
X-WR-CALDESC:Events for Myrtle Learning
REFRESH-INTERVAL;VALUE=DURATION:PT1H
X-Robots-Tag:noindex
X-PUBLISHED-TTL:PT1H
BEGIN:VTIMEZONE
TZID:UTC
BEGIN:STANDARD
TZOFFSETFROM:+0000
TZOFFSETTO:+0000
TZNAME:UTC
DTSTART:20260101T000000
END:STANDARD
END:VTIMEZONE
BEGIN:VEVENT
DTSTART;TZID=UTC:20260420T193000
DTEND;TZID=UTC:20260420T203000
DTSTAMP:20260420T192721
CREATED:20251210T164215Z
LAST-MODIFIED:20251210T164215Z
UID:10088697-1776713400-1776717000@myrtlelearning.com
SUMMARY:26GEC Myrtle 1
DESCRIPTION:26GEC Myrtle 1 \nThis lesson covers GCSE Economics \nSelect the button below to join the lesson online \n \n 
URL:https://myrtlelearning.com/event/26gec-myrtle-1-2-2-2-2/2026-04-20/
LOCATION:Myrtle Learning Centre\, Pattens Gardens\, Rochester\, Kent\, ME1 2QP\, United Kingdom
CATEGORIES:26GEC Myrtle 1
ATTACH;FMTTYPE=image/jpeg:https://myrtlelearning.com/wp-content/uploads/2023/08/myrtle-icon-whitejpg.jpg
END:VEVENT
BEGIN:VEVENT
DTSTART;TZID=UTC:20260427T193000
DTEND;TZID=UTC:20260427T203000
DTSTAMP:20260420T192721
CREATED:20251210T164215Z
LAST-MODIFIED:20251210T164215Z
UID:10088698-1777318200-1777321800@myrtlelearning.com
SUMMARY:26GEC Myrtle 1
DESCRIPTION:26GEC Myrtle 1 \nThis lesson covers GCSE Economics \nSelect the button below to join the lesson online \n \n 
URL:https://myrtlelearning.com/event/26gec-myrtle-1-2-2-2-2/2026-04-27/
LOCATION:Myrtle Learning Centre\, Pattens Gardens\, Rochester\, Kent\, ME1 2QP\, United Kingdom
CATEGORIES:26GEC Myrtle 1
ATTACH;FMTTYPE=image/jpeg:https://myrtlelearning.com/wp-content/uploads/2023/08/myrtle-icon-whitejpg.jpg
END:VEVENT
END:VCALENDAR