BEGIN:VCALENDAR
VERSION:2.0
PRODID:-//Myrtle Learning - ECPv6.15.3//NONSGML v1.0//EN
CALSCALE:GREGORIAN
METHOD:PUBLISH
X-WR-CALNAME:Myrtle Learning
X-ORIGINAL-URL:https://myrtlelearning.com
X-WR-CALDESC:Events for Myrtle Learning
REFRESH-INTERVAL;VALUE=DURATION:PT1H
X-Robots-Tag:noindex
X-PUBLISHED-TTL:PT1H
BEGIN:VTIMEZONE
TZID:UTC
BEGIN:STANDARD
TZOFFSETFROM:+0000
TZOFFSETTO:+0000
TZNAME:UTC
DTSTART:20270101T000000
END:STANDARD
END:VTIMEZONE
BEGIN:VEVENT
DTSTART;TZID=UTC:20270803T190000
DTEND;TZID=UTC:20270803T200000
DTSTAMP:20260421T224501
CREATED:20260126T114436Z
LAST-MODIFIED:20260127T171626Z
UID:10093971-1817319600-1817323200@myrtlelearning.com
SUMMARY:26GEO Myrtle 1
DESCRIPTION:26GEO Myrtle 1 \nThis lesson covers GCSE Geography \nSelect the button below to join the lesson online \n \n 
URL:https://myrtlelearning.com/event/26geo-myrtle-1-2/2027-08-03/
LOCATION:Online Session\, 25 Pattens Gardens\, Rochester\, Other\, ME1 2QP\, United Kingdom
CATEGORIES:26GEO Myrtle 1
ATTACH;FMTTYPE=image/jpeg:https://myrtlelearning.com/wp-content/uploads/2023/08/myrtle-icon-whitejpg.jpg
ORGANIZER;CN="Abbie":MAILTO:barnesab@myrtlelearning.com
END:VEVENT
BEGIN:VEVENT
DTSTART;TZID=UTC:20270810T190000
DTEND;TZID=UTC:20270810T200000
DTSTAMP:20260421T224501
CREATED:20260126T114436Z
LAST-MODIFIED:20260127T171626Z
UID:10093972-1817924400-1817928000@myrtlelearning.com
SUMMARY:26GEO Myrtle 1
DESCRIPTION:26GEO Myrtle 1 \nThis lesson covers GCSE Geography \nSelect the button below to join the lesson online \n \n 
URL:https://myrtlelearning.com/event/26geo-myrtle-1-2/2027-08-10/
LOCATION:Online Session\, 25 Pattens Gardens\, Rochester\, Other\, ME1 2QP\, United Kingdom
CATEGORIES:26GEO Myrtle 1
ATTACH;FMTTYPE=image/jpeg:https://myrtlelearning.com/wp-content/uploads/2023/08/myrtle-icon-whitejpg.jpg
ORGANIZER;CN="Abbie":MAILTO:barnesab@myrtlelearning.com
END:VEVENT
BEGIN:VEVENT
DTSTART;TZID=UTC:20270817T190000
DTEND;TZID=UTC:20270817T200000
DTSTAMP:20260421T224501
CREATED:20260126T114436Z
LAST-MODIFIED:20260127T171626Z
UID:10093973-1818529200-1818532800@myrtlelearning.com
SUMMARY:26GEO Myrtle 1
DESCRIPTION:26GEO Myrtle 1 \nThis lesson covers GCSE Geography \nSelect the button below to join the lesson online \n \n 
URL:https://myrtlelearning.com/event/26geo-myrtle-1-2/2027-08-17/
LOCATION:Online Session\, 25 Pattens Gardens\, Rochester\, Other\, ME1 2QP\, United Kingdom
CATEGORIES:26GEO Myrtle 1
ATTACH;FMTTYPE=image/jpeg:https://myrtlelearning.com/wp-content/uploads/2023/08/myrtle-icon-whitejpg.jpg
ORGANIZER;CN="Abbie":MAILTO:barnesab@myrtlelearning.com
END:VEVENT
BEGIN:VEVENT
DTSTART;TZID=UTC:20270824T190000
DTEND;TZID=UTC:20270824T200000
DTSTAMP:20260421T224501
CREATED:20260126T114436Z
LAST-MODIFIED:20260127T171626Z
UID:10093974-1819134000-1819137600@myrtlelearning.com
SUMMARY:26GEO Myrtle 1
DESCRIPTION:26GEO Myrtle 1 \nThis lesson covers GCSE Geography \nSelect the button below to join the lesson online \n \n 
URL:https://myrtlelearning.com/event/26geo-myrtle-1-2/2027-08-24/
LOCATION:Online Session\, 25 Pattens Gardens\, Rochester\, Other\, ME1 2QP\, United Kingdom
CATEGORIES:26GEO Myrtle 1
ATTACH;FMTTYPE=image/jpeg:https://myrtlelearning.com/wp-content/uploads/2023/08/myrtle-icon-whitejpg.jpg
ORGANIZER;CN="Abbie":MAILTO:barnesab@myrtlelearning.com
END:VEVENT
BEGIN:VEVENT
DTSTART;TZID=UTC:20270831T190000
DTEND;TZID=UTC:20270831T200000
DTSTAMP:20260421T224501
CREATED:20260126T114436Z
LAST-MODIFIED:20260127T171626Z
UID:10093975-1819738800-1819742400@myrtlelearning.com
SUMMARY:26GEO Myrtle 1
DESCRIPTION:26GEO Myrtle 1 \nThis lesson covers GCSE Geography \nSelect the button below to join the lesson online \n \n 
URL:https://myrtlelearning.com/event/26geo-myrtle-1-2/2027-08-31/
LOCATION:Online Session\, 25 Pattens Gardens\, Rochester\, Other\, ME1 2QP\, United Kingdom
CATEGORIES:26GEO Myrtle 1
ATTACH;FMTTYPE=image/jpeg:https://myrtlelearning.com/wp-content/uploads/2023/08/myrtle-icon-whitejpg.jpg
ORGANIZER;CN="Abbie":MAILTO:barnesab@myrtlelearning.com
END:VEVENT
END:VCALENDAR