BEGIN:VCALENDAR
VERSION:2.0
PRODID:-//Myrtle Learning - ECPv6.15.3//NONSGML v1.0//EN
CALSCALE:GREGORIAN
METHOD:PUBLISH
X-ORIGINAL-URL:https://myrtlelearning.com
X-WR-CALDESC:Events for Myrtle Learning
REFRESH-INTERVAL;VALUE=DURATION:PT1H
X-Robots-Tag:noindex
X-PUBLISHED-TTL:PT1H
BEGIN:VTIMEZONE
TZID:UTC
BEGIN:STANDARD
TZOFFSETFROM:+0000
TZOFFSETTO:+0000
TZNAME:UTC
DTSTART:20280101T000000
END:STANDARD
END:VTIMEZONE
BEGIN:VEVENT
DTSTART;TZID=UTC:20280606T190000
DTEND;TZID=UTC:20280606T200000
DTSTAMP:20260422T191514
CREATED:20260126T114436Z
LAST-MODIFIED:20260127T171626Z
UID:10094015-1843930800-1843934400@myrtlelearning.com
SUMMARY:26GEO Myrtle 1
DESCRIPTION:26GEO Myrtle 1 \nThis lesson covers GCSE Geography \nSelect the button below to join the lesson online \n \n 
URL:https://myrtlelearning.com/event/26geo-myrtle-1-2/2028-06-06/
LOCATION:Online Session\, 25 Pattens Gardens\, Rochester\, Other\, ME1 2QP\, United Kingdom
CATEGORIES:26GEO Myrtle 1
ATTACH;FMTTYPE=image/jpeg:https://myrtlelearning.com/wp-content/uploads/2023/08/myrtle-icon-whitejpg.jpg
ORGANIZER;CN="Abbie":MAILTO:barnesab@myrtlelearning.com
END:VEVENT
BEGIN:VEVENT
DTSTART;TZID=UTC:20280613T190000
DTEND;TZID=UTC:20280613T200000
DTSTAMP:20260422T191514
CREATED:20260126T114436Z
LAST-MODIFIED:20260127T171626Z
UID:10094016-1844535600-1844539200@myrtlelearning.com
SUMMARY:26GEO Myrtle 1
DESCRIPTION:26GEO Myrtle 1 \nThis lesson covers GCSE Geography \nSelect the button below to join the lesson online \n \n 
URL:https://myrtlelearning.com/event/26geo-myrtle-1-2/2028-06-13/
LOCATION:Online Session\, 25 Pattens Gardens\, Rochester\, Other\, ME1 2QP\, United Kingdom
CATEGORIES:26GEO Myrtle 1
ATTACH;FMTTYPE=image/jpeg:https://myrtlelearning.com/wp-content/uploads/2023/08/myrtle-icon-whitejpg.jpg
ORGANIZER;CN="Abbie":MAILTO:barnesab@myrtlelearning.com
END:VEVENT
BEGIN:VEVENT
DTSTART;TZID=UTC:20280620T190000
DTEND;TZID=UTC:20280620T200000
DTSTAMP:20260422T191514
CREATED:20260126T114436Z
LAST-MODIFIED:20260127T171626Z
UID:10094017-1845140400-1845144000@myrtlelearning.com
SUMMARY:26GEO Myrtle 1
DESCRIPTION:26GEO Myrtle 1 \nThis lesson covers GCSE Geography \nSelect the button below to join the lesson online \n \n 
URL:https://myrtlelearning.com/event/26geo-myrtle-1-2/2028-06-20/
LOCATION:Online Session\, 25 Pattens Gardens\, Rochester\, Other\, ME1 2QP\, United Kingdom
CATEGORIES:26GEO Myrtle 1
ATTACH;FMTTYPE=image/jpeg:https://myrtlelearning.com/wp-content/uploads/2023/08/myrtle-icon-whitejpg.jpg
ORGANIZER;CN="Abbie":MAILTO:barnesab@myrtlelearning.com
END:VEVENT
BEGIN:VEVENT
DTSTART;TZID=UTC:20280627T190000
DTEND;TZID=UTC:20280627T200000
DTSTAMP:20260422T191514
CREATED:20260126T114436Z
LAST-MODIFIED:20260127T171626Z
UID:10094018-1845745200-1845748800@myrtlelearning.com
SUMMARY:26GEO Myrtle 1
DESCRIPTION:26GEO Myrtle 1 \nThis lesson covers GCSE Geography \nSelect the button below to join the lesson online \n \n 
URL:https://myrtlelearning.com/event/26geo-myrtle-1-2/2028-06-27/
LOCATION:Online Session\, 25 Pattens Gardens\, Rochester\, Other\, ME1 2QP\, United Kingdom
CATEGORIES:26GEO Myrtle 1
ATTACH;FMTTYPE=image/jpeg:https://myrtlelearning.com/wp-content/uploads/2023/08/myrtle-icon-whitejpg.jpg
ORGANIZER;CN="Abbie":MAILTO:barnesab@myrtlelearning.com
END:VEVENT
END:VCALENDAR