BEGIN:VCALENDAR
VERSION:2.0
PRODID:-//Myrtle Learning - ECPv6.15.3//NONSGML v1.0//EN
CALSCALE:GREGORIAN
METHOD:PUBLISH
X-WR-CALNAME:Myrtle Learning
X-ORIGINAL-URL:https://myrtlelearning.com
X-WR-CALDESC:Events for Myrtle Learning
REFRESH-INTERVAL;VALUE=DURATION:PT1H
X-Robots-Tag:noindex
X-PUBLISHED-TTL:PT1H
BEGIN:VTIMEZONE
TZID:UTC
BEGIN:STANDARD
TZOFFSETFROM:+0000
TZOFFSETTO:+0000
TZNAME:UTC
DTSTART:20290101T000000
END:STANDARD
END:VTIMEZONE
BEGIN:VEVENT
DTSTART;TZID=UTC:20290703T190000
DTEND;TZID=UTC:20290703T200000
DTSTAMP:20260423T202833
CREATED:20260126T114436Z
LAST-MODIFIED:20260127T171626Z
UID:10094071-1877799600-1877803200@myrtlelearning.com
SUMMARY:26GEO Myrtle 1
DESCRIPTION:26GEO Myrtle 1 \nThis lesson covers GCSE Geography \nSelect the button below to join the lesson online \n \n 
URL:https://myrtlelearning.com/event/26geo-myrtle-1-2/2029-07-03/
LOCATION:Online Session\, 25 Pattens Gardens\, Rochester\, Other\, ME1 2QP\, United Kingdom
CATEGORIES:26GEO Myrtle 1
ATTACH;FMTTYPE=image/jpeg:https://myrtlelearning.com/wp-content/uploads/2023/08/myrtle-icon-whitejpg.jpg
ORGANIZER;CN="Abbie":MAILTO:barnesab@myrtlelearning.com
END:VEVENT
BEGIN:VEVENT
DTSTART;TZID=UTC:20290710T190000
DTEND;TZID=UTC:20290710T200000
DTSTAMP:20260423T202833
CREATED:20260126T114436Z
LAST-MODIFIED:20260127T171626Z
UID:10094072-1878404400-1878408000@myrtlelearning.com
SUMMARY:26GEO Myrtle 1
DESCRIPTION:26GEO Myrtle 1 \nThis lesson covers GCSE Geography \nSelect the button below to join the lesson online \n \n 
URL:https://myrtlelearning.com/event/26geo-myrtle-1-2/2029-07-10/
LOCATION:Online Session\, 25 Pattens Gardens\, Rochester\, Other\, ME1 2QP\, United Kingdom
CATEGORIES:26GEO Myrtle 1
ATTACH;FMTTYPE=image/jpeg:https://myrtlelearning.com/wp-content/uploads/2023/08/myrtle-icon-whitejpg.jpg
ORGANIZER;CN="Abbie":MAILTO:barnesab@myrtlelearning.com
END:VEVENT
BEGIN:VEVENT
DTSTART;TZID=UTC:20290717T190000
DTEND;TZID=UTC:20290717T200000
DTSTAMP:20260423T202833
CREATED:20260126T114436Z
LAST-MODIFIED:20260127T171626Z
UID:10094073-1879009200-1879012800@myrtlelearning.com
SUMMARY:26GEO Myrtle 1
DESCRIPTION:26GEO Myrtle 1 \nThis lesson covers GCSE Geography \nSelect the button below to join the lesson online \n \n 
URL:https://myrtlelearning.com/event/26geo-myrtle-1-2/2029-07-17/
LOCATION:Online Session\, 25 Pattens Gardens\, Rochester\, Other\, ME1 2QP\, United Kingdom
CATEGORIES:26GEO Myrtle 1
ATTACH;FMTTYPE=image/jpeg:https://myrtlelearning.com/wp-content/uploads/2023/08/myrtle-icon-whitejpg.jpg
ORGANIZER;CN="Abbie":MAILTO:barnesab@myrtlelearning.com
END:VEVENT
BEGIN:VEVENT
DTSTART;TZID=UTC:20290724T190000
DTEND;TZID=UTC:20290724T200000
DTSTAMP:20260423T202833
CREATED:20260126T114436Z
LAST-MODIFIED:20260127T171626Z
UID:10094074-1879614000-1879617600@myrtlelearning.com
SUMMARY:26GEO Myrtle 1
DESCRIPTION:26GEO Myrtle 1 \nThis lesson covers GCSE Geography \nSelect the button below to join the lesson online \n \n 
URL:https://myrtlelearning.com/event/26geo-myrtle-1-2/2029-07-24/
LOCATION:Online Session\, 25 Pattens Gardens\, Rochester\, Other\, ME1 2QP\, United Kingdom
CATEGORIES:26GEO Myrtle 1
ATTACH;FMTTYPE=image/jpeg:https://myrtlelearning.com/wp-content/uploads/2023/08/myrtle-icon-whitejpg.jpg
ORGANIZER;CN="Abbie":MAILTO:barnesab@myrtlelearning.com
END:VEVENT
BEGIN:VEVENT
DTSTART;TZID=UTC:20290731T190000
DTEND;TZID=UTC:20290731T200000
DTSTAMP:20260423T202833
CREATED:20260126T114436Z
LAST-MODIFIED:20260127T171626Z
UID:10094075-1880218800-1880222400@myrtlelearning.com
SUMMARY:26GEO Myrtle 1
DESCRIPTION:26GEO Myrtle 1 \nThis lesson covers GCSE Geography \nSelect the button below to join the lesson online \n \n 
URL:https://myrtlelearning.com/event/26geo-myrtle-1-2/2029-07-31/
LOCATION:Online Session\, 25 Pattens Gardens\, Rochester\, Other\, ME1 2QP\, United Kingdom
CATEGORIES:26GEO Myrtle 1
ATTACH;FMTTYPE=image/jpeg:https://myrtlelearning.com/wp-content/uploads/2023/08/myrtle-icon-whitejpg.jpg
ORGANIZER;CN="Abbie":MAILTO:barnesab@myrtlelearning.com
END:VEVENT
END:VCALENDAR