BEGIN:VCALENDAR
VERSION:2.0
PRODID:-//Myrtle Learning - ECPv6.15.3//NONSGML v1.0//EN
CALSCALE:GREGORIAN
METHOD:PUBLISH
X-WR-CALNAME:Myrtle Learning
X-ORIGINAL-URL:https://myrtlelearning.com
X-WR-CALDESC:Events for Myrtle Learning
REFRESH-INTERVAL;VALUE=DURATION:PT1H
X-Robots-Tag:noindex
X-PUBLISHED-TTL:PT1H
BEGIN:VTIMEZONE
TZID:UTC
BEGIN:STANDARD
TZOFFSETFROM:+0000
TZOFFSETTO:+0000
TZNAME:UTC
DTSTART:20260101T000000
END:STANDARD
END:VTIMEZONE
BEGIN:VEVENT
DTSTART;TZID=UTC:20260103T100000
DTEND;TZID=UTC:20260103T130000
DTSTAMP:20260421T083448
CREATED:20251219T151636Z
LAST-MODIFIED:20251219T151724Z
UID:10090033-1767434400-1767445200@myrtlelearning.com
SUMMARY:26GM Myrtle 1 Exam Skills
DESCRIPTION:26GM Myrtle 1 Exam Skills  \nThis lesson covers GCSE Mathematics Exam Skills. \nSelect the button below to join the lesson online
URL:https://myrtlelearning.com/event/26gm-myrtle-1-exam-skills/2026-01-03/
LOCATION:Online Session\, 25 Pattens Gardens\, Rochester\, Other\, ME1 2QP\, United Kingdom
CATEGORIES:26GM Myrtle 1 Exam Skills
ATTACH;FMTTYPE=image/jpeg:https://myrtlelearning.com/wp-content/uploads/2023/08/myrtle-icon-whitejpg.jpg
ORGANIZER;CN="Abbie":MAILTO:barnesab@myrtlelearning.com
END:VEVENT
BEGIN:VEVENT
DTSTART;TZID=UTC:20260110T100000
DTEND;TZID=UTC:20260110T130000
DTSTAMP:20260421T083448
CREATED:20251219T151636Z
LAST-MODIFIED:20251219T151724Z
UID:10090034-1768039200-1768050000@myrtlelearning.com
SUMMARY:26GM Myrtle 1 Exam Skills
DESCRIPTION:26GM Myrtle 1 Exam Skills  \nThis lesson covers GCSE Mathematics Exam Skills. \nSelect the button below to join the lesson online
URL:https://myrtlelearning.com/event/26gm-myrtle-1-exam-skills/2026-01-10/
LOCATION:Online Session\, 25 Pattens Gardens\, Rochester\, Other\, ME1 2QP\, United Kingdom
CATEGORIES:26GM Myrtle 1 Exam Skills
ATTACH;FMTTYPE=image/jpeg:https://myrtlelearning.com/wp-content/uploads/2023/08/myrtle-icon-whitejpg.jpg
ORGANIZER;CN="Abbie":MAILTO:barnesab@myrtlelearning.com
END:VEVENT
BEGIN:VEVENT
DTSTART;TZID=UTC:20260117T100000
DTEND;TZID=UTC:20260117T130000
DTSTAMP:20260421T083448
CREATED:20251219T151636Z
LAST-MODIFIED:20251219T151724Z
UID:10090035-1768644000-1768654800@myrtlelearning.com
SUMMARY:26GM Myrtle 1 Exam Skills
DESCRIPTION:26GM Myrtle 1 Exam Skills  \nThis lesson covers GCSE Mathematics Exam Skills. \nSelect the button below to join the lesson online
URL:https://myrtlelearning.com/event/26gm-myrtle-1-exam-skills/2026-01-17/
LOCATION:Online Session\, 25 Pattens Gardens\, Rochester\, Other\, ME1 2QP\, United Kingdom
CATEGORIES:26GM Myrtle 1 Exam Skills
ATTACH;FMTTYPE=image/jpeg:https://myrtlelearning.com/wp-content/uploads/2023/08/myrtle-icon-whitejpg.jpg
ORGANIZER;CN="Abbie":MAILTO:barnesab@myrtlelearning.com
END:VEVENT
BEGIN:VEVENT
DTSTART;TZID=UTC:20260124T100000
DTEND;TZID=UTC:20260124T130000
DTSTAMP:20260421T083448
CREATED:20251219T151636Z
LAST-MODIFIED:20251219T151724Z
UID:10090036-1769248800-1769259600@myrtlelearning.com
SUMMARY:26GM Myrtle 1 Exam Skills
DESCRIPTION:26GM Myrtle 1 Exam Skills  \nThis lesson covers GCSE Mathematics Exam Skills. \nSelect the button below to join the lesson online
URL:https://myrtlelearning.com/event/26gm-myrtle-1-exam-skills/2026-01-24/
LOCATION:Online Session\, 25 Pattens Gardens\, Rochester\, Other\, ME1 2QP\, United Kingdom
CATEGORIES:26GM Myrtle 1 Exam Skills
ATTACH;FMTTYPE=image/jpeg:https://myrtlelearning.com/wp-content/uploads/2023/08/myrtle-icon-whitejpg.jpg
ORGANIZER;CN="Abbie":MAILTO:barnesab@myrtlelearning.com
END:VEVENT
BEGIN:VEVENT
DTSTART;TZID=UTC:20260131T100000
DTEND;TZID=UTC:20260131T130000
DTSTAMP:20260421T083448
CREATED:20251219T151636Z
LAST-MODIFIED:20251219T151724Z
UID:10090037-1769853600-1769864400@myrtlelearning.com
SUMMARY:26GM Myrtle 1 Exam Skills
DESCRIPTION:26GM Myrtle 1 Exam Skills  \nThis lesson covers GCSE Mathematics Exam Skills. \nSelect the button below to join the lesson online
URL:https://myrtlelearning.com/event/26gm-myrtle-1-exam-skills/2026-01-31/
LOCATION:Online Session\, 25 Pattens Gardens\, Rochester\, Other\, ME1 2QP\, United Kingdom
CATEGORIES:26GM Myrtle 1 Exam Skills
ATTACH;FMTTYPE=image/jpeg:https://myrtlelearning.com/wp-content/uploads/2023/08/myrtle-icon-whitejpg.jpg
ORGANIZER;CN="Abbie":MAILTO:barnesab@myrtlelearning.com
END:VEVENT
END:VCALENDAR