BEGIN:VCALENDAR
VERSION:2.0
PRODID:-//Myrtle Learning - ECPv6.15.3//NONSGML v1.0//EN
CALSCALE:GREGORIAN
METHOD:PUBLISH
X-WR-CALNAME:Myrtle Learning
X-ORIGINAL-URL:https://myrtlelearning.com
X-WR-CALDESC:Events for Myrtle Learning
REFRESH-INTERVAL;VALUE=DURATION:PT1H
X-Robots-Tag:noindex
X-PUBLISHED-TTL:PT1H
BEGIN:VTIMEZONE
TZID:UTC
BEGIN:STANDARD
TZOFFSETFROM:+0000
TZOFFSETTO:+0000
TZNAME:UTC
DTSTART:20270101T000000
END:STANDARD
END:VTIMEZONE
BEGIN:VEVENT
DTSTART;TZID=UTC:20270706T100000
DTEND;TZID=UTC:20270706T170000
DTSTAMP:20260422T191650
CREATED:20260217T091350Z
LAST-MODIFIED:20260217T091358Z
UID:10098877-1814868000-1814893200@myrtlelearning.com
SUMMARY:26GM Myrtle 1 Exam Skills
DESCRIPTION:26GM Myrtle 1 Exam Skills  \nThis lesson covers GCSE Mathematics Exam Skills. \nSelect the button below to join the lesson online
URL:https://myrtlelearning.com/event/26gm-myrtle-1-exam-skills-2/2027-07-06/
LOCATION:Online Session\, 25 Pattens Gardens\, Rochester\, Other\, ME1 2QP\, United Kingdom
CATEGORIES:26GM Myrtle 1 Exam Skills
ATTACH;FMTTYPE=image/jpeg:https://myrtlelearning.com/wp-content/uploads/2023/08/myrtle-icon-whitejpg.jpg
ORGANIZER;CN="Abbie":MAILTO:barnesab@myrtlelearning.com
END:VEVENT
BEGIN:VEVENT
DTSTART;TZID=UTC:20270713T100000
DTEND;TZID=UTC:20270713T170000
DTSTAMP:20260422T191650
CREATED:20260217T091350Z
LAST-MODIFIED:20260217T091358Z
UID:10098878-1815472800-1815498000@myrtlelearning.com
SUMMARY:26GM Myrtle 1 Exam Skills
DESCRIPTION:26GM Myrtle 1 Exam Skills  \nThis lesson covers GCSE Mathematics Exam Skills. \nSelect the button below to join the lesson online
URL:https://myrtlelearning.com/event/26gm-myrtle-1-exam-skills-2/2027-07-13/
LOCATION:Online Session\, 25 Pattens Gardens\, Rochester\, Other\, ME1 2QP\, United Kingdom
CATEGORIES:26GM Myrtle 1 Exam Skills
ATTACH;FMTTYPE=image/jpeg:https://myrtlelearning.com/wp-content/uploads/2023/08/myrtle-icon-whitejpg.jpg
ORGANIZER;CN="Abbie":MAILTO:barnesab@myrtlelearning.com
END:VEVENT
BEGIN:VEVENT
DTSTART;TZID=UTC:20270720T100000
DTEND;TZID=UTC:20270720T170000
DTSTAMP:20260422T191650
CREATED:20260217T091350Z
LAST-MODIFIED:20260217T091358Z
UID:10098879-1816077600-1816102800@myrtlelearning.com
SUMMARY:26GM Myrtle 1 Exam Skills
DESCRIPTION:26GM Myrtle 1 Exam Skills  \nThis lesson covers GCSE Mathematics Exam Skills. \nSelect the button below to join the lesson online
URL:https://myrtlelearning.com/event/26gm-myrtle-1-exam-skills-2/2027-07-20/
LOCATION:Online Session\, 25 Pattens Gardens\, Rochester\, Other\, ME1 2QP\, United Kingdom
CATEGORIES:26GM Myrtle 1 Exam Skills
ATTACH;FMTTYPE=image/jpeg:https://myrtlelearning.com/wp-content/uploads/2023/08/myrtle-icon-whitejpg.jpg
ORGANIZER;CN="Abbie":MAILTO:barnesab@myrtlelearning.com
END:VEVENT
BEGIN:VEVENT
DTSTART;TZID=UTC:20270727T100000
DTEND;TZID=UTC:20270727T170000
DTSTAMP:20260422T191650
CREATED:20260217T091350Z
LAST-MODIFIED:20260217T091358Z
UID:10098880-1816682400-1816707600@myrtlelearning.com
SUMMARY:26GM Myrtle 1 Exam Skills
DESCRIPTION:26GM Myrtle 1 Exam Skills  \nThis lesson covers GCSE Mathematics Exam Skills. \nSelect the button below to join the lesson online
URL:https://myrtlelearning.com/event/26gm-myrtle-1-exam-skills-2/2027-07-27/
LOCATION:Online Session\, 25 Pattens Gardens\, Rochester\, Other\, ME1 2QP\, United Kingdom
CATEGORIES:26GM Myrtle 1 Exam Skills
ATTACH;FMTTYPE=image/jpeg:https://myrtlelearning.com/wp-content/uploads/2023/08/myrtle-icon-whitejpg.jpg
ORGANIZER;CN="Abbie":MAILTO:barnesab@myrtlelearning.com
END:VEVENT
END:VCALENDAR