BEGIN:VCALENDAR
VERSION:2.0
PRODID:-//Myrtle Learning - ECPv6.15.3//NONSGML v1.0//EN
CALSCALE:GREGORIAN
METHOD:PUBLISH
X-ORIGINAL-URL:https://myrtlelearning.com
X-WR-CALDESC:Events for Myrtle Learning
REFRESH-INTERVAL;VALUE=DURATION:PT1H
X-Robots-Tag:noindex
X-PUBLISHED-TTL:PT1H
BEGIN:VTIMEZONE
TZID:UTC
BEGIN:STANDARD
TZOFFSETFROM:+0000
TZOFFSETTO:+0000
TZNAME:UTC
DTSTART:20260101T000000
END:STANDARD
END:VTIMEZONE
BEGIN:VEVENT
DTSTART;TZID=UTC:20260305T160000
DTEND;TZID=UTC:20260305T170000
DTSTAMP:20260421T101440
CREATED:20260121T190741Z
LAST-MODIFIED:20260126T182037Z
UID:10095882-1772726400-1772730000@myrtlelearning.com
SUMMARY:26GM Myrtle 2
DESCRIPTION:26GM Myrtle 2  \nThese group is made of students preparing for their Science exams in 2026 \nSelect the button below to join the lesson online
URL:https://myrtlelearning.com/event/26gm-myrtle-2/2026-03-05/
LOCATION:Online Session\, 25 Pattens Gardens\, Rochester\, Other\, ME1 2QP\, United Kingdom
CATEGORIES:26GM Myrtle 2
ATTACH;FMTTYPE=image/jpeg:https://myrtlelearning.com/wp-content/uploads/2023/08/myrtle-icon-whitejpg.jpg
ORGANIZER;CN="Abbie":MAILTO:barnesab@myrtlelearning.com
END:VEVENT
BEGIN:VEVENT
DTSTART;TZID=UTC:20260306T160000
DTEND;TZID=UTC:20260306T170000
DTSTAMP:20260421T101440
CREATED:20260121T190741Z
LAST-MODIFIED:20260126T182037Z
UID:10095883-1772812800-1772816400@myrtlelearning.com
SUMMARY:26GM Myrtle 2
DESCRIPTION:26GM Myrtle 2  \nThese group is made of students preparing for their Science exams in 2026 \nSelect the button below to join the lesson online
URL:https://myrtlelearning.com/event/26gm-myrtle-2/2026-03-06/
LOCATION:Online Session\, 25 Pattens Gardens\, Rochester\, Other\, ME1 2QP\, United Kingdom
CATEGORIES:26GM Myrtle 2
ATTACH;FMTTYPE=image/jpeg:https://myrtlelearning.com/wp-content/uploads/2023/08/myrtle-icon-whitejpg.jpg
ORGANIZER;CN="Abbie":MAILTO:barnesab@myrtlelearning.com
END:VEVENT
BEGIN:VEVENT
DTSTART;TZID=UTC:20260312T160000
DTEND;TZID=UTC:20260312T170000
DTSTAMP:20260421T101440
CREATED:20260121T190741Z
LAST-MODIFIED:20260126T182037Z
UID:10095884-1773331200-1773334800@myrtlelearning.com
SUMMARY:26GM Myrtle 2
DESCRIPTION:26GM Myrtle 2  \nThese group is made of students preparing for their Science exams in 2026 \nSelect the button below to join the lesson online
URL:https://myrtlelearning.com/event/26gm-myrtle-2/2026-03-12/
LOCATION:Online Session\, 25 Pattens Gardens\, Rochester\, Other\, ME1 2QP\, United Kingdom
CATEGORIES:26GM Myrtle 2
ATTACH;FMTTYPE=image/jpeg:https://myrtlelearning.com/wp-content/uploads/2023/08/myrtle-icon-whitejpg.jpg
ORGANIZER;CN="Abbie":MAILTO:barnesab@myrtlelearning.com
END:VEVENT
BEGIN:VEVENT
DTSTART;TZID=UTC:20260313T160000
DTEND;TZID=UTC:20260313T170000
DTSTAMP:20260421T101440
CREATED:20260121T190741Z
LAST-MODIFIED:20260126T182037Z
UID:10095885-1773417600-1773421200@myrtlelearning.com
SUMMARY:26GM Myrtle 2
DESCRIPTION:26GM Myrtle 2  \nThese group is made of students preparing for their Science exams in 2026 \nSelect the button below to join the lesson online
URL:https://myrtlelearning.com/event/26gm-myrtle-2/2026-03-13/
LOCATION:Online Session\, 25 Pattens Gardens\, Rochester\, Other\, ME1 2QP\, United Kingdom
CATEGORIES:26GM Myrtle 2
ATTACH;FMTTYPE=image/jpeg:https://myrtlelearning.com/wp-content/uploads/2023/08/myrtle-icon-whitejpg.jpg
ORGANIZER;CN="Abbie":MAILTO:barnesab@myrtlelearning.com
END:VEVENT
BEGIN:VEVENT
DTSTART;TZID=UTC:20260319T160000
DTEND;TZID=UTC:20260319T170000
DTSTAMP:20260421T101440
CREATED:20260121T190741Z
LAST-MODIFIED:20260126T182037Z
UID:10095886-1773936000-1773939600@myrtlelearning.com
SUMMARY:26GM Myrtle 2
DESCRIPTION:26GM Myrtle 2  \nThese group is made of students preparing for their Science exams in 2026 \nSelect the button below to join the lesson online
URL:https://myrtlelearning.com/event/26gm-myrtle-2/2026-03-19/
LOCATION:Online Session\, 25 Pattens Gardens\, Rochester\, Other\, ME1 2QP\, United Kingdom
CATEGORIES:26GM Myrtle 2
ATTACH;FMTTYPE=image/jpeg:https://myrtlelearning.com/wp-content/uploads/2023/08/myrtle-icon-whitejpg.jpg
ORGANIZER;CN="Abbie":MAILTO:barnesab@myrtlelearning.com
END:VEVENT
BEGIN:VEVENT
DTSTART;TZID=UTC:20260320T160000
DTEND;TZID=UTC:20260320T170000
DTSTAMP:20260421T101440
CREATED:20260121T190741Z
LAST-MODIFIED:20260126T182037Z
UID:10095887-1774022400-1774026000@myrtlelearning.com
SUMMARY:26GM Myrtle 2
DESCRIPTION:26GM Myrtle 2  \nThese group is made of students preparing for their Science exams in 2026 \nSelect the button below to join the lesson online
URL:https://myrtlelearning.com/event/26gm-myrtle-2/2026-03-20/
LOCATION:Online Session\, 25 Pattens Gardens\, Rochester\, Other\, ME1 2QP\, United Kingdom
CATEGORIES:26GM Myrtle 2
ATTACH;FMTTYPE=image/jpeg:https://myrtlelearning.com/wp-content/uploads/2023/08/myrtle-icon-whitejpg.jpg
ORGANIZER;CN="Abbie":MAILTO:barnesab@myrtlelearning.com
END:VEVENT
BEGIN:VEVENT
DTSTART;TZID=UTC:20260326T160000
DTEND;TZID=UTC:20260326T170000
DTSTAMP:20260421T101440
CREATED:20260121T190741Z
LAST-MODIFIED:20260126T182037Z
UID:10095888-1774540800-1774544400@myrtlelearning.com
SUMMARY:26GM Myrtle 2
DESCRIPTION:26GM Myrtle 2  \nThese group is made of students preparing for their Science exams in 2026 \nSelect the button below to join the lesson online
URL:https://myrtlelearning.com/event/26gm-myrtle-2/2026-03-26/
LOCATION:Online Session\, 25 Pattens Gardens\, Rochester\, Other\, ME1 2QP\, United Kingdom
CATEGORIES:26GM Myrtle 2
ATTACH;FMTTYPE=image/jpeg:https://myrtlelearning.com/wp-content/uploads/2023/08/myrtle-icon-whitejpg.jpg
ORGANIZER;CN="Abbie":MAILTO:barnesab@myrtlelearning.com
END:VEVENT
BEGIN:VEVENT
DTSTART;TZID=UTC:20260327T160000
DTEND;TZID=UTC:20260327T170000
DTSTAMP:20260421T101440
CREATED:20260121T190741Z
LAST-MODIFIED:20260126T182037Z
UID:10095889-1774627200-1774630800@myrtlelearning.com
SUMMARY:26GM Myrtle 2
DESCRIPTION:26GM Myrtle 2  \nThese group is made of students preparing for their Science exams in 2026 \nSelect the button below to join the lesson online
URL:https://myrtlelearning.com/event/26gm-myrtle-2/2026-03-27/
LOCATION:Online Session\, 25 Pattens Gardens\, Rochester\, Other\, ME1 2QP\, United Kingdom
CATEGORIES:26GM Myrtle 2
ATTACH;FMTTYPE=image/jpeg:https://myrtlelearning.com/wp-content/uploads/2023/08/myrtle-icon-whitejpg.jpg
ORGANIZER;CN="Abbie":MAILTO:barnesab@myrtlelearning.com
END:VEVENT
END:VCALENDAR