BEGIN:VCALENDAR
VERSION:2.0
PRODID:-//Myrtle Learning - ECPv6.15.3//NONSGML v1.0//EN
CALSCALE:GREGORIAN
METHOD:PUBLISH
X-WR-CALNAME:Myrtle Learning
X-ORIGINAL-URL:https://myrtlelearning.com
X-WR-CALDESC:Events for Myrtle Learning
REFRESH-INTERVAL;VALUE=DURATION:PT1H
X-Robots-Tag:noindex
X-PUBLISHED-TTL:PT1H
BEGIN:VTIMEZONE
TZID:UTC
BEGIN:STANDARD
TZOFFSETFROM:+0000
TZOFFSETTO:+0000
TZNAME:UTC
DTSTART:20260101T000000
END:STANDARD
END:VTIMEZONE
BEGIN:VEVENT
DTSTART;TZID=UTC:20260501T160000
DTEND;TZID=UTC:20260501T170000
DTSTAMP:20260421T101350
CREATED:20260121T190741Z
LAST-MODIFIED:20260126T182037Z
UID:10095899-1777651200-1777654800@myrtlelearning.com
SUMMARY:26GM Myrtle 2
DESCRIPTION:26GM Myrtle 2  \nThese group is made of students preparing for their Science exams in 2026 \nSelect the button below to join the lesson online
URL:https://myrtlelearning.com/event/26gm-myrtle-2/2026-05-01/
LOCATION:Online Session\, 25 Pattens Gardens\, Rochester\, Other\, ME1 2QP\, United Kingdom
CATEGORIES:26GM Myrtle 2
ATTACH;FMTTYPE=image/jpeg:https://myrtlelearning.com/wp-content/uploads/2023/08/myrtle-icon-whitejpg.jpg
ORGANIZER;CN="Abbie":MAILTO:barnesab@myrtlelearning.com
END:VEVENT
BEGIN:VEVENT
DTSTART;TZID=UTC:20260507T160000
DTEND;TZID=UTC:20260507T170000
DTSTAMP:20260421T101350
CREATED:20260121T190741Z
LAST-MODIFIED:20260126T182037Z
UID:10095900-1778169600-1778173200@myrtlelearning.com
SUMMARY:26GM Myrtle 2
DESCRIPTION:26GM Myrtle 2  \nThese group is made of students preparing for their Science exams in 2026 \nSelect the button below to join the lesson online
URL:https://myrtlelearning.com/event/26gm-myrtle-2/2026-05-07/
LOCATION:Online Session\, 25 Pattens Gardens\, Rochester\, Other\, ME1 2QP\, United Kingdom
CATEGORIES:26GM Myrtle 2
ATTACH;FMTTYPE=image/jpeg:https://myrtlelearning.com/wp-content/uploads/2023/08/myrtle-icon-whitejpg.jpg
ORGANIZER;CN="Abbie":MAILTO:barnesab@myrtlelearning.com
END:VEVENT
BEGIN:VEVENT
DTSTART;TZID=UTC:20260508T160000
DTEND;TZID=UTC:20260508T170000
DTSTAMP:20260421T101350
CREATED:20260121T190741Z
LAST-MODIFIED:20260126T182037Z
UID:10095901-1778256000-1778259600@myrtlelearning.com
SUMMARY:26GM Myrtle 2
DESCRIPTION:26GM Myrtle 2  \nThese group is made of students preparing for their Science exams in 2026 \nSelect the button below to join the lesson online
URL:https://myrtlelearning.com/event/26gm-myrtle-2/2026-05-08/
LOCATION:Online Session\, 25 Pattens Gardens\, Rochester\, Other\, ME1 2QP\, United Kingdom
CATEGORIES:26GM Myrtle 2
ATTACH;FMTTYPE=image/jpeg:https://myrtlelearning.com/wp-content/uploads/2023/08/myrtle-icon-whitejpg.jpg
ORGANIZER;CN="Abbie":MAILTO:barnesab@myrtlelearning.com
END:VEVENT
BEGIN:VEVENT
DTSTART;TZID=UTC:20260514T160000
DTEND;TZID=UTC:20260514T170000
DTSTAMP:20260421T101350
CREATED:20260121T190741Z
LAST-MODIFIED:20260126T182037Z
UID:10095902-1778774400-1778778000@myrtlelearning.com
SUMMARY:26GM Myrtle 2
DESCRIPTION:26GM Myrtle 2  \nThese group is made of students preparing for their Science exams in 2026 \nSelect the button below to join the lesson online
URL:https://myrtlelearning.com/event/26gm-myrtle-2/2026-05-14/
LOCATION:Online Session\, 25 Pattens Gardens\, Rochester\, Other\, ME1 2QP\, United Kingdom
CATEGORIES:26GM Myrtle 2
ATTACH;FMTTYPE=image/jpeg:https://myrtlelearning.com/wp-content/uploads/2023/08/myrtle-icon-whitejpg.jpg
ORGANIZER;CN="Abbie":MAILTO:barnesab@myrtlelearning.com
END:VEVENT
BEGIN:VEVENT
DTSTART;TZID=UTC:20260515T160000
DTEND;TZID=UTC:20260515T170000
DTSTAMP:20260421T101350
CREATED:20260121T190741Z
LAST-MODIFIED:20260126T182037Z
UID:10095903-1778860800-1778864400@myrtlelearning.com
SUMMARY:26GM Myrtle 2
DESCRIPTION:26GM Myrtle 2  \nThese group is made of students preparing for their Science exams in 2026 \nSelect the button below to join the lesson online
URL:https://myrtlelearning.com/event/26gm-myrtle-2/2026-05-15/
LOCATION:Online Session\, 25 Pattens Gardens\, Rochester\, Other\, ME1 2QP\, United Kingdom
CATEGORIES:26GM Myrtle 2
ATTACH;FMTTYPE=image/jpeg:https://myrtlelearning.com/wp-content/uploads/2023/08/myrtle-icon-whitejpg.jpg
ORGANIZER;CN="Abbie":MAILTO:barnesab@myrtlelearning.com
END:VEVENT
BEGIN:VEVENT
DTSTART;TZID=UTC:20260521T160000
DTEND;TZID=UTC:20260521T170000
DTSTAMP:20260421T101350
CREATED:20260121T190741Z
LAST-MODIFIED:20260126T182037Z
UID:10095904-1779379200-1779382800@myrtlelearning.com
SUMMARY:26GM Myrtle 2
DESCRIPTION:26GM Myrtle 2  \nThese group is made of students preparing for their Science exams in 2026 \nSelect the button below to join the lesson online
URL:https://myrtlelearning.com/event/26gm-myrtle-2/2026-05-21/
LOCATION:Online Session\, 25 Pattens Gardens\, Rochester\, Other\, ME1 2QP\, United Kingdom
CATEGORIES:26GM Myrtle 2
ATTACH;FMTTYPE=image/jpeg:https://myrtlelearning.com/wp-content/uploads/2023/08/myrtle-icon-whitejpg.jpg
ORGANIZER;CN="Abbie":MAILTO:barnesab@myrtlelearning.com
END:VEVENT
BEGIN:VEVENT
DTSTART;TZID=UTC:20260522T160000
DTEND;TZID=UTC:20260522T170000
DTSTAMP:20260421T101350
CREATED:20260121T190741Z
LAST-MODIFIED:20260126T182037Z
UID:10095905-1779465600-1779469200@myrtlelearning.com
SUMMARY:26GM Myrtle 2
DESCRIPTION:26GM Myrtle 2  \nThese group is made of students preparing for their Science exams in 2026 \nSelect the button below to join the lesson online
URL:https://myrtlelearning.com/event/26gm-myrtle-2/2026-05-22/
LOCATION:Online Session\, 25 Pattens Gardens\, Rochester\, Other\, ME1 2QP\, United Kingdom
CATEGORIES:26GM Myrtle 2
ATTACH;FMTTYPE=image/jpeg:https://myrtlelearning.com/wp-content/uploads/2023/08/myrtle-icon-whitejpg.jpg
ORGANIZER;CN="Abbie":MAILTO:barnesab@myrtlelearning.com
END:VEVENT
BEGIN:VEVENT
DTSTART;TZID=UTC:20260528T160000
DTEND;TZID=UTC:20260528T170000
DTSTAMP:20260421T101350
CREATED:20260121T190741Z
LAST-MODIFIED:20260126T182037Z
UID:10095906-1779984000-1779987600@myrtlelearning.com
SUMMARY:26GM Myrtle 2
DESCRIPTION:26GM Myrtle 2  \nThese group is made of students preparing for their Science exams in 2026 \nSelect the button below to join the lesson online
URL:https://myrtlelearning.com/event/26gm-myrtle-2/2026-05-28/
LOCATION:Online Session\, 25 Pattens Gardens\, Rochester\, Other\, ME1 2QP\, United Kingdom
CATEGORIES:26GM Myrtle 2
ATTACH;FMTTYPE=image/jpeg:https://myrtlelearning.com/wp-content/uploads/2023/08/myrtle-icon-whitejpg.jpg
ORGANIZER;CN="Abbie":MAILTO:barnesab@myrtlelearning.com
END:VEVENT
BEGIN:VEVENT
DTSTART;TZID=UTC:20260529T160000
DTEND;TZID=UTC:20260529T170000
DTSTAMP:20260421T101350
CREATED:20260121T190741Z
LAST-MODIFIED:20260126T182037Z
UID:10095907-1780070400-1780074000@myrtlelearning.com
SUMMARY:26GM Myrtle 2
DESCRIPTION:26GM Myrtle 2  \nThese group is made of students preparing for their Science exams in 2026 \nSelect the button below to join the lesson online
URL:https://myrtlelearning.com/event/26gm-myrtle-2/2026-05-29/
LOCATION:Online Session\, 25 Pattens Gardens\, Rochester\, Other\, ME1 2QP\, United Kingdom
CATEGORIES:26GM Myrtle 2
ATTACH;FMTTYPE=image/jpeg:https://myrtlelearning.com/wp-content/uploads/2023/08/myrtle-icon-whitejpg.jpg
ORGANIZER;CN="Abbie":MAILTO:barnesab@myrtlelearning.com
END:VEVENT
END:VCALENDAR