BEGIN:VCALENDAR
VERSION:2.0
PRODID:-//Myrtle Learning - ECPv6.15.3//NONSGML v1.0//EN
CALSCALE:GREGORIAN
METHOD:PUBLISH
X-ORIGINAL-URL:https://myrtlelearning.com
X-WR-CALDESC:Events for Myrtle Learning
REFRESH-INTERVAL;VALUE=DURATION:PT1H
X-Robots-Tag:noindex
X-PUBLISHED-TTL:PT1H
BEGIN:VTIMEZONE
TZID:UTC
BEGIN:STANDARD
TZOFFSETFROM:+0000
TZOFFSETTO:+0000
TZNAME:UTC
DTSTART:20270101T000000
END:STANDARD
END:VTIMEZONE
BEGIN:VEVENT
DTSTART;TZID=UTC:20270101T160000
DTEND;TZID=UTC:20270101T170000
DTSTAMP:20260422T170814
CREATED:20260121T190741Z
LAST-MODIFIED:20260126T182037Z
UID:10095969-1798819200-1798822800@myrtlelearning.com
SUMMARY:26GM Myrtle 2
DESCRIPTION:26GM Myrtle 2  \nThese group is made of students preparing for their Science exams in 2026 \nSelect the button below to join the lesson online
URL:https://myrtlelearning.com/event/26gm-myrtle-2/2027-01-01/
LOCATION:Online Session\, 25 Pattens Gardens\, Rochester\, Other\, ME1 2QP\, United Kingdom
CATEGORIES:26GM Myrtle 2
ATTACH;FMTTYPE=image/jpeg:https://myrtlelearning.com/wp-content/uploads/2023/08/myrtle-icon-whitejpg.jpg
ORGANIZER;CN="Abbie":MAILTO:barnesab@myrtlelearning.com
END:VEVENT
BEGIN:VEVENT
DTSTART;TZID=UTC:20270107T160000
DTEND;TZID=UTC:20270107T170000
DTSTAMP:20260422T170814
CREATED:20260121T190741Z
LAST-MODIFIED:20260126T182037Z
UID:10095970-1799337600-1799341200@myrtlelearning.com
SUMMARY:26GM Myrtle 2
DESCRIPTION:26GM Myrtle 2  \nThese group is made of students preparing for their Science exams in 2026 \nSelect the button below to join the lesson online
URL:https://myrtlelearning.com/event/26gm-myrtle-2/2027-01-07/
LOCATION:Online Session\, 25 Pattens Gardens\, Rochester\, Other\, ME1 2QP\, United Kingdom
CATEGORIES:26GM Myrtle 2
ATTACH;FMTTYPE=image/jpeg:https://myrtlelearning.com/wp-content/uploads/2023/08/myrtle-icon-whitejpg.jpg
ORGANIZER;CN="Abbie":MAILTO:barnesab@myrtlelearning.com
END:VEVENT
BEGIN:VEVENT
DTSTART;TZID=UTC:20270108T160000
DTEND;TZID=UTC:20270108T170000
DTSTAMP:20260422T170814
CREATED:20260121T190741Z
LAST-MODIFIED:20260126T182037Z
UID:10095971-1799424000-1799427600@myrtlelearning.com
SUMMARY:26GM Myrtle 2
DESCRIPTION:26GM Myrtle 2  \nThese group is made of students preparing for their Science exams in 2026 \nSelect the button below to join the lesson online
URL:https://myrtlelearning.com/event/26gm-myrtle-2/2027-01-08/
LOCATION:Online Session\, 25 Pattens Gardens\, Rochester\, Other\, ME1 2QP\, United Kingdom
CATEGORIES:26GM Myrtle 2
ATTACH;FMTTYPE=image/jpeg:https://myrtlelearning.com/wp-content/uploads/2023/08/myrtle-icon-whitejpg.jpg
ORGANIZER;CN="Abbie":MAILTO:barnesab@myrtlelearning.com
END:VEVENT
BEGIN:VEVENT
DTSTART;TZID=UTC:20270114T160000
DTEND;TZID=UTC:20270114T170000
DTSTAMP:20260422T170814
CREATED:20260121T190741Z
LAST-MODIFIED:20260126T182037Z
UID:10095972-1799942400-1799946000@myrtlelearning.com
SUMMARY:26GM Myrtle 2
DESCRIPTION:26GM Myrtle 2  \nThese group is made of students preparing for their Science exams in 2026 \nSelect the button below to join the lesson online
URL:https://myrtlelearning.com/event/26gm-myrtle-2/2027-01-14/
LOCATION:Online Session\, 25 Pattens Gardens\, Rochester\, Other\, ME1 2QP\, United Kingdom
CATEGORIES:26GM Myrtle 2
ATTACH;FMTTYPE=image/jpeg:https://myrtlelearning.com/wp-content/uploads/2023/08/myrtle-icon-whitejpg.jpg
ORGANIZER;CN="Abbie":MAILTO:barnesab@myrtlelearning.com
END:VEVENT
BEGIN:VEVENT
DTSTART;TZID=UTC:20270115T160000
DTEND;TZID=UTC:20270115T170000
DTSTAMP:20260422T170814
CREATED:20260121T190741Z
LAST-MODIFIED:20260126T182037Z
UID:10095973-1800028800-1800032400@myrtlelearning.com
SUMMARY:26GM Myrtle 2
DESCRIPTION:26GM Myrtle 2  \nThese group is made of students preparing for their Science exams in 2026 \nSelect the button below to join the lesson online
URL:https://myrtlelearning.com/event/26gm-myrtle-2/2027-01-15/
LOCATION:Online Session\, 25 Pattens Gardens\, Rochester\, Other\, ME1 2QP\, United Kingdom
CATEGORIES:26GM Myrtle 2
ATTACH;FMTTYPE=image/jpeg:https://myrtlelearning.com/wp-content/uploads/2023/08/myrtle-icon-whitejpg.jpg
ORGANIZER;CN="Abbie":MAILTO:barnesab@myrtlelearning.com
END:VEVENT
BEGIN:VEVENT
DTSTART;TZID=UTC:20270121T160000
DTEND;TZID=UTC:20270121T170000
DTSTAMP:20260422T170814
CREATED:20260121T190741Z
LAST-MODIFIED:20260126T182037Z
UID:10095974-1800547200-1800550800@myrtlelearning.com
SUMMARY:26GM Myrtle 2
DESCRIPTION:26GM Myrtle 2  \nThese group is made of students preparing for their Science exams in 2026 \nSelect the button below to join the lesson online
URL:https://myrtlelearning.com/event/26gm-myrtle-2/2027-01-21/
LOCATION:Online Session\, 25 Pattens Gardens\, Rochester\, Other\, ME1 2QP\, United Kingdom
CATEGORIES:26GM Myrtle 2
ATTACH;FMTTYPE=image/jpeg:https://myrtlelearning.com/wp-content/uploads/2023/08/myrtle-icon-whitejpg.jpg
ORGANIZER;CN="Abbie":MAILTO:barnesab@myrtlelearning.com
END:VEVENT
BEGIN:VEVENT
DTSTART;TZID=UTC:20270122T160000
DTEND;TZID=UTC:20270122T170000
DTSTAMP:20260422T170814
CREATED:20260121T190741Z
LAST-MODIFIED:20260126T182037Z
UID:10095975-1800633600-1800637200@myrtlelearning.com
SUMMARY:26GM Myrtle 2
DESCRIPTION:26GM Myrtle 2  \nThese group is made of students preparing for their Science exams in 2026 \nSelect the button below to join the lesson online
URL:https://myrtlelearning.com/event/26gm-myrtle-2/2027-01-22/
LOCATION:Online Session\, 25 Pattens Gardens\, Rochester\, Other\, ME1 2QP\, United Kingdom
CATEGORIES:26GM Myrtle 2
ATTACH;FMTTYPE=image/jpeg:https://myrtlelearning.com/wp-content/uploads/2023/08/myrtle-icon-whitejpg.jpg
ORGANIZER;CN="Abbie":MAILTO:barnesab@myrtlelearning.com
END:VEVENT
BEGIN:VEVENT
DTSTART;TZID=UTC:20270128T160000
DTEND;TZID=UTC:20270128T170000
DTSTAMP:20260422T170814
CREATED:20260121T190741Z
LAST-MODIFIED:20260126T182037Z
UID:10095976-1801152000-1801155600@myrtlelearning.com
SUMMARY:26GM Myrtle 2
DESCRIPTION:26GM Myrtle 2  \nThese group is made of students preparing for their Science exams in 2026 \nSelect the button below to join the lesson online
URL:https://myrtlelearning.com/event/26gm-myrtle-2/2027-01-28/
LOCATION:Online Session\, 25 Pattens Gardens\, Rochester\, Other\, ME1 2QP\, United Kingdom
CATEGORIES:26GM Myrtle 2
ATTACH;FMTTYPE=image/jpeg:https://myrtlelearning.com/wp-content/uploads/2023/08/myrtle-icon-whitejpg.jpg
ORGANIZER;CN="Abbie":MAILTO:barnesab@myrtlelearning.com
END:VEVENT
BEGIN:VEVENT
DTSTART;TZID=UTC:20270129T160000
DTEND;TZID=UTC:20270129T170000
DTSTAMP:20260422T170814
CREATED:20260121T190741Z
LAST-MODIFIED:20260126T182037Z
UID:10095977-1801238400-1801242000@myrtlelearning.com
SUMMARY:26GM Myrtle 2
DESCRIPTION:26GM Myrtle 2  \nThese group is made of students preparing for their Science exams in 2026 \nSelect the button below to join the lesson online
URL:https://myrtlelearning.com/event/26gm-myrtle-2/2027-01-29/
LOCATION:Online Session\, 25 Pattens Gardens\, Rochester\, Other\, ME1 2QP\, United Kingdom
CATEGORIES:26GM Myrtle 2
ATTACH;FMTTYPE=image/jpeg:https://myrtlelearning.com/wp-content/uploads/2023/08/myrtle-icon-whitejpg.jpg
ORGANIZER;CN="Abbie":MAILTO:barnesab@myrtlelearning.com
END:VEVENT
END:VCALENDAR