BEGIN:VCALENDAR
VERSION:2.0
PRODID:-//Myrtle Learning - ECPv6.15.3//NONSGML v1.0//EN
CALSCALE:GREGORIAN
METHOD:PUBLISH
X-ORIGINAL-URL:https://myrtlelearning.com
X-WR-CALDESC:Events for Myrtle Learning
REFRESH-INTERVAL;VALUE=DURATION:PT1H
X-Robots-Tag:noindex
X-PUBLISHED-TTL:PT1H
BEGIN:VTIMEZONE
TZID:UTC
BEGIN:STANDARD
TZOFFSETFROM:+0000
TZOFFSETTO:+0000
TZNAME:UTC
DTSTART:20280101T000000
END:STANDARD
END:VTIMEZONE
BEGIN:VEVENT
DTSTART;TZID=UTC:20281102T160000
DTEND;TZID=UTC:20281102T170000
DTSTAMP:20260423T223404
CREATED:20260121T190741Z
LAST-MODIFIED:20260126T182037Z
UID:10096160-1856793600-1856797200@myrtlelearning.com
SUMMARY:26GM Myrtle 2
DESCRIPTION:26GM Myrtle 2  \nThese group is made of students preparing for their Science exams in 2026 \nSelect the button below to join the lesson online
URL:https://myrtlelearning.com/event/26gm-myrtle-2/2028-11-02/
LOCATION:Online Session\, 25 Pattens Gardens\, Rochester\, Other\, ME1 2QP\, United Kingdom
CATEGORIES:26GM Myrtle 2
ATTACH;FMTTYPE=image/jpeg:https://myrtlelearning.com/wp-content/uploads/2023/08/myrtle-icon-whitejpg.jpg
ORGANIZER;CN="Abbie":MAILTO:barnesab@myrtlelearning.com
END:VEVENT
BEGIN:VEVENT
DTSTART;TZID=UTC:20281103T160000
DTEND;TZID=UTC:20281103T170000
DTSTAMP:20260423T223404
CREATED:20260121T190741Z
LAST-MODIFIED:20260126T182037Z
UID:10096161-1856880000-1856883600@myrtlelearning.com
SUMMARY:26GM Myrtle 2
DESCRIPTION:26GM Myrtle 2  \nThese group is made of students preparing for their Science exams in 2026 \nSelect the button below to join the lesson online
URL:https://myrtlelearning.com/event/26gm-myrtle-2/2028-11-03/
LOCATION:Online Session\, 25 Pattens Gardens\, Rochester\, Other\, ME1 2QP\, United Kingdom
CATEGORIES:26GM Myrtle 2
ATTACH;FMTTYPE=image/jpeg:https://myrtlelearning.com/wp-content/uploads/2023/08/myrtle-icon-whitejpg.jpg
ORGANIZER;CN="Abbie":MAILTO:barnesab@myrtlelearning.com
END:VEVENT
BEGIN:VEVENT
DTSTART;TZID=UTC:20281109T160000
DTEND;TZID=UTC:20281109T170000
DTSTAMP:20260423T223404
CREATED:20260121T190741Z
LAST-MODIFIED:20260126T182037Z
UID:10096162-1857398400-1857402000@myrtlelearning.com
SUMMARY:26GM Myrtle 2
DESCRIPTION:26GM Myrtle 2  \nThese group is made of students preparing for their Science exams in 2026 \nSelect the button below to join the lesson online
URL:https://myrtlelearning.com/event/26gm-myrtle-2/2028-11-09/
LOCATION:Online Session\, 25 Pattens Gardens\, Rochester\, Other\, ME1 2QP\, United Kingdom
CATEGORIES:26GM Myrtle 2
ATTACH;FMTTYPE=image/jpeg:https://myrtlelearning.com/wp-content/uploads/2023/08/myrtle-icon-whitejpg.jpg
ORGANIZER;CN="Abbie":MAILTO:barnesab@myrtlelearning.com
END:VEVENT
BEGIN:VEVENT
DTSTART;TZID=UTC:20281110T160000
DTEND;TZID=UTC:20281110T170000
DTSTAMP:20260423T223404
CREATED:20260121T190741Z
LAST-MODIFIED:20260126T182037Z
UID:10096163-1857484800-1857488400@myrtlelearning.com
SUMMARY:26GM Myrtle 2
DESCRIPTION:26GM Myrtle 2  \nThese group is made of students preparing for their Science exams in 2026 \nSelect the button below to join the lesson online
URL:https://myrtlelearning.com/event/26gm-myrtle-2/2028-11-10/
LOCATION:Online Session\, 25 Pattens Gardens\, Rochester\, Other\, ME1 2QP\, United Kingdom
CATEGORIES:26GM Myrtle 2
ATTACH;FMTTYPE=image/jpeg:https://myrtlelearning.com/wp-content/uploads/2023/08/myrtle-icon-whitejpg.jpg
ORGANIZER;CN="Abbie":MAILTO:barnesab@myrtlelearning.com
END:VEVENT
BEGIN:VEVENT
DTSTART;TZID=UTC:20281116T160000
DTEND;TZID=UTC:20281116T170000
DTSTAMP:20260423T223404
CREATED:20260121T190741Z
LAST-MODIFIED:20260126T182037Z
UID:10096164-1858003200-1858006800@myrtlelearning.com
SUMMARY:26GM Myrtle 2
DESCRIPTION:26GM Myrtle 2  \nThese group is made of students preparing for their Science exams in 2026 \nSelect the button below to join the lesson online
URL:https://myrtlelearning.com/event/26gm-myrtle-2/2028-11-16/
LOCATION:Online Session\, 25 Pattens Gardens\, Rochester\, Other\, ME1 2QP\, United Kingdom
CATEGORIES:26GM Myrtle 2
ATTACH;FMTTYPE=image/jpeg:https://myrtlelearning.com/wp-content/uploads/2023/08/myrtle-icon-whitejpg.jpg
ORGANIZER;CN="Abbie":MAILTO:barnesab@myrtlelearning.com
END:VEVENT
BEGIN:VEVENT
DTSTART;TZID=UTC:20281117T160000
DTEND;TZID=UTC:20281117T170000
DTSTAMP:20260423T223404
CREATED:20260121T190741Z
LAST-MODIFIED:20260126T182037Z
UID:10096165-1858089600-1858093200@myrtlelearning.com
SUMMARY:26GM Myrtle 2
DESCRIPTION:26GM Myrtle 2  \nThese group is made of students preparing for their Science exams in 2026 \nSelect the button below to join the lesson online
URL:https://myrtlelearning.com/event/26gm-myrtle-2/2028-11-17/
LOCATION:Online Session\, 25 Pattens Gardens\, Rochester\, Other\, ME1 2QP\, United Kingdom
CATEGORIES:26GM Myrtle 2
ATTACH;FMTTYPE=image/jpeg:https://myrtlelearning.com/wp-content/uploads/2023/08/myrtle-icon-whitejpg.jpg
ORGANIZER;CN="Abbie":MAILTO:barnesab@myrtlelearning.com
END:VEVENT
BEGIN:VEVENT
DTSTART;TZID=UTC:20281123T160000
DTEND;TZID=UTC:20281123T170000
DTSTAMP:20260423T223404
CREATED:20260121T190741Z
LAST-MODIFIED:20260126T182037Z
UID:10096166-1858608000-1858611600@myrtlelearning.com
SUMMARY:26GM Myrtle 2
DESCRIPTION:26GM Myrtle 2  \nThese group is made of students preparing for their Science exams in 2026 \nSelect the button below to join the lesson online
URL:https://myrtlelearning.com/event/26gm-myrtle-2/2028-11-23/
LOCATION:Online Session\, 25 Pattens Gardens\, Rochester\, Other\, ME1 2QP\, United Kingdom
CATEGORIES:26GM Myrtle 2
ATTACH;FMTTYPE=image/jpeg:https://myrtlelearning.com/wp-content/uploads/2023/08/myrtle-icon-whitejpg.jpg
ORGANIZER;CN="Abbie":MAILTO:barnesab@myrtlelearning.com
END:VEVENT
BEGIN:VEVENT
DTSTART;TZID=UTC:20281124T160000
DTEND;TZID=UTC:20281124T170000
DTSTAMP:20260423T223404
CREATED:20260121T190741Z
LAST-MODIFIED:20260126T182037Z
UID:10096167-1858694400-1858698000@myrtlelearning.com
SUMMARY:26GM Myrtle 2
DESCRIPTION:26GM Myrtle 2  \nThese group is made of students preparing for their Science exams in 2026 \nSelect the button below to join the lesson online
URL:https://myrtlelearning.com/event/26gm-myrtle-2/2028-11-24/
LOCATION:Online Session\, 25 Pattens Gardens\, Rochester\, Other\, ME1 2QP\, United Kingdom
CATEGORIES:26GM Myrtle 2
ATTACH;FMTTYPE=image/jpeg:https://myrtlelearning.com/wp-content/uploads/2023/08/myrtle-icon-whitejpg.jpg
ORGANIZER;CN="Abbie":MAILTO:barnesab@myrtlelearning.com
END:VEVENT
BEGIN:VEVENT
DTSTART;TZID=UTC:20281130T160000
DTEND;TZID=UTC:20281130T170000
DTSTAMP:20260423T223404
CREATED:20260121T190741Z
LAST-MODIFIED:20260126T182037Z
UID:10096168-1859212800-1859216400@myrtlelearning.com
SUMMARY:26GM Myrtle 2
DESCRIPTION:26GM Myrtle 2  \nThese group is made of students preparing for their Science exams in 2026 \nSelect the button below to join the lesson online
URL:https://myrtlelearning.com/event/26gm-myrtle-2/2028-11-30/
LOCATION:Online Session\, 25 Pattens Gardens\, Rochester\, Other\, ME1 2QP\, United Kingdom
CATEGORIES:26GM Myrtle 2
ATTACH;FMTTYPE=image/jpeg:https://myrtlelearning.com/wp-content/uploads/2023/08/myrtle-icon-whitejpg.jpg
ORGANIZER;CN="Abbie":MAILTO:barnesab@myrtlelearning.com
END:VEVENT
END:VCALENDAR