BEGIN:VCALENDAR
VERSION:2.0
PRODID:-//Myrtle Learning - ECPv6.15.3//NONSGML v1.0//EN
CALSCALE:GREGORIAN
METHOD:PUBLISH
X-WR-CALNAME:Myrtle Learning
X-ORIGINAL-URL:https://myrtlelearning.com
X-WR-CALDESC:Events for Myrtle Learning
REFRESH-INTERVAL;VALUE=DURATION:PT1H
X-Robots-Tag:noindex
X-PUBLISHED-TTL:PT1H
BEGIN:VTIMEZONE
TZID:UTC
BEGIN:STANDARD
TZOFFSETFROM:+0000
TZOFFSETTO:+0000
TZNAME:UTC
DTSTART:20280101T000000
END:STANDARD
END:VTIMEZONE
BEGIN:VEVENT
DTSTART;TZID=UTC:20281201T160000
DTEND;TZID=UTC:20281201T170000
DTSTAMP:20260423T233539
CREATED:20260121T190741Z
LAST-MODIFIED:20260126T182037Z
UID:10096169-1859299200-1859302800@myrtlelearning.com
SUMMARY:26GM Myrtle 2
DESCRIPTION:26GM Myrtle 2  \nThese group is made of students preparing for their Science exams in 2026 \nSelect the button below to join the lesson online
URL:https://myrtlelearning.com/event/26gm-myrtle-2/2028-12-01/
LOCATION:Online Session\, 25 Pattens Gardens\, Rochester\, Other\, ME1 2QP\, United Kingdom
CATEGORIES:26GM Myrtle 2
ATTACH;FMTTYPE=image/jpeg:https://myrtlelearning.com/wp-content/uploads/2023/08/myrtle-icon-whitejpg.jpg
ORGANIZER;CN="Abbie":MAILTO:barnesab@myrtlelearning.com
END:VEVENT
BEGIN:VEVENT
DTSTART;TZID=UTC:20281207T160000
DTEND;TZID=UTC:20281207T170000
DTSTAMP:20260423T233539
CREATED:20260121T190741Z
LAST-MODIFIED:20260126T182037Z
UID:10096170-1859817600-1859821200@myrtlelearning.com
SUMMARY:26GM Myrtle 2
DESCRIPTION:26GM Myrtle 2  \nThese group is made of students preparing for their Science exams in 2026 \nSelect the button below to join the lesson online
URL:https://myrtlelearning.com/event/26gm-myrtle-2/2028-12-07/
LOCATION:Online Session\, 25 Pattens Gardens\, Rochester\, Other\, ME1 2QP\, United Kingdom
CATEGORIES:26GM Myrtle 2
ATTACH;FMTTYPE=image/jpeg:https://myrtlelearning.com/wp-content/uploads/2023/08/myrtle-icon-whitejpg.jpg
ORGANIZER;CN="Abbie":MAILTO:barnesab@myrtlelearning.com
END:VEVENT
BEGIN:VEVENT
DTSTART;TZID=UTC:20281208T160000
DTEND;TZID=UTC:20281208T170000
DTSTAMP:20260423T233539
CREATED:20260121T190741Z
LAST-MODIFIED:20260126T182037Z
UID:10096171-1859904000-1859907600@myrtlelearning.com
SUMMARY:26GM Myrtle 2
DESCRIPTION:26GM Myrtle 2  \nThese group is made of students preparing for their Science exams in 2026 \nSelect the button below to join the lesson online
URL:https://myrtlelearning.com/event/26gm-myrtle-2/2028-12-08/
LOCATION:Online Session\, 25 Pattens Gardens\, Rochester\, Other\, ME1 2QP\, United Kingdom
CATEGORIES:26GM Myrtle 2
ATTACH;FMTTYPE=image/jpeg:https://myrtlelearning.com/wp-content/uploads/2023/08/myrtle-icon-whitejpg.jpg
ORGANIZER;CN="Abbie":MAILTO:barnesab@myrtlelearning.com
END:VEVENT
BEGIN:VEVENT
DTSTART;TZID=UTC:20281214T160000
DTEND;TZID=UTC:20281214T170000
DTSTAMP:20260423T233539
CREATED:20260121T190741Z
LAST-MODIFIED:20260126T182037Z
UID:10096172-1860422400-1860426000@myrtlelearning.com
SUMMARY:26GM Myrtle 2
DESCRIPTION:26GM Myrtle 2  \nThese group is made of students preparing for their Science exams in 2026 \nSelect the button below to join the lesson online
URL:https://myrtlelearning.com/event/26gm-myrtle-2/2028-12-14/
LOCATION:Online Session\, 25 Pattens Gardens\, Rochester\, Other\, ME1 2QP\, United Kingdom
CATEGORIES:26GM Myrtle 2
ATTACH;FMTTYPE=image/jpeg:https://myrtlelearning.com/wp-content/uploads/2023/08/myrtle-icon-whitejpg.jpg
ORGANIZER;CN="Abbie":MAILTO:barnesab@myrtlelearning.com
END:VEVENT
BEGIN:VEVENT
DTSTART;TZID=UTC:20281215T160000
DTEND;TZID=UTC:20281215T170000
DTSTAMP:20260423T233539
CREATED:20260121T190741Z
LAST-MODIFIED:20260126T182037Z
UID:10096173-1860508800-1860512400@myrtlelearning.com
SUMMARY:26GM Myrtle 2
DESCRIPTION:26GM Myrtle 2  \nThese group is made of students preparing for their Science exams in 2026 \nSelect the button below to join the lesson online
URL:https://myrtlelearning.com/event/26gm-myrtle-2/2028-12-15/
LOCATION:Online Session\, 25 Pattens Gardens\, Rochester\, Other\, ME1 2QP\, United Kingdom
CATEGORIES:26GM Myrtle 2
ATTACH;FMTTYPE=image/jpeg:https://myrtlelearning.com/wp-content/uploads/2023/08/myrtle-icon-whitejpg.jpg
ORGANIZER;CN="Abbie":MAILTO:barnesab@myrtlelearning.com
END:VEVENT
BEGIN:VEVENT
DTSTART;TZID=UTC:20281221T160000
DTEND;TZID=UTC:20281221T170000
DTSTAMP:20260423T233539
CREATED:20260121T190741Z
LAST-MODIFIED:20260126T182037Z
UID:10096174-1861027200-1861030800@myrtlelearning.com
SUMMARY:26GM Myrtle 2
DESCRIPTION:26GM Myrtle 2  \nThese group is made of students preparing for their Science exams in 2026 \nSelect the button below to join the lesson online
URL:https://myrtlelearning.com/event/26gm-myrtle-2/2028-12-21/
LOCATION:Online Session\, 25 Pattens Gardens\, Rochester\, Other\, ME1 2QP\, United Kingdom
CATEGORIES:26GM Myrtle 2
ATTACH;FMTTYPE=image/jpeg:https://myrtlelearning.com/wp-content/uploads/2023/08/myrtle-icon-whitejpg.jpg
ORGANIZER;CN="Abbie":MAILTO:barnesab@myrtlelearning.com
END:VEVENT
BEGIN:VEVENT
DTSTART;TZID=UTC:20281222T160000
DTEND;TZID=UTC:20281222T170000
DTSTAMP:20260423T233539
CREATED:20260121T190741Z
LAST-MODIFIED:20260126T182037Z
UID:10096175-1861113600-1861117200@myrtlelearning.com
SUMMARY:26GM Myrtle 2
DESCRIPTION:26GM Myrtle 2  \nThese group is made of students preparing for their Science exams in 2026 \nSelect the button below to join the lesson online
URL:https://myrtlelearning.com/event/26gm-myrtle-2/2028-12-22/
LOCATION:Online Session\, 25 Pattens Gardens\, Rochester\, Other\, ME1 2QP\, United Kingdom
CATEGORIES:26GM Myrtle 2
ATTACH;FMTTYPE=image/jpeg:https://myrtlelearning.com/wp-content/uploads/2023/08/myrtle-icon-whitejpg.jpg
ORGANIZER;CN="Abbie":MAILTO:barnesab@myrtlelearning.com
END:VEVENT
BEGIN:VEVENT
DTSTART;TZID=UTC:20281228T160000
DTEND;TZID=UTC:20281228T170000
DTSTAMP:20260423T233539
CREATED:20260121T190741Z
LAST-MODIFIED:20260126T182037Z
UID:10096176-1861632000-1861635600@myrtlelearning.com
SUMMARY:26GM Myrtle 2
DESCRIPTION:26GM Myrtle 2  \nThese group is made of students preparing for their Science exams in 2026 \nSelect the button below to join the lesson online
URL:https://myrtlelearning.com/event/26gm-myrtle-2/2028-12-28/
LOCATION:Online Session\, 25 Pattens Gardens\, Rochester\, Other\, ME1 2QP\, United Kingdom
CATEGORIES:26GM Myrtle 2
ATTACH;FMTTYPE=image/jpeg:https://myrtlelearning.com/wp-content/uploads/2023/08/myrtle-icon-whitejpg.jpg
ORGANIZER;CN="Abbie":MAILTO:barnesab@myrtlelearning.com
END:VEVENT
BEGIN:VEVENT
DTSTART;TZID=UTC:20281229T160000
DTEND;TZID=UTC:20281229T170000
DTSTAMP:20260423T233539
CREATED:20260121T190741Z
LAST-MODIFIED:20260126T182037Z
UID:10096177-1861718400-1861722000@myrtlelearning.com
SUMMARY:26GM Myrtle 2
DESCRIPTION:26GM Myrtle 2  \nThese group is made of students preparing for their Science exams in 2026 \nSelect the button below to join the lesson online
URL:https://myrtlelearning.com/event/26gm-myrtle-2/2028-12-29/
LOCATION:Online Session\, 25 Pattens Gardens\, Rochester\, Other\, ME1 2QP\, United Kingdom
CATEGORIES:26GM Myrtle 2
ATTACH;FMTTYPE=image/jpeg:https://myrtlelearning.com/wp-content/uploads/2023/08/myrtle-icon-whitejpg.jpg
ORGANIZER;CN="Abbie":MAILTO:barnesab@myrtlelearning.com
END:VEVENT
END:VCALENDAR