BEGIN:VCALENDAR
VERSION:2.0
PRODID:-//Myrtle Learning - ECPv6.15.3//NONSGML v1.0//EN
CALSCALE:GREGORIAN
METHOD:PUBLISH
X-WR-CALNAME:Myrtle Learning
X-ORIGINAL-URL:https://myrtlelearning.com
X-WR-CALDESC:Events for Myrtle Learning
REFRESH-INTERVAL;VALUE=DURATION:PT1H
X-Robots-Tag:noindex
X-PUBLISHED-TTL:PT1H
BEGIN:VTIMEZONE
TZID:UTC
BEGIN:STANDARD
TZOFFSETFROM:+0000
TZOFFSETTO:+0000
TZNAME:UTC
DTSTART:20260101T000000
END:STANDARD
END:VTIMEZONE
BEGIN:VEVENT
DTSTART;TZID=UTC:20260804T190000
DTEND;TZID=UTC:20260804T210000
DTSTAMP:20260421T191248
CREATED:20240618T183144Z
LAST-MODIFIED:20240618T205400Z
UID:10035983-1785870000-1785877200@myrtlelearning.com
SUMMARY:26GS Myrtle 3
DESCRIPTION:26GS Myrtle 3 \nThese group is made of students preparing for their Science exams in 2026 \nSelect the button below to join the lesson online
URL:https://myrtlelearning.com/event/26gs-myrtle-3/2026-08-04/
LOCATION:Online Session\, 25 Pattens Gardens\, Rochester\, Other\, ME1 2QP\, United Kingdom
CATEGORIES:26GS Myrtle 3
ATTACH;FMTTYPE=image/jpeg:https://myrtlelearning.com/wp-content/uploads/2023/08/myrtle-icon-whitejpg.jpg
END:VEVENT
BEGIN:VEVENT
DTSTART;TZID=UTC:20260811T190000
DTEND;TZID=UTC:20260811T210000
DTSTAMP:20260421T191248
CREATED:20240618T183144Z
LAST-MODIFIED:20240618T205400Z
UID:10035984-1786474800-1786482000@myrtlelearning.com
SUMMARY:26GS Myrtle 3
DESCRIPTION:26GS Myrtle 3 \nThese group is made of students preparing for their Science exams in 2026 \nSelect the button below to join the lesson online
URL:https://myrtlelearning.com/event/26gs-myrtle-3/2026-08-11/
LOCATION:Online Session\, 25 Pattens Gardens\, Rochester\, Other\, ME1 2QP\, United Kingdom
CATEGORIES:26GS Myrtle 3
ATTACH;FMTTYPE=image/jpeg:https://myrtlelearning.com/wp-content/uploads/2023/08/myrtle-icon-whitejpg.jpg
END:VEVENT
BEGIN:VEVENT
DTSTART;TZID=UTC:20260818T190000
DTEND;TZID=UTC:20260818T210000
DTSTAMP:20260421T191248
CREATED:20240618T183144Z
LAST-MODIFIED:20240618T205400Z
UID:10035985-1787079600-1787086800@myrtlelearning.com
SUMMARY:26GS Myrtle 3
DESCRIPTION:26GS Myrtle 3 \nThese group is made of students preparing for their Science exams in 2026 \nSelect the button below to join the lesson online
URL:https://myrtlelearning.com/event/26gs-myrtle-3/2026-08-18/
LOCATION:Online Session\, 25 Pattens Gardens\, Rochester\, Other\, ME1 2QP\, United Kingdom
CATEGORIES:26GS Myrtle 3
ATTACH;FMTTYPE=image/jpeg:https://myrtlelearning.com/wp-content/uploads/2023/08/myrtle-icon-whitejpg.jpg
END:VEVENT
BEGIN:VEVENT
DTSTART;TZID=UTC:20260825T190000
DTEND;TZID=UTC:20260825T210000
DTSTAMP:20260421T191248
CREATED:20240618T183144Z
LAST-MODIFIED:20240618T205400Z
UID:10035986-1787684400-1787691600@myrtlelearning.com
SUMMARY:26GS Myrtle 3
DESCRIPTION:26GS Myrtle 3 \nThese group is made of students preparing for their Science exams in 2026 \nSelect the button below to join the lesson online
URL:https://myrtlelearning.com/event/26gs-myrtle-3/2026-08-25/
LOCATION:Online Session\, 25 Pattens Gardens\, Rochester\, Other\, ME1 2QP\, United Kingdom
CATEGORIES:26GS Myrtle 3
ATTACH;FMTTYPE=image/jpeg:https://myrtlelearning.com/wp-content/uploads/2023/08/myrtle-icon-whitejpg.jpg
END:VEVENT
END:VCALENDAR