BEGIN:VCALENDAR
VERSION:2.0
PRODID:-//Myrtle Learning - ECPv6.15.3//NONSGML v1.0//EN
CALSCALE:GREGORIAN
METHOD:PUBLISH
X-ORIGINAL-URL:https://myrtlelearning.com
X-WR-CALDESC:Events for Myrtle Learning
REFRESH-INTERVAL;VALUE=DURATION:PT1H
X-Robots-Tag:noindex
X-PUBLISHED-TTL:PT1H
BEGIN:VTIMEZONE
TZID:UTC
BEGIN:STANDARD
TZOFFSETFROM:+0000
TZOFFSETTO:+0000
TZNAME:UTC
DTSTART:20280101T000000
END:STANDARD
END:VTIMEZONE
BEGIN:VEVENT
DTSTART;TZID=UTC:20280606T190000
DTEND;TZID=UTC:20280606T210000
DTSTAMP:20260423T033008
CREATED:20240618T183144Z
LAST-MODIFIED:20240618T205400Z
UID:10036079-1843930800-1843938000@myrtlelearning.com
SUMMARY:26GS Myrtle 3
DESCRIPTION:26GS Myrtle 3 \nThese group is made of students preparing for their Science exams in 2026 \nSelect the button below to join the lesson online
URL:https://myrtlelearning.com/event/26gs-myrtle-3/2028-06-06/
LOCATION:Online Session\, 25 Pattens Gardens\, Rochester\, Other\, ME1 2QP\, United Kingdom
CATEGORIES:26GS Myrtle 3
ATTACH;FMTTYPE=image/jpeg:https://myrtlelearning.com/wp-content/uploads/2023/08/myrtle-icon-whitejpg.jpg
END:VEVENT
BEGIN:VEVENT
DTSTART;TZID=UTC:20280613T190000
DTEND;TZID=UTC:20280613T210000
DTSTAMP:20260423T033008
CREATED:20240618T183144Z
LAST-MODIFIED:20240618T205400Z
UID:10036080-1844535600-1844542800@myrtlelearning.com
SUMMARY:26GS Myrtle 3
DESCRIPTION:26GS Myrtle 3 \nThese group is made of students preparing for their Science exams in 2026 \nSelect the button below to join the lesson online
URL:https://myrtlelearning.com/event/26gs-myrtle-3/2028-06-13/
LOCATION:Online Session\, 25 Pattens Gardens\, Rochester\, Other\, ME1 2QP\, United Kingdom
CATEGORIES:26GS Myrtle 3
ATTACH;FMTTYPE=image/jpeg:https://myrtlelearning.com/wp-content/uploads/2023/08/myrtle-icon-whitejpg.jpg
END:VEVENT
BEGIN:VEVENT
DTSTART;TZID=UTC:20280620T190000
DTEND;TZID=UTC:20280620T210000
DTSTAMP:20260423T033008
CREATED:20240618T183144Z
LAST-MODIFIED:20240618T205400Z
UID:10036081-1845140400-1845147600@myrtlelearning.com
SUMMARY:26GS Myrtle 3
DESCRIPTION:26GS Myrtle 3 \nThese group is made of students preparing for their Science exams in 2026 \nSelect the button below to join the lesson online
URL:https://myrtlelearning.com/event/26gs-myrtle-3/2028-06-20/
LOCATION:Online Session\, 25 Pattens Gardens\, Rochester\, Other\, ME1 2QP\, United Kingdom
CATEGORIES:26GS Myrtle 3
ATTACH;FMTTYPE=image/jpeg:https://myrtlelearning.com/wp-content/uploads/2023/08/myrtle-icon-whitejpg.jpg
END:VEVENT
BEGIN:VEVENT
DTSTART;TZID=UTC:20280627T190000
DTEND;TZID=UTC:20280627T210000
DTSTAMP:20260423T033008
CREATED:20240618T183144Z
LAST-MODIFIED:20240618T205400Z
UID:10036082-1845745200-1845752400@myrtlelearning.com
SUMMARY:26GS Myrtle 3
DESCRIPTION:26GS Myrtle 3 \nThese group is made of students preparing for their Science exams in 2026 \nSelect the button below to join the lesson online
URL:https://myrtlelearning.com/event/26gs-myrtle-3/2028-06-27/
LOCATION:Online Session\, 25 Pattens Gardens\, Rochester\, Other\, ME1 2QP\, United Kingdom
CATEGORIES:26GS Myrtle 3
ATTACH;FMTTYPE=image/jpeg:https://myrtlelearning.com/wp-content/uploads/2023/08/myrtle-icon-whitejpg.jpg
END:VEVENT
END:VCALENDAR