BEGIN:VCALENDAR
VERSION:2.0
PRODID:-//Myrtle Learning - ECPv6.15.3//NONSGML v1.0//EN
CALSCALE:GREGORIAN
METHOD:PUBLISH
X-WR-CALNAME:Myrtle Learning
X-ORIGINAL-URL:https://myrtlelearning.com
X-WR-CALDESC:Events for Myrtle Learning
REFRESH-INTERVAL;VALUE=DURATION:PT1H
X-Robots-Tag:noindex
X-PUBLISHED-TTL:PT1H
BEGIN:VTIMEZONE
TZID:UTC
BEGIN:STANDARD
TZOFFSETFROM:+0000
TZOFFSETTO:+0000
TZNAME:UTC
DTSTART:20280101T000000
END:STANDARD
END:VTIMEZONE
BEGIN:VEVENT
DTSTART;TZID=UTC:20280304T140000
DTEND;TZID=UTC:20280304T160000
DTSTAMP:20260423T001634
CREATED:20260207T122305Z
LAST-MODIFIED:20260207T122305Z
UID:10097870-1835791200-1835798400@myrtlelearning.com
SUMMARY:27ALM Myrtle 1
DESCRIPTION:27ALM Myrtle 1 \nThis lesson covers Year 12 mathematics on Saturday. \nSelect the button below to join the lesson online
URL:https://myrtlelearning.com/event/27alm-myrtle-1/2028-03-04/
LOCATION:Online Session\, 25 Pattens Gardens\, Rochester\, Other\, ME1 2QP\, United Kingdom
CATEGORIES:27ALM Myrtle 1
ATTACH;FMTTYPE=image/jpeg:https://myrtlelearning.com/wp-content/uploads/2023/08/myrtle-icon-whitejpg.jpg
ORGANIZER;CN="Abbie":MAILTO:barnesab@myrtlelearning.com
END:VEVENT
BEGIN:VEVENT
DTSTART;TZID=UTC:20280311T140000
DTEND;TZID=UTC:20280311T160000
DTSTAMP:20260423T001634
CREATED:20260207T122305Z
LAST-MODIFIED:20260207T122305Z
UID:10097871-1836396000-1836403200@myrtlelearning.com
SUMMARY:27ALM Myrtle 1
DESCRIPTION:27ALM Myrtle 1 \nThis lesson covers Year 12 mathematics on Saturday. \nSelect the button below to join the lesson online
URL:https://myrtlelearning.com/event/27alm-myrtle-1/2028-03-11/
LOCATION:Online Session\, 25 Pattens Gardens\, Rochester\, Other\, ME1 2QP\, United Kingdom
CATEGORIES:27ALM Myrtle 1
ATTACH;FMTTYPE=image/jpeg:https://myrtlelearning.com/wp-content/uploads/2023/08/myrtle-icon-whitejpg.jpg
ORGANIZER;CN="Abbie":MAILTO:barnesab@myrtlelearning.com
END:VEVENT
BEGIN:VEVENT
DTSTART;TZID=UTC:20280318T140000
DTEND;TZID=UTC:20280318T160000
DTSTAMP:20260423T001634
CREATED:20260207T122305Z
LAST-MODIFIED:20260207T122305Z
UID:10097872-1837000800-1837008000@myrtlelearning.com
SUMMARY:27ALM Myrtle 1
DESCRIPTION:27ALM Myrtle 1 \nThis lesson covers Year 12 mathematics on Saturday. \nSelect the button below to join the lesson online
URL:https://myrtlelearning.com/event/27alm-myrtle-1/2028-03-18/
LOCATION:Online Session\, 25 Pattens Gardens\, Rochester\, Other\, ME1 2QP\, United Kingdom
CATEGORIES:27ALM Myrtle 1
ATTACH;FMTTYPE=image/jpeg:https://myrtlelearning.com/wp-content/uploads/2023/08/myrtle-icon-whitejpg.jpg
ORGANIZER;CN="Abbie":MAILTO:barnesab@myrtlelearning.com
END:VEVENT
BEGIN:VEVENT
DTSTART;TZID=UTC:20280325T140000
DTEND;TZID=UTC:20280325T160000
DTSTAMP:20260423T001634
CREATED:20260207T122305Z
LAST-MODIFIED:20260207T122305Z
UID:10097873-1837605600-1837612800@myrtlelearning.com
SUMMARY:27ALM Myrtle 1
DESCRIPTION:27ALM Myrtle 1 \nThis lesson covers Year 12 mathematics on Saturday. \nSelect the button below to join the lesson online
URL:https://myrtlelearning.com/event/27alm-myrtle-1/2028-03-25/
LOCATION:Online Session\, 25 Pattens Gardens\, Rochester\, Other\, ME1 2QP\, United Kingdom
CATEGORIES:27ALM Myrtle 1
ATTACH;FMTTYPE=image/jpeg:https://myrtlelearning.com/wp-content/uploads/2023/08/myrtle-icon-whitejpg.jpg
ORGANIZER;CN="Abbie":MAILTO:barnesab@myrtlelearning.com
END:VEVENT
END:VCALENDAR