BEGIN:VCALENDAR
VERSION:2.0
PRODID:-//Myrtle Learning - ECPv6.15.3//NONSGML v1.0//EN
CALSCALE:GREGORIAN
METHOD:PUBLISH
X-ORIGINAL-URL:https://myrtlelearning.com
X-WR-CALDESC:Events for Myrtle Learning
REFRESH-INTERVAL;VALUE=DURATION:PT1H
X-Robots-Tag:noindex
X-PUBLISHED-TTL:PT1H
BEGIN:VTIMEZONE
TZID:UTC
BEGIN:STANDARD
TZOFFSETFROM:+0000
TZOFFSETTO:+0000
TZNAME:UTC
DTSTART:20280101T000000
END:STANDARD
END:VTIMEZONE
BEGIN:VEVENT
DTSTART;TZID=UTC:20280304T140000
DTEND;TZID=UTC:20280304T170000
DTSTAMP:20260422T230118
CREATED:20251014T084619Z
LAST-MODIFIED:20260126T122049Z
UID:10082204-1835791200-1835802000@myrtlelearning.com
SUMMARY:27EP Myrtle 2 Ma/EVR
DESCRIPTION:27EP Myrtle 2 Ma/EVR \nThese group is made of students preparing for their 11plus exams in 2027 \nSelect the button below to join the lesson online
URL:https://myrtlelearning.com/event/27ep-myrtle-2-ma-evr/2028-03-04/
LOCATION:Myrtle Learning Centre\, Pattens Gardens\, Rochester\, Kent\, ME1 2QP\, United Kingdom
CATEGORIES:27EP Myrtle 2 Ma/EVR
ATTACH;FMTTYPE=image/jpeg:https://myrtlelearning.com/wp-content/uploads/2023/08/myrtle-icon-whitejpg.jpg
END:VEVENT
BEGIN:VEVENT
DTSTART;TZID=UTC:20280311T140000
DTEND;TZID=UTC:20280311T170000
DTSTAMP:20260422T230118
CREATED:20251014T084619Z
LAST-MODIFIED:20260126T122049Z
UID:10082205-1836396000-1836406800@myrtlelearning.com
SUMMARY:27EP Myrtle 2 Ma/EVR
DESCRIPTION:27EP Myrtle 2 Ma/EVR \nThese group is made of students preparing for their 11plus exams in 2027 \nSelect the button below to join the lesson online
URL:https://myrtlelearning.com/event/27ep-myrtle-2-ma-evr/2028-03-11/
LOCATION:Myrtle Learning Centre\, Pattens Gardens\, Rochester\, Kent\, ME1 2QP\, United Kingdom
CATEGORIES:27EP Myrtle 2 Ma/EVR
ATTACH;FMTTYPE=image/jpeg:https://myrtlelearning.com/wp-content/uploads/2023/08/myrtle-icon-whitejpg.jpg
END:VEVENT
BEGIN:VEVENT
DTSTART;TZID=UTC:20280318T140000
DTEND;TZID=UTC:20280318T170000
DTSTAMP:20260422T230118
CREATED:20251014T084619Z
LAST-MODIFIED:20260126T122049Z
UID:10082206-1837000800-1837011600@myrtlelearning.com
SUMMARY:27EP Myrtle 2 Ma/EVR
DESCRIPTION:27EP Myrtle 2 Ma/EVR \nThese group is made of students preparing for their 11plus exams in 2027 \nSelect the button below to join the lesson online
URL:https://myrtlelearning.com/event/27ep-myrtle-2-ma-evr/2028-03-18/
LOCATION:Myrtle Learning Centre\, Pattens Gardens\, Rochester\, Kent\, ME1 2QP\, United Kingdom
CATEGORIES:27EP Myrtle 2 Ma/EVR
ATTACH;FMTTYPE=image/jpeg:https://myrtlelearning.com/wp-content/uploads/2023/08/myrtle-icon-whitejpg.jpg
END:VEVENT
BEGIN:VEVENT
DTSTART;TZID=UTC:20280325T140000
DTEND;TZID=UTC:20280325T170000
DTSTAMP:20260422T230118
CREATED:20251014T084619Z
LAST-MODIFIED:20260126T122049Z
UID:10082207-1837605600-1837616400@myrtlelearning.com
SUMMARY:27EP Myrtle 2 Ma/EVR
DESCRIPTION:27EP Myrtle 2 Ma/EVR \nThese group is made of students preparing for their 11plus exams in 2027 \nSelect the button below to join the lesson online
URL:https://myrtlelearning.com/event/27ep-myrtle-2-ma-evr/2028-03-25/
LOCATION:Myrtle Learning Centre\, Pattens Gardens\, Rochester\, Kent\, ME1 2QP\, United Kingdom
CATEGORIES:27EP Myrtle 2 Ma/EVR
ATTACH;FMTTYPE=image/jpeg:https://myrtlelearning.com/wp-content/uploads/2023/08/myrtle-icon-whitejpg.jpg
END:VEVENT
END:VCALENDAR