BEGIN:VCALENDAR
VERSION:2.0
PRODID:-//Myrtle Learning - ECPv6.15.3//NONSGML v1.0//EN
CALSCALE:GREGORIAN
METHOD:PUBLISH
X-WR-CALNAME:Myrtle Learning
X-ORIGINAL-URL:https://myrtlelearning.com
X-WR-CALDESC:Events for Myrtle Learning
REFRESH-INTERVAL;VALUE=DURATION:PT1H
X-Robots-Tag:noindex
X-PUBLISHED-TTL:PT1H
BEGIN:VTIMEZONE
TZID:UTC
BEGIN:STANDARD
TZOFFSETFROM:+0000
TZOFFSETTO:+0000
TZNAME:UTC
DTSTART:20280101T000000
END:STANDARD
END:VTIMEZONE
BEGIN:VEVENT
DTSTART;TZID=UTC:20280603T140000
DTEND;TZID=UTC:20280603T170000
DTSTAMP:20260423T022657
CREATED:20251014T084619Z
LAST-MODIFIED:20260126T122049Z
UID:10082217-1843653600-1843664400@myrtlelearning.com
SUMMARY:27EP Myrtle 2 Ma/EVR
DESCRIPTION:27EP Myrtle 2 Ma/EVR \nThese group is made of students preparing for their 11plus exams in 2027 \nSelect the button below to join the lesson online
URL:https://myrtlelearning.com/event/27ep-myrtle-2-ma-evr/2028-06-03/
LOCATION:Myrtle Learning Centre\, Pattens Gardens\, Rochester\, Kent\, ME1 2QP\, United Kingdom
CATEGORIES:27EP Myrtle 2 Ma/EVR
ATTACH;FMTTYPE=image/jpeg:https://myrtlelearning.com/wp-content/uploads/2023/08/myrtle-icon-whitejpg.jpg
END:VEVENT
BEGIN:VEVENT
DTSTART;TZID=UTC:20280610T140000
DTEND;TZID=UTC:20280610T170000
DTSTAMP:20260423T022657
CREATED:20251014T084619Z
LAST-MODIFIED:20260126T122049Z
UID:10082218-1844258400-1844269200@myrtlelearning.com
SUMMARY:27EP Myrtle 2 Ma/EVR
DESCRIPTION:27EP Myrtle 2 Ma/EVR \nThese group is made of students preparing for their 11plus exams in 2027 \nSelect the button below to join the lesson online
URL:https://myrtlelearning.com/event/27ep-myrtle-2-ma-evr/2028-06-10/
LOCATION:Myrtle Learning Centre\, Pattens Gardens\, Rochester\, Kent\, ME1 2QP\, United Kingdom
CATEGORIES:27EP Myrtle 2 Ma/EVR
ATTACH;FMTTYPE=image/jpeg:https://myrtlelearning.com/wp-content/uploads/2023/08/myrtle-icon-whitejpg.jpg
END:VEVENT
BEGIN:VEVENT
DTSTART;TZID=UTC:20280617T140000
DTEND;TZID=UTC:20280617T170000
DTSTAMP:20260423T022657
CREATED:20251014T084619Z
LAST-MODIFIED:20260126T122049Z
UID:10082219-1844863200-1844874000@myrtlelearning.com
SUMMARY:27EP Myrtle 2 Ma/EVR
DESCRIPTION:27EP Myrtle 2 Ma/EVR \nThese group is made of students preparing for their 11plus exams in 2027 \nSelect the button below to join the lesson online
URL:https://myrtlelearning.com/event/27ep-myrtle-2-ma-evr/2028-06-17/
LOCATION:Myrtle Learning Centre\, Pattens Gardens\, Rochester\, Kent\, ME1 2QP\, United Kingdom
CATEGORIES:27EP Myrtle 2 Ma/EVR
ATTACH;FMTTYPE=image/jpeg:https://myrtlelearning.com/wp-content/uploads/2023/08/myrtle-icon-whitejpg.jpg
END:VEVENT
BEGIN:VEVENT
DTSTART;TZID=UTC:20280624T140000
DTEND;TZID=UTC:20280624T170000
DTSTAMP:20260423T022657
CREATED:20251014T084619Z
LAST-MODIFIED:20260126T122049Z
UID:10082220-1845468000-1845478800@myrtlelearning.com
SUMMARY:27EP Myrtle 2 Ma/EVR
DESCRIPTION:27EP Myrtle 2 Ma/EVR \nThese group is made of students preparing for their 11plus exams in 2027 \nSelect the button below to join the lesson online
URL:https://myrtlelearning.com/event/27ep-myrtle-2-ma-evr/2028-06-24/
LOCATION:Myrtle Learning Centre\, Pattens Gardens\, Rochester\, Kent\, ME1 2QP\, United Kingdom
CATEGORIES:27EP Myrtle 2 Ma/EVR
ATTACH;FMTTYPE=image/jpeg:https://myrtlelearning.com/wp-content/uploads/2023/08/myrtle-icon-whitejpg.jpg
END:VEVENT
END:VCALENDAR