BEGIN:VCALENDAR
VERSION:2.0
PRODID:-//Myrtle Learning - ECPv6.15.3//NONSGML v1.0//EN
CALSCALE:GREGORIAN
METHOD:PUBLISH
X-ORIGINAL-URL:https://myrtlelearning.com
X-WR-CALDESC:Events for Myrtle Learning
REFRESH-INTERVAL;VALUE=DURATION:PT1H
X-Robots-Tag:noindex
X-PUBLISHED-TTL:PT1H
BEGIN:VTIMEZONE
TZID:UTC
BEGIN:STANDARD
TZOFFSETFROM:+0000
TZOFFSETTO:+0000
TZNAME:UTC
DTSTART:20250101T000000
END:STANDARD
END:VTIMEZONE
BEGIN:VEVENT
DTSTART;TZID=UTC:20251106T100000
DTEND;TZID=UTC:20251106T120000
DTSTAMP:20260421T082127
CREATED:20250918T092357Z
LAST-MODIFIED:20250918T092357Z
UID:10079944-1762423200-1762430400@myrtlelearning.com
SUMMARY:27GBS Myrtle HE1
DESCRIPTION:This lesson covers GCSE Business Studies each week \nSelect the button below to join the lesson online
URL:https://myrtlelearning.com/event/27gbs-myrtle-he1/2025-11-06/
LOCATION:Online Session\, 25 Pattens Gardens\, Rochester\, Other\, ME1 2QP\, United Kingdom
CATEGORIES:27GBS Myrtle HE1
ATTACH;FMTTYPE=image/jpeg:https://myrtlelearning.com/wp-content/uploads/2023/08/myrtle-icon-whitejpg.jpg
END:VEVENT
BEGIN:VEVENT
DTSTART;TZID=UTC:20251113T100000
DTEND;TZID=UTC:20251113T120000
DTSTAMP:20260421T082127
CREATED:20250918T092357Z
LAST-MODIFIED:20250918T092357Z
UID:10079945-1763028000-1763035200@myrtlelearning.com
SUMMARY:27GBS Myrtle HE1
DESCRIPTION:This lesson covers GCSE Business Studies each week \nSelect the button below to join the lesson online
URL:https://myrtlelearning.com/event/27gbs-myrtle-he1/2025-11-13/
LOCATION:Online Session\, 25 Pattens Gardens\, Rochester\, Other\, ME1 2QP\, United Kingdom
CATEGORIES:27GBS Myrtle HE1
ATTACH;FMTTYPE=image/jpeg:https://myrtlelearning.com/wp-content/uploads/2023/08/myrtle-icon-whitejpg.jpg
END:VEVENT
BEGIN:VEVENT
DTSTART;TZID=UTC:20251120T100000
DTEND;TZID=UTC:20251120T120000
DTSTAMP:20260421T082127
CREATED:20250918T092357Z
LAST-MODIFIED:20250918T092357Z
UID:10079946-1763632800-1763640000@myrtlelearning.com
SUMMARY:27GBS Myrtle HE1
DESCRIPTION:This lesson covers GCSE Business Studies each week \nSelect the button below to join the lesson online
URL:https://myrtlelearning.com/event/27gbs-myrtle-he1/2025-11-20/
LOCATION:Online Session\, 25 Pattens Gardens\, Rochester\, Other\, ME1 2QP\, United Kingdom
CATEGORIES:27GBS Myrtle HE1
ATTACH;FMTTYPE=image/jpeg:https://myrtlelearning.com/wp-content/uploads/2023/08/myrtle-icon-whitejpg.jpg
END:VEVENT
BEGIN:VEVENT
DTSTART;TZID=UTC:20251127T100000
DTEND;TZID=UTC:20251127T120000
DTSTAMP:20260421T082127
CREATED:20250918T092357Z
LAST-MODIFIED:20250918T092357Z
UID:10079947-1764237600-1764244800@myrtlelearning.com
SUMMARY:27GBS Myrtle HE1
DESCRIPTION:This lesson covers GCSE Business Studies each week \nSelect the button below to join the lesson online
URL:https://myrtlelearning.com/event/27gbs-myrtle-he1/2025-11-27/
LOCATION:Online Session\, 25 Pattens Gardens\, Rochester\, Other\, ME1 2QP\, United Kingdom
CATEGORIES:27GBS Myrtle HE1
ATTACH;FMTTYPE=image/jpeg:https://myrtlelearning.com/wp-content/uploads/2023/08/myrtle-icon-whitejpg.jpg
END:VEVENT
END:VCALENDAR