BEGIN:VCALENDAR
VERSION:2.0
PRODID:-//Myrtle Learning - ECPv6.15.3//NONSGML v1.0//EN
CALSCALE:GREGORIAN
METHOD:PUBLISH
X-ORIGINAL-URL:https://myrtlelearning.com
X-WR-CALDESC:Events for Myrtle Learning
REFRESH-INTERVAL;VALUE=DURATION:PT1H
X-Robots-Tag:noindex
X-PUBLISHED-TTL:PT1H
BEGIN:VTIMEZONE
TZID:UTC
BEGIN:STANDARD
TZOFFSETFROM:+0000
TZOFFSETTO:+0000
TZNAME:UTC
DTSTART:20240101T000000
END:STANDARD
END:VTIMEZONE
BEGIN:VEVENT
DTSTART;TZID=UTC:20240301T180000
DTEND;TZID=UTC:20240301T190000
DTSTAMP:20260424T092954
CREATED:20231110T182827Z
LAST-MODIFIED:20250130T152903Z
UID:10026269-1709316000-1709319600@myrtlelearning.com
SUMMARY:27GE Myrtle 1
DESCRIPTION:27GE Myrtle 1 \nThis lesson covers KS3 english on Friday. \nSelect the button below to join the lesson online
URL:https://myrtlelearning.com/event/27ge-myrtle-1/2024-03-01/
LOCATION:Myrtle Learning Centre\, Pattens Gardens\, Rochester\, Kent\, ME1 2QP\, United Kingdom
CATEGORIES:27GE Myrtle 1
ATTACH;FMTTYPE=image/jpeg:https://myrtlelearning.com/wp-content/uploads/2023/08/myrtle-icon-whitejpg.jpg
END:VEVENT
BEGIN:VEVENT
DTSTART;TZID=UTC:20240308T180000
DTEND;TZID=UTC:20240308T190000
DTSTAMP:20260424T092954
CREATED:20231110T182827Z
LAST-MODIFIED:20250130T152903Z
UID:10026270-1709920800-1709924400@myrtlelearning.com
SUMMARY:27GE Myrtle 1
DESCRIPTION:27GE Myrtle 1 \nThis lesson covers KS3 english on Friday. \nSelect the button below to join the lesson online
URL:https://myrtlelearning.com/event/27ge-myrtle-1/2024-03-08/
LOCATION:Myrtle Learning Centre\, Pattens Gardens\, Rochester\, Kent\, ME1 2QP\, United Kingdom
CATEGORIES:27GE Myrtle 1
ATTACH;FMTTYPE=image/jpeg:https://myrtlelearning.com/wp-content/uploads/2023/08/myrtle-icon-whitejpg.jpg
END:VEVENT
BEGIN:VEVENT
DTSTART;TZID=UTC:20240315T180000
DTEND;TZID=UTC:20240315T190000
DTSTAMP:20260424T092954
CREATED:20231110T182827Z
LAST-MODIFIED:20250130T152903Z
UID:10026271-1710525600-1710529200@myrtlelearning.com
SUMMARY:27GE Myrtle 1
DESCRIPTION:27GE Myrtle 1 \nThis lesson covers KS3 english on Friday. \nSelect the button below to join the lesson online
URL:https://myrtlelearning.com/event/27ge-myrtle-1/2024-03-15/
LOCATION:Myrtle Learning Centre\, Pattens Gardens\, Rochester\, Kent\, ME1 2QP\, United Kingdom
CATEGORIES:27GE Myrtle 1
ATTACH;FMTTYPE=image/jpeg:https://myrtlelearning.com/wp-content/uploads/2023/08/myrtle-icon-whitejpg.jpg
END:VEVENT
BEGIN:VEVENT
DTSTART;TZID=UTC:20240322T180000
DTEND;TZID=UTC:20240322T190000
DTSTAMP:20260424T092954
CREATED:20231110T182827Z
LAST-MODIFIED:20250130T152903Z
UID:10026272-1711130400-1711134000@myrtlelearning.com
SUMMARY:27GE Myrtle 1
DESCRIPTION:27GE Myrtle 1 \nThis lesson covers KS3 english on Friday. \nSelect the button below to join the lesson online
URL:https://myrtlelearning.com/event/27ge-myrtle-1/2024-03-22/
LOCATION:Myrtle Learning Centre\, Pattens Gardens\, Rochester\, Kent\, ME1 2QP\, United Kingdom
CATEGORIES:27GE Myrtle 1
ATTACH;FMTTYPE=image/jpeg:https://myrtlelearning.com/wp-content/uploads/2023/08/myrtle-icon-whitejpg.jpg
END:VEVENT
BEGIN:VEVENT
DTSTART;TZID=UTC:20240329T180000
DTEND;TZID=UTC:20240329T190000
DTSTAMP:20260424T092954
CREATED:20231110T182827Z
LAST-MODIFIED:20250130T152903Z
UID:10026273-1711735200-1711738800@myrtlelearning.com
SUMMARY:27GE Myrtle 1
DESCRIPTION:27GE Myrtle 1 \nThis lesson covers KS3 english on Friday. \nSelect the button below to join the lesson online
URL:https://myrtlelearning.com/event/27ge-myrtle-1/2024-03-29/
LOCATION:Myrtle Learning Centre\, Pattens Gardens\, Rochester\, Kent\, ME1 2QP\, United Kingdom
CATEGORIES:27GE Myrtle 1
ATTACH;FMTTYPE=image/jpeg:https://myrtlelearning.com/wp-content/uploads/2023/08/myrtle-icon-whitejpg.jpg
END:VEVENT
END:VCALENDAR