BEGIN:VCALENDAR
VERSION:2.0
PRODID:-//Myrtle Learning - ECPv6.15.3//NONSGML v1.0//EN
CALSCALE:GREGORIAN
METHOD:PUBLISH
X-ORIGINAL-URL:https://myrtlelearning.com
X-WR-CALDESC:Events for Myrtle Learning
REFRESH-INTERVAL;VALUE=DURATION:PT1H
X-Robots-Tag:noindex
X-PUBLISHED-TTL:PT1H
BEGIN:VTIMEZONE
TZID:UTC
BEGIN:STANDARD
TZOFFSETFROM:+0000
TZOFFSETTO:+0000
TZNAME:UTC
DTSTART:20250101T000000
END:STANDARD
END:VTIMEZONE
BEGIN:VEVENT
DTSTART;TZID=UTC:20251003T180000
DTEND;TZID=UTC:20251003T190000
DTSTAMP:20260421T052649
CREATED:20231110T182827Z
LAST-MODIFIED:20250130T152903Z
UID:10026352-1759514400-1759518000@myrtlelearning.com
SUMMARY:27GE Myrtle 1
DESCRIPTION:27GE Myrtle 1 \nThis lesson covers KS3 english on Friday. \nSelect the button below to join the lesson online
URL:https://myrtlelearning.com/event/27ge-myrtle-1/2025-10-03/
LOCATION:Myrtle Learning Centre\, Pattens Gardens\, Rochester\, Kent\, ME1 2QP\, United Kingdom
CATEGORIES:27GE Myrtle 1
ATTACH;FMTTYPE=image/jpeg:https://myrtlelearning.com/wp-content/uploads/2023/08/myrtle-icon-whitejpg.jpg
END:VEVENT
BEGIN:VEVENT
DTSTART;TZID=UTC:20251010T180000
DTEND;TZID=UTC:20251010T190000
DTSTAMP:20260421T052649
CREATED:20231110T182827Z
LAST-MODIFIED:20250130T152903Z
UID:10026353-1760119200-1760122800@myrtlelearning.com
SUMMARY:27GE Myrtle 1
DESCRIPTION:27GE Myrtle 1 \nThis lesson covers KS3 english on Friday. \nSelect the button below to join the lesson online
URL:https://myrtlelearning.com/event/27ge-myrtle-1/2025-10-10/
LOCATION:Myrtle Learning Centre\, Pattens Gardens\, Rochester\, Kent\, ME1 2QP\, United Kingdom
CATEGORIES:27GE Myrtle 1
ATTACH;FMTTYPE=image/jpeg:https://myrtlelearning.com/wp-content/uploads/2023/08/myrtle-icon-whitejpg.jpg
END:VEVENT
BEGIN:VEVENT
DTSTART;TZID=UTC:20251017T180000
DTEND;TZID=UTC:20251017T190000
DTSTAMP:20260421T052649
CREATED:20231110T182827Z
LAST-MODIFIED:20250130T152903Z
UID:10026354-1760724000-1760727600@myrtlelearning.com
SUMMARY:27GE Myrtle 1
DESCRIPTION:27GE Myrtle 1 \nThis lesson covers KS3 english on Friday. \nSelect the button below to join the lesson online
URL:https://myrtlelearning.com/event/27ge-myrtle-1/2025-10-17/
LOCATION:Myrtle Learning Centre\, Pattens Gardens\, Rochester\, Kent\, ME1 2QP\, United Kingdom
CATEGORIES:27GE Myrtle 1
ATTACH;FMTTYPE=image/jpeg:https://myrtlelearning.com/wp-content/uploads/2023/08/myrtle-icon-whitejpg.jpg
END:VEVENT
BEGIN:VEVENT
DTSTART;TZID=UTC:20251024T180000
DTEND;TZID=UTC:20251024T190000
DTSTAMP:20260421T052649
CREATED:20231110T182827Z
LAST-MODIFIED:20250130T152903Z
UID:10026355-1761328800-1761332400@myrtlelearning.com
SUMMARY:27GE Myrtle 1
DESCRIPTION:27GE Myrtle 1 \nThis lesson covers KS3 english on Friday. \nSelect the button below to join the lesson online
URL:https://myrtlelearning.com/event/27ge-myrtle-1/2025-10-24/
LOCATION:Myrtle Learning Centre\, Pattens Gardens\, Rochester\, Kent\, ME1 2QP\, United Kingdom
CATEGORIES:27GE Myrtle 1
ATTACH;FMTTYPE=image/jpeg:https://myrtlelearning.com/wp-content/uploads/2023/08/myrtle-icon-whitejpg.jpg
END:VEVENT
BEGIN:VEVENT
DTSTART;TZID=UTC:20251031T180000
DTEND;TZID=UTC:20251031T190000
DTSTAMP:20260421T052649
CREATED:20231110T182827Z
LAST-MODIFIED:20250130T152903Z
UID:10026356-1761933600-1761937200@myrtlelearning.com
SUMMARY:27GE Myrtle 1
DESCRIPTION:27GE Myrtle 1 \nThis lesson covers KS3 english on Friday. \nSelect the button below to join the lesson online
URL:https://myrtlelearning.com/event/27ge-myrtle-1/2025-10-31/
LOCATION:Myrtle Learning Centre\, Pattens Gardens\, Rochester\, Kent\, ME1 2QP\, United Kingdom
CATEGORIES:27GE Myrtle 1
ATTACH;FMTTYPE=image/jpeg:https://myrtlelearning.com/wp-content/uploads/2023/08/myrtle-icon-whitejpg.jpg
END:VEVENT
END:VCALENDAR