BEGIN:VCALENDAR
VERSION:2.0
PRODID:-//Myrtle Learning - ECPv6.15.3//NONSGML v1.0//EN
CALSCALE:GREGORIAN
METHOD:PUBLISH
X-WR-CALNAME:Myrtle Learning
X-ORIGINAL-URL:https://myrtlelearning.com
X-WR-CALDESC:Events for Myrtle Learning
REFRESH-INTERVAL;VALUE=DURATION:PT1H
X-Robots-Tag:noindex
X-PUBLISHED-TTL:PT1H
BEGIN:VTIMEZONE
TZID:UTC
BEGIN:STANDARD
TZOFFSETFROM:+0000
TZOFFSETTO:+0000
TZNAME:UTC
DTSTART:20260101T000000
END:STANDARD
END:VTIMEZONE
BEGIN:VEVENT
DTSTART;TZID=UTC:20260302T180000
DTEND;TZID=UTC:20260302T190000
DTSTAMP:20260421T011640
CREATED:20260206T115139Z
LAST-MODIFIED:20260206T115140Z
UID:10096969-1772474400-1772478000@myrtlelearning.com
SUMMARY:27GE Myrtle 1
DESCRIPTION:27GE Myrtle 1 \nThis lesson covers KS3 english on Friday. \nSelect the button below to join the lesson online
URL:https://myrtlelearning.com/event/27ge-myrtle-1-2/2026-03-02/
LOCATION:Myrtle Learning Centre\, Pattens Gardens\, Rochester\, Kent\, ME1 2QP\, United Kingdom
CATEGORIES:27GE Myrtle 1
ATTACH;FMTTYPE=image/jpeg:https://myrtlelearning.com/wp-content/uploads/2023/08/myrtle-icon-whitejpg.jpg
END:VEVENT
BEGIN:VEVENT
DTSTART;TZID=UTC:20260309T180000
DTEND;TZID=UTC:20260309T190000
DTSTAMP:20260421T011640
CREATED:20260206T115139Z
LAST-MODIFIED:20260206T115140Z
UID:10096970-1773079200-1773082800@myrtlelearning.com
SUMMARY:27GE Myrtle 1
DESCRIPTION:27GE Myrtle 1 \nThis lesson covers KS3 english on Friday. \nSelect the button below to join the lesson online
URL:https://myrtlelearning.com/event/27ge-myrtle-1-2/2026-03-09/
LOCATION:Myrtle Learning Centre\, Pattens Gardens\, Rochester\, Kent\, ME1 2QP\, United Kingdom
CATEGORIES:27GE Myrtle 1
ATTACH;FMTTYPE=image/jpeg:https://myrtlelearning.com/wp-content/uploads/2023/08/myrtle-icon-whitejpg.jpg
END:VEVENT
BEGIN:VEVENT
DTSTART;TZID=UTC:20260316T180000
DTEND;TZID=UTC:20260316T190000
DTSTAMP:20260421T011640
CREATED:20260206T115139Z
LAST-MODIFIED:20260206T115140Z
UID:10096971-1773684000-1773687600@myrtlelearning.com
SUMMARY:27GE Myrtle 1
DESCRIPTION:27GE Myrtle 1 \nThis lesson covers KS3 english on Friday. \nSelect the button below to join the lesson online
URL:https://myrtlelearning.com/event/27ge-myrtle-1-2/2026-03-16/
LOCATION:Myrtle Learning Centre\, Pattens Gardens\, Rochester\, Kent\, ME1 2QP\, United Kingdom
CATEGORIES:27GE Myrtle 1
ATTACH;FMTTYPE=image/jpeg:https://myrtlelearning.com/wp-content/uploads/2023/08/myrtle-icon-whitejpg.jpg
END:VEVENT
BEGIN:VEVENT
DTSTART;TZID=UTC:20260323T180000
DTEND;TZID=UTC:20260323T190000
DTSTAMP:20260421T011640
CREATED:20260206T115139Z
LAST-MODIFIED:20260206T115140Z
UID:10096972-1774288800-1774292400@myrtlelearning.com
SUMMARY:27GE Myrtle 1
DESCRIPTION:27GE Myrtle 1 \nThis lesson covers KS3 english on Friday. \nSelect the button below to join the lesson online
URL:https://myrtlelearning.com/event/27ge-myrtle-1-2/2026-03-23/
LOCATION:Myrtle Learning Centre\, Pattens Gardens\, Rochester\, Kent\, ME1 2QP\, United Kingdom
CATEGORIES:27GE Myrtle 1
ATTACH;FMTTYPE=image/jpeg:https://myrtlelearning.com/wp-content/uploads/2023/08/myrtle-icon-whitejpg.jpg
END:VEVENT
BEGIN:VEVENT
DTSTART;TZID=UTC:20260330T180000
DTEND;TZID=UTC:20260330T190000
DTSTAMP:20260421T011640
CREATED:20260206T115139Z
LAST-MODIFIED:20260206T115140Z
UID:10096973-1774893600-1774897200@myrtlelearning.com
SUMMARY:27GE Myrtle 1
DESCRIPTION:27GE Myrtle 1 \nThis lesson covers KS3 english on Friday. \nSelect the button below to join the lesson online
URL:https://myrtlelearning.com/event/27ge-myrtle-1-2/2026-03-30/
LOCATION:Myrtle Learning Centre\, Pattens Gardens\, Rochester\, Kent\, ME1 2QP\, United Kingdom
CATEGORIES:27GE Myrtle 1
ATTACH;FMTTYPE=image/jpeg:https://myrtlelearning.com/wp-content/uploads/2023/08/myrtle-icon-whitejpg.jpg
END:VEVENT
END:VCALENDAR