BEGIN:VCALENDAR
VERSION:2.0
PRODID:-//Myrtle Learning - ECPv6.15.3//NONSGML v1.0//EN
CALSCALE:GREGORIAN
METHOD:PUBLISH
X-ORIGINAL-URL:https://myrtlelearning.com
X-WR-CALDESC:Events for Myrtle Learning
REFRESH-INTERVAL;VALUE=DURATION:PT1H
X-Robots-Tag:noindex
X-PUBLISHED-TTL:PT1H
BEGIN:VTIMEZONE
TZID:UTC
BEGIN:STANDARD
TZOFFSETFROM:+0000
TZOFFSETTO:+0000
TZNAME:UTC
DTSTART:20260101T000000
END:STANDARD
END:VTIMEZONE
BEGIN:VEVENT
DTSTART;TZID=UTC:20260706T180000
DTEND;TZID=UTC:20260706T200000
DTSTAMP:20260421T025243
CREATED:20251027T164444Z
LAST-MODIFIED:20260126T113231Z
UID:10085038-1783360800-1783368000@myrtlelearning.com
SUMMARY:27GE Myrtle 2
DESCRIPTION:27GE Myrtle 2 \nThis lesson covers KS3 English. \nSelect the button below to join the lesson online
URL:https://myrtlelearning.com/event/27ge-myrtle-2-2/2026-07-06/
LOCATION:Online Session\, 25 Pattens Gardens\, Rochester\, Other\, ME1 2QP\, United Kingdom
CATEGORIES:27GE Myrtle 2
ATTACH;FMTTYPE=image/jpeg:https://myrtlelearning.com/wp-content/uploads/2023/08/myrtle-icon-whitejpg.jpg
END:VEVENT
BEGIN:VEVENT
DTSTART;TZID=UTC:20260713T180000
DTEND;TZID=UTC:20260713T200000
DTSTAMP:20260421T025243
CREATED:20251027T164444Z
LAST-MODIFIED:20260126T113231Z
UID:10085039-1783965600-1783972800@myrtlelearning.com
SUMMARY:27GE Myrtle 2
DESCRIPTION:27GE Myrtle 2 \nThis lesson covers KS3 English. \nSelect the button below to join the lesson online
URL:https://myrtlelearning.com/event/27ge-myrtle-2-2/2026-07-13/
LOCATION:Online Session\, 25 Pattens Gardens\, Rochester\, Other\, ME1 2QP\, United Kingdom
CATEGORIES:27GE Myrtle 2
ATTACH;FMTTYPE=image/jpeg:https://myrtlelearning.com/wp-content/uploads/2023/08/myrtle-icon-whitejpg.jpg
END:VEVENT
BEGIN:VEVENT
DTSTART;TZID=UTC:20260720T180000
DTEND;TZID=UTC:20260720T200000
DTSTAMP:20260421T025243
CREATED:20251027T164444Z
LAST-MODIFIED:20260126T113231Z
UID:10085040-1784570400-1784577600@myrtlelearning.com
SUMMARY:27GE Myrtle 2
DESCRIPTION:27GE Myrtle 2 \nThis lesson covers KS3 English. \nSelect the button below to join the lesson online
URL:https://myrtlelearning.com/event/27ge-myrtle-2-2/2026-07-20/
LOCATION:Online Session\, 25 Pattens Gardens\, Rochester\, Other\, ME1 2QP\, United Kingdom
CATEGORIES:27GE Myrtle 2
ATTACH;FMTTYPE=image/jpeg:https://myrtlelearning.com/wp-content/uploads/2023/08/myrtle-icon-whitejpg.jpg
END:VEVENT
BEGIN:VEVENT
DTSTART;TZID=UTC:20260727T180000
DTEND;TZID=UTC:20260727T200000
DTSTAMP:20260421T025243
CREATED:20251027T164444Z
LAST-MODIFIED:20260126T113231Z
UID:10085041-1785175200-1785182400@myrtlelearning.com
SUMMARY:27GE Myrtle 2
DESCRIPTION:27GE Myrtle 2 \nThis lesson covers KS3 English. \nSelect the button below to join the lesson online
URL:https://myrtlelearning.com/event/27ge-myrtle-2-2/2026-07-27/
LOCATION:Online Session\, 25 Pattens Gardens\, Rochester\, Other\, ME1 2QP\, United Kingdom
CATEGORIES:27GE Myrtle 2
ATTACH;FMTTYPE=image/jpeg:https://myrtlelearning.com/wp-content/uploads/2023/08/myrtle-icon-whitejpg.jpg
END:VEVENT
END:VCALENDAR