BEGIN:VCALENDAR
VERSION:2.0
PRODID:-//Myrtle Learning - ECPv6.15.3//NONSGML v1.0//EN
CALSCALE:GREGORIAN
METHOD:PUBLISH
X-ORIGINAL-URL:https://myrtlelearning.com
X-WR-CALDESC:Events for Myrtle Learning
REFRESH-INTERVAL;VALUE=DURATION:PT1H
X-Robots-Tag:noindex
X-PUBLISHED-TTL:PT1H
BEGIN:VTIMEZONE
TZID:UTC
BEGIN:STANDARD
TZOFFSETFROM:+0000
TZOFFSETTO:+0000
TZNAME:UTC
DTSTART:20260101T000000
END:STANDARD
END:VTIMEZONE
BEGIN:VEVENT
DTSTART;TZID=UTC:20260907T180000
DTEND;TZID=UTC:20260907T200000
DTSTAMP:20260421T052651
CREATED:20251027T164444Z
LAST-MODIFIED:20260126T113231Z
UID:10085047-1788804000-1788811200@myrtlelearning.com
SUMMARY:27GE Myrtle 2
DESCRIPTION:27GE Myrtle 2 \nThis lesson covers KS3 English. \nSelect the button below to join the lesson online
URL:https://myrtlelearning.com/event/27ge-myrtle-2-2/2026-09-07/
LOCATION:Online Session\, 25 Pattens Gardens\, Rochester\, Other\, ME1 2QP\, United Kingdom
CATEGORIES:27GE Myrtle 2
ATTACH;FMTTYPE=image/jpeg:https://myrtlelearning.com/wp-content/uploads/2023/08/myrtle-icon-whitejpg.jpg
END:VEVENT
BEGIN:VEVENT
DTSTART;TZID=UTC:20260914T180000
DTEND;TZID=UTC:20260914T200000
DTSTAMP:20260421T052651
CREATED:20251027T164444Z
LAST-MODIFIED:20260126T113231Z
UID:10085048-1789408800-1789416000@myrtlelearning.com
SUMMARY:27GE Myrtle 2
DESCRIPTION:27GE Myrtle 2 \nThis lesson covers KS3 English. \nSelect the button below to join the lesson online
URL:https://myrtlelearning.com/event/27ge-myrtle-2-2/2026-09-14/
LOCATION:Online Session\, 25 Pattens Gardens\, Rochester\, Other\, ME1 2QP\, United Kingdom
CATEGORIES:27GE Myrtle 2
ATTACH;FMTTYPE=image/jpeg:https://myrtlelearning.com/wp-content/uploads/2023/08/myrtle-icon-whitejpg.jpg
END:VEVENT
BEGIN:VEVENT
DTSTART;TZID=UTC:20260921T180000
DTEND;TZID=UTC:20260921T200000
DTSTAMP:20260421T052651
CREATED:20251027T164444Z
LAST-MODIFIED:20260126T113231Z
UID:10085049-1790013600-1790020800@myrtlelearning.com
SUMMARY:27GE Myrtle 2
DESCRIPTION:27GE Myrtle 2 \nThis lesson covers KS3 English. \nSelect the button below to join the lesson online
URL:https://myrtlelearning.com/event/27ge-myrtle-2-2/2026-09-21/
LOCATION:Online Session\, 25 Pattens Gardens\, Rochester\, Other\, ME1 2QP\, United Kingdom
CATEGORIES:27GE Myrtle 2
ATTACH;FMTTYPE=image/jpeg:https://myrtlelearning.com/wp-content/uploads/2023/08/myrtle-icon-whitejpg.jpg
END:VEVENT
BEGIN:VEVENT
DTSTART;TZID=UTC:20260928T180000
DTEND;TZID=UTC:20260928T200000
DTSTAMP:20260421T052651
CREATED:20251027T164444Z
LAST-MODIFIED:20260126T113231Z
UID:10085050-1790618400-1790625600@myrtlelearning.com
SUMMARY:27GE Myrtle 2
DESCRIPTION:27GE Myrtle 2 \nThis lesson covers KS3 English. \nSelect the button below to join the lesson online
URL:https://myrtlelearning.com/event/27ge-myrtle-2-2/2026-09-28/
LOCATION:Online Session\, 25 Pattens Gardens\, Rochester\, Other\, ME1 2QP\, United Kingdom
CATEGORIES:27GE Myrtle 2
ATTACH;FMTTYPE=image/jpeg:https://myrtlelearning.com/wp-content/uploads/2023/08/myrtle-icon-whitejpg.jpg
END:VEVENT
END:VCALENDAR