BEGIN:VCALENDAR
VERSION:2.0
PRODID:-//Myrtle Learning - ECPv6.15.3//NONSGML v1.0//EN
CALSCALE:GREGORIAN
METHOD:PUBLISH
X-WR-CALNAME:Myrtle Learning
X-ORIGINAL-URL:https://myrtlelearning.com
X-WR-CALDESC:Events for Myrtle Learning
REFRESH-INTERVAL;VALUE=DURATION:PT1H
X-Robots-Tag:noindex
X-PUBLISHED-TTL:PT1H
BEGIN:VTIMEZONE
TZID:UTC
BEGIN:STANDARD
TZOFFSETFROM:+0000
TZOFFSETTO:+0000
TZNAME:UTC
DTSTART:20260101T000000
END:STANDARD
END:VTIMEZONE
BEGIN:VEVENT
DTSTART;TZID=UTC:20260305T130000
DTEND;TZID=UTC:20260305T150000
DTSTAMP:20260421T075239
CREATED:20250627T113227Z
LAST-MODIFIED:20250930T135121Z
UID:10081079-1772715600-1772722800@myrtlelearning.com
SUMMARY:27GE Myrtle HE1
DESCRIPTION:27GE Myrtle HE1 \nThese group is made of students preparing for their English exams in 2025/2026 \nSelect the button below to join the lesson online \n \n 
URL:https://myrtlelearning.com/event/25ge-myrtle-he1-2/2026-03-05/
LOCATION:Online Session\, 25 Pattens Gardens\, Rochester\, Other\, ME1 2QP\, United Kingdom
CATEGORIES:27GE Myrtle HE1
ATTACH;FMTTYPE=image/jpeg:https://myrtlelearning.com/wp-content/uploads/2023/08/myrtle-icon-whitejpg.jpg
ORGANIZER;CN="Abbie":MAILTO:barnesab@myrtlelearning.com
END:VEVENT
BEGIN:VEVENT
DTSTART;TZID=UTC:20260306T130000
DTEND;TZID=UTC:20260306T150000
DTSTAMP:20260421T075239
CREATED:20250627T113227Z
LAST-MODIFIED:20250930T135121Z
UID:10081080-1772802000-1772809200@myrtlelearning.com
SUMMARY:27GE Myrtle HE1
DESCRIPTION:27GE Myrtle HE1 \nThese group is made of students preparing for their English exams in 2025/2026 \nSelect the button below to join the lesson online \n \n 
URL:https://myrtlelearning.com/event/25ge-myrtle-he1-2/2026-03-06/
LOCATION:Online Session\, 25 Pattens Gardens\, Rochester\, Other\, ME1 2QP\, United Kingdom
CATEGORIES:27GE Myrtle HE1
ATTACH;FMTTYPE=image/jpeg:https://myrtlelearning.com/wp-content/uploads/2023/08/myrtle-icon-whitejpg.jpg
ORGANIZER;CN="Abbie":MAILTO:barnesab@myrtlelearning.com
END:VEVENT
BEGIN:VEVENT
DTSTART;TZID=UTC:20260312T130000
DTEND;TZID=UTC:20260312T150000
DTSTAMP:20260421T075239
CREATED:20250627T113227Z
LAST-MODIFIED:20250930T135121Z
UID:10081081-1773320400-1773327600@myrtlelearning.com
SUMMARY:27GE Myrtle HE1
DESCRIPTION:27GE Myrtle HE1 \nThese group is made of students preparing for their English exams in 2025/2026 \nSelect the button below to join the lesson online \n \n 
URL:https://myrtlelearning.com/event/25ge-myrtle-he1-2/2026-03-12/
LOCATION:Online Session\, 25 Pattens Gardens\, Rochester\, Other\, ME1 2QP\, United Kingdom
CATEGORIES:27GE Myrtle HE1
ATTACH;FMTTYPE=image/jpeg:https://myrtlelearning.com/wp-content/uploads/2023/08/myrtle-icon-whitejpg.jpg
ORGANIZER;CN="Abbie":MAILTO:barnesab@myrtlelearning.com
END:VEVENT
BEGIN:VEVENT
DTSTART;TZID=UTC:20260313T130000
DTEND;TZID=UTC:20260313T150000
DTSTAMP:20260421T075239
CREATED:20250627T113227Z
LAST-MODIFIED:20250930T135121Z
UID:10081082-1773406800-1773414000@myrtlelearning.com
SUMMARY:27GE Myrtle HE1
DESCRIPTION:27GE Myrtle HE1 \nThese group is made of students preparing for their English exams in 2025/2026 \nSelect the button below to join the lesson online \n \n 
URL:https://myrtlelearning.com/event/25ge-myrtle-he1-2/2026-03-13/
LOCATION:Online Session\, 25 Pattens Gardens\, Rochester\, Other\, ME1 2QP\, United Kingdom
CATEGORIES:27GE Myrtle HE1
ATTACH;FMTTYPE=image/jpeg:https://myrtlelearning.com/wp-content/uploads/2023/08/myrtle-icon-whitejpg.jpg
ORGANIZER;CN="Abbie":MAILTO:barnesab@myrtlelearning.com
END:VEVENT
BEGIN:VEVENT
DTSTART;TZID=UTC:20260319T130000
DTEND;TZID=UTC:20260319T150000
DTSTAMP:20260421T075239
CREATED:20250627T113227Z
LAST-MODIFIED:20250930T135121Z
UID:10081083-1773925200-1773932400@myrtlelearning.com
SUMMARY:27GE Myrtle HE1
DESCRIPTION:27GE Myrtle HE1 \nThese group is made of students preparing for their English exams in 2025/2026 \nSelect the button below to join the lesson online \n \n 
URL:https://myrtlelearning.com/event/25ge-myrtle-he1-2/2026-03-19/
LOCATION:Online Session\, 25 Pattens Gardens\, Rochester\, Other\, ME1 2QP\, United Kingdom
CATEGORIES:27GE Myrtle HE1
ATTACH;FMTTYPE=image/jpeg:https://myrtlelearning.com/wp-content/uploads/2023/08/myrtle-icon-whitejpg.jpg
ORGANIZER;CN="Abbie":MAILTO:barnesab@myrtlelearning.com
END:VEVENT
BEGIN:VEVENT
DTSTART;TZID=UTC:20260320T130000
DTEND;TZID=UTC:20260320T150000
DTSTAMP:20260421T075239
CREATED:20250627T113227Z
LAST-MODIFIED:20250930T135121Z
UID:10081084-1774011600-1774018800@myrtlelearning.com
SUMMARY:27GE Myrtle HE1
DESCRIPTION:27GE Myrtle HE1 \nThese group is made of students preparing for their English exams in 2025/2026 \nSelect the button below to join the lesson online \n \n 
URL:https://myrtlelearning.com/event/25ge-myrtle-he1-2/2026-03-20/
LOCATION:Online Session\, 25 Pattens Gardens\, Rochester\, Other\, ME1 2QP\, United Kingdom
CATEGORIES:27GE Myrtle HE1
ATTACH;FMTTYPE=image/jpeg:https://myrtlelearning.com/wp-content/uploads/2023/08/myrtle-icon-whitejpg.jpg
ORGANIZER;CN="Abbie":MAILTO:barnesab@myrtlelearning.com
END:VEVENT
BEGIN:VEVENT
DTSTART;TZID=UTC:20260326T130000
DTEND;TZID=UTC:20260326T150000
DTSTAMP:20260421T075239
CREATED:20250627T113227Z
LAST-MODIFIED:20250930T135121Z
UID:10081085-1774530000-1774537200@myrtlelearning.com
SUMMARY:27GE Myrtle HE1
DESCRIPTION:27GE Myrtle HE1 \nThese group is made of students preparing for their English exams in 2025/2026 \nSelect the button below to join the lesson online \n \n 
URL:https://myrtlelearning.com/event/25ge-myrtle-he1-2/2026-03-26/
LOCATION:Online Session\, 25 Pattens Gardens\, Rochester\, Other\, ME1 2QP\, United Kingdom
CATEGORIES:27GE Myrtle HE1
ATTACH;FMTTYPE=image/jpeg:https://myrtlelearning.com/wp-content/uploads/2023/08/myrtle-icon-whitejpg.jpg
ORGANIZER;CN="Abbie":MAILTO:barnesab@myrtlelearning.com
END:VEVENT
BEGIN:VEVENT
DTSTART;TZID=UTC:20260327T130000
DTEND;TZID=UTC:20260327T150000
DTSTAMP:20260421T075239
CREATED:20250627T113227Z
LAST-MODIFIED:20250930T135121Z
UID:10081086-1774616400-1774623600@myrtlelearning.com
SUMMARY:27GE Myrtle HE1
DESCRIPTION:27GE Myrtle HE1 \nThese group is made of students preparing for their English exams in 2025/2026 \nSelect the button below to join the lesson online \n \n 
URL:https://myrtlelearning.com/event/25ge-myrtle-he1-2/2026-03-27/
LOCATION:Online Session\, 25 Pattens Gardens\, Rochester\, Other\, ME1 2QP\, United Kingdom
CATEGORIES:27GE Myrtle HE1
ATTACH;FMTTYPE=image/jpeg:https://myrtlelearning.com/wp-content/uploads/2023/08/myrtle-icon-whitejpg.jpg
ORGANIZER;CN="Abbie":MAILTO:barnesab@myrtlelearning.com
END:VEVENT
END:VCALENDAR