BEGIN:VCALENDAR
VERSION:2.0
PRODID:-//Myrtle Learning - ECPv6.15.3//NONSGML v1.0//EN
CALSCALE:GREGORIAN
METHOD:PUBLISH
X-ORIGINAL-URL:https://myrtlelearning.com
X-WR-CALDESC:Events for Myrtle Learning
REFRESH-INTERVAL;VALUE=DURATION:PT1H
X-Robots-Tag:noindex
X-PUBLISHED-TTL:PT1H
BEGIN:VTIMEZONE
TZID:UTC
BEGIN:STANDARD
TZOFFSETFROM:+0000
TZOFFSETTO:+0000
TZNAME:UTC
DTSTART:20260101T000000
END:STANDARD
END:VTIMEZONE
BEGIN:VEVENT
DTSTART;TZID=UTC:20260604T130000
DTEND;TZID=UTC:20260604T150000
DTSTAMP:20260421T115543
CREATED:20250627T113227Z
LAST-MODIFIED:20250930T135121Z
UID:10081105-1780578000-1780585200@myrtlelearning.com
SUMMARY:27GE Myrtle HE1
DESCRIPTION:27GE Myrtle HE1 \nThese group is made of students preparing for their English exams in 2025/2026 \nSelect the button below to join the lesson online \n \n 
URL:https://myrtlelearning.com/event/25ge-myrtle-he1-2/2026-06-04/
LOCATION:Online Session\, 25 Pattens Gardens\, Rochester\, Other\, ME1 2QP\, United Kingdom
CATEGORIES:27GE Myrtle HE1
ATTACH;FMTTYPE=image/jpeg:https://myrtlelearning.com/wp-content/uploads/2023/08/myrtle-icon-whitejpg.jpg
ORGANIZER;CN="Abbie":MAILTO:barnesab@myrtlelearning.com
END:VEVENT
BEGIN:VEVENT
DTSTART;TZID=UTC:20260605T130000
DTEND;TZID=UTC:20260605T150000
DTSTAMP:20260421T115543
CREATED:20250627T113227Z
LAST-MODIFIED:20250930T135121Z
UID:10081106-1780664400-1780671600@myrtlelearning.com
SUMMARY:27GE Myrtle HE1
DESCRIPTION:27GE Myrtle HE1 \nThese group is made of students preparing for their English exams in 2025/2026 \nSelect the button below to join the lesson online \n \n 
URL:https://myrtlelearning.com/event/25ge-myrtle-he1-2/2026-06-05/
LOCATION:Online Session\, 25 Pattens Gardens\, Rochester\, Other\, ME1 2QP\, United Kingdom
CATEGORIES:27GE Myrtle HE1
ATTACH;FMTTYPE=image/jpeg:https://myrtlelearning.com/wp-content/uploads/2023/08/myrtle-icon-whitejpg.jpg
ORGANIZER;CN="Abbie":MAILTO:barnesab@myrtlelearning.com
END:VEVENT
BEGIN:VEVENT
DTSTART;TZID=UTC:20260611T130000
DTEND;TZID=UTC:20260611T150000
DTSTAMP:20260421T115543
CREATED:20250627T113227Z
LAST-MODIFIED:20250930T135121Z
UID:10081107-1781182800-1781190000@myrtlelearning.com
SUMMARY:27GE Myrtle HE1
DESCRIPTION:27GE Myrtle HE1 \nThese group is made of students preparing for their English exams in 2025/2026 \nSelect the button below to join the lesson online \n \n 
URL:https://myrtlelearning.com/event/25ge-myrtle-he1-2/2026-06-11/
LOCATION:Online Session\, 25 Pattens Gardens\, Rochester\, Other\, ME1 2QP\, United Kingdom
CATEGORIES:27GE Myrtle HE1
ATTACH;FMTTYPE=image/jpeg:https://myrtlelearning.com/wp-content/uploads/2023/08/myrtle-icon-whitejpg.jpg
ORGANIZER;CN="Abbie":MAILTO:barnesab@myrtlelearning.com
END:VEVENT
BEGIN:VEVENT
DTSTART;TZID=UTC:20260612T130000
DTEND;TZID=UTC:20260612T150000
DTSTAMP:20260421T115543
CREATED:20250627T113227Z
LAST-MODIFIED:20250930T135121Z
UID:10081108-1781269200-1781276400@myrtlelearning.com
SUMMARY:27GE Myrtle HE1
DESCRIPTION:27GE Myrtle HE1 \nThese group is made of students preparing for their English exams in 2025/2026 \nSelect the button below to join the lesson online \n \n 
URL:https://myrtlelearning.com/event/25ge-myrtle-he1-2/2026-06-12/
LOCATION:Online Session\, 25 Pattens Gardens\, Rochester\, Other\, ME1 2QP\, United Kingdom
CATEGORIES:27GE Myrtle HE1
ATTACH;FMTTYPE=image/jpeg:https://myrtlelearning.com/wp-content/uploads/2023/08/myrtle-icon-whitejpg.jpg
ORGANIZER;CN="Abbie":MAILTO:barnesab@myrtlelearning.com
END:VEVENT
BEGIN:VEVENT
DTSTART;TZID=UTC:20260618T130000
DTEND;TZID=UTC:20260618T150000
DTSTAMP:20260421T115543
CREATED:20250627T113227Z
LAST-MODIFIED:20250930T135121Z
UID:10081109-1781787600-1781794800@myrtlelearning.com
SUMMARY:27GE Myrtle HE1
DESCRIPTION:27GE Myrtle HE1 \nThese group is made of students preparing for their English exams in 2025/2026 \nSelect the button below to join the lesson online \n \n 
URL:https://myrtlelearning.com/event/25ge-myrtle-he1-2/2026-06-18/
LOCATION:Online Session\, 25 Pattens Gardens\, Rochester\, Other\, ME1 2QP\, United Kingdom
CATEGORIES:27GE Myrtle HE1
ATTACH;FMTTYPE=image/jpeg:https://myrtlelearning.com/wp-content/uploads/2023/08/myrtle-icon-whitejpg.jpg
ORGANIZER;CN="Abbie":MAILTO:barnesab@myrtlelearning.com
END:VEVENT
BEGIN:VEVENT
DTSTART;TZID=UTC:20260619T130000
DTEND;TZID=UTC:20260619T150000
DTSTAMP:20260421T115543
CREATED:20250627T113227Z
LAST-MODIFIED:20250930T135121Z
UID:10081110-1781874000-1781881200@myrtlelearning.com
SUMMARY:27GE Myrtle HE1
DESCRIPTION:27GE Myrtle HE1 \nThese group is made of students preparing for their English exams in 2025/2026 \nSelect the button below to join the lesson online \n \n 
URL:https://myrtlelearning.com/event/25ge-myrtle-he1-2/2026-06-19/
LOCATION:Online Session\, 25 Pattens Gardens\, Rochester\, Other\, ME1 2QP\, United Kingdom
CATEGORIES:27GE Myrtle HE1
ATTACH;FMTTYPE=image/jpeg:https://myrtlelearning.com/wp-content/uploads/2023/08/myrtle-icon-whitejpg.jpg
ORGANIZER;CN="Abbie":MAILTO:barnesab@myrtlelearning.com
END:VEVENT
BEGIN:VEVENT
DTSTART;TZID=UTC:20260625T130000
DTEND;TZID=UTC:20260625T150000
DTSTAMP:20260421T115543
CREATED:20250627T113227Z
LAST-MODIFIED:20250930T135121Z
UID:10081111-1782392400-1782399600@myrtlelearning.com
SUMMARY:27GE Myrtle HE1
DESCRIPTION:27GE Myrtle HE1 \nThese group is made of students preparing for their English exams in 2025/2026 \nSelect the button below to join the lesson online \n \n 
URL:https://myrtlelearning.com/event/25ge-myrtle-he1-2/2026-06-25/
LOCATION:Online Session\, 25 Pattens Gardens\, Rochester\, Other\, ME1 2QP\, United Kingdom
CATEGORIES:27GE Myrtle HE1
ATTACH;FMTTYPE=image/jpeg:https://myrtlelearning.com/wp-content/uploads/2023/08/myrtle-icon-whitejpg.jpg
ORGANIZER;CN="Abbie":MAILTO:barnesab@myrtlelearning.com
END:VEVENT
BEGIN:VEVENT
DTSTART;TZID=UTC:20260626T130000
DTEND;TZID=UTC:20260626T150000
DTSTAMP:20260421T115543
CREATED:20250627T113227Z
LAST-MODIFIED:20250930T135121Z
UID:10081112-1782478800-1782486000@myrtlelearning.com
SUMMARY:27GE Myrtle HE1
DESCRIPTION:27GE Myrtle HE1 \nThese group is made of students preparing for their English exams in 2025/2026 \nSelect the button below to join the lesson online \n \n 
URL:https://myrtlelearning.com/event/25ge-myrtle-he1-2/2026-06-26/
LOCATION:Online Session\, 25 Pattens Gardens\, Rochester\, Other\, ME1 2QP\, United Kingdom
CATEGORIES:27GE Myrtle HE1
ATTACH;FMTTYPE=image/jpeg:https://myrtlelearning.com/wp-content/uploads/2023/08/myrtle-icon-whitejpg.jpg
ORGANIZER;CN="Abbie":MAILTO:barnesab@myrtlelearning.com
END:VEVENT
END:VCALENDAR