BEGIN:VCALENDAR
VERSION:2.0
PRODID:-//Myrtle Learning - ECPv6.15.3//NONSGML v1.0//EN
CALSCALE:GREGORIAN
METHOD:PUBLISH
X-WR-CALNAME:Myrtle Learning
X-ORIGINAL-URL:https://myrtlelearning.com
X-WR-CALDESC:Events for Myrtle Learning
REFRESH-INTERVAL;VALUE=DURATION:PT1H
X-Robots-Tag:noindex
X-PUBLISHED-TTL:PT1H
BEGIN:VTIMEZONE
TZID:UTC
BEGIN:STANDARD
TZOFFSETFROM:+0000
TZOFFSETTO:+0000
TZNAME:UTC
DTSTART:20260101T000000
END:STANDARD
END:VTIMEZONE
BEGIN:VEVENT
DTSTART;TZID=UTC:20261001T130000
DTEND;TZID=UTC:20261001T150000
DTSTAMP:20260421T191402
CREATED:20250627T113227Z
LAST-MODIFIED:20250930T135121Z
UID:10081139-1790859600-1790866800@myrtlelearning.com
SUMMARY:27GE Myrtle HE1
DESCRIPTION:27GE Myrtle HE1 \nThese group is made of students preparing for their English exams in 2025/2026 \nSelect the button below to join the lesson online \n \n 
URL:https://myrtlelearning.com/event/25ge-myrtle-he1-2/2026-10-01/
LOCATION:Online Session\, 25 Pattens Gardens\, Rochester\, Other\, ME1 2QP\, United Kingdom
CATEGORIES:27GE Myrtle HE1
ATTACH;FMTTYPE=image/jpeg:https://myrtlelearning.com/wp-content/uploads/2023/08/myrtle-icon-whitejpg.jpg
ORGANIZER;CN="Abbie":MAILTO:barnesab@myrtlelearning.com
END:VEVENT
BEGIN:VEVENT
DTSTART;TZID=UTC:20261002T130000
DTEND;TZID=UTC:20261002T150000
DTSTAMP:20260421T191402
CREATED:20250627T113227Z
LAST-MODIFIED:20250930T135121Z
UID:10081140-1790946000-1790953200@myrtlelearning.com
SUMMARY:27GE Myrtle HE1
DESCRIPTION:27GE Myrtle HE1 \nThese group is made of students preparing for their English exams in 2025/2026 \nSelect the button below to join the lesson online \n \n 
URL:https://myrtlelearning.com/event/25ge-myrtle-he1-2/2026-10-02/
LOCATION:Online Session\, 25 Pattens Gardens\, Rochester\, Other\, ME1 2QP\, United Kingdom
CATEGORIES:27GE Myrtle HE1
ATTACH;FMTTYPE=image/jpeg:https://myrtlelearning.com/wp-content/uploads/2023/08/myrtle-icon-whitejpg.jpg
ORGANIZER;CN="Abbie":MAILTO:barnesab@myrtlelearning.com
END:VEVENT
BEGIN:VEVENT
DTSTART;TZID=UTC:20261008T130000
DTEND;TZID=UTC:20261008T150000
DTSTAMP:20260421T191402
CREATED:20250627T113227Z
LAST-MODIFIED:20250930T135121Z
UID:10081141-1791464400-1791471600@myrtlelearning.com
SUMMARY:27GE Myrtle HE1
DESCRIPTION:27GE Myrtle HE1 \nThese group is made of students preparing for their English exams in 2025/2026 \nSelect the button below to join the lesson online \n \n 
URL:https://myrtlelearning.com/event/25ge-myrtle-he1-2/2026-10-08/
LOCATION:Online Session\, 25 Pattens Gardens\, Rochester\, Other\, ME1 2QP\, United Kingdom
CATEGORIES:27GE Myrtle HE1
ATTACH;FMTTYPE=image/jpeg:https://myrtlelearning.com/wp-content/uploads/2023/08/myrtle-icon-whitejpg.jpg
ORGANIZER;CN="Abbie":MAILTO:barnesab@myrtlelearning.com
END:VEVENT
BEGIN:VEVENT
DTSTART;TZID=UTC:20261009T130000
DTEND;TZID=UTC:20261009T150000
DTSTAMP:20260421T191402
CREATED:20250627T113227Z
LAST-MODIFIED:20250930T135121Z
UID:10081142-1791550800-1791558000@myrtlelearning.com
SUMMARY:27GE Myrtle HE1
DESCRIPTION:27GE Myrtle HE1 \nThese group is made of students preparing for their English exams in 2025/2026 \nSelect the button below to join the lesson online \n \n 
URL:https://myrtlelearning.com/event/25ge-myrtle-he1-2/2026-10-09/
LOCATION:Online Session\, 25 Pattens Gardens\, Rochester\, Other\, ME1 2QP\, United Kingdom
CATEGORIES:27GE Myrtle HE1
ATTACH;FMTTYPE=image/jpeg:https://myrtlelearning.com/wp-content/uploads/2023/08/myrtle-icon-whitejpg.jpg
ORGANIZER;CN="Abbie":MAILTO:barnesab@myrtlelearning.com
END:VEVENT
BEGIN:VEVENT
DTSTART;TZID=UTC:20261015T130000
DTEND;TZID=UTC:20261015T150000
DTSTAMP:20260421T191403
CREATED:20250627T113227Z
LAST-MODIFIED:20250930T135121Z
UID:10081143-1792069200-1792076400@myrtlelearning.com
SUMMARY:27GE Myrtle HE1
DESCRIPTION:27GE Myrtle HE1 \nThese group is made of students preparing for their English exams in 2025/2026 \nSelect the button below to join the lesson online \n \n 
URL:https://myrtlelearning.com/event/25ge-myrtle-he1-2/2026-10-15/
LOCATION:Online Session\, 25 Pattens Gardens\, Rochester\, Other\, ME1 2QP\, United Kingdom
CATEGORIES:27GE Myrtle HE1
ATTACH;FMTTYPE=image/jpeg:https://myrtlelearning.com/wp-content/uploads/2023/08/myrtle-icon-whitejpg.jpg
ORGANIZER;CN="Abbie":MAILTO:barnesab@myrtlelearning.com
END:VEVENT
BEGIN:VEVENT
DTSTART;TZID=UTC:20261016T130000
DTEND;TZID=UTC:20261016T150000
DTSTAMP:20260421T191403
CREATED:20250627T113227Z
LAST-MODIFIED:20250930T135121Z
UID:10081144-1792155600-1792162800@myrtlelearning.com
SUMMARY:27GE Myrtle HE1
DESCRIPTION:27GE Myrtle HE1 \nThese group is made of students preparing for their English exams in 2025/2026 \nSelect the button below to join the lesson online \n \n 
URL:https://myrtlelearning.com/event/25ge-myrtle-he1-2/2026-10-16/
LOCATION:Online Session\, 25 Pattens Gardens\, Rochester\, Other\, ME1 2QP\, United Kingdom
CATEGORIES:27GE Myrtle HE1
ATTACH;FMTTYPE=image/jpeg:https://myrtlelearning.com/wp-content/uploads/2023/08/myrtle-icon-whitejpg.jpg
ORGANIZER;CN="Abbie":MAILTO:barnesab@myrtlelearning.com
END:VEVENT
BEGIN:VEVENT
DTSTART;TZID=UTC:20261022T130000
DTEND;TZID=UTC:20261022T150000
DTSTAMP:20260421T191403
CREATED:20250627T113227Z
LAST-MODIFIED:20250930T135121Z
UID:10081145-1792674000-1792681200@myrtlelearning.com
SUMMARY:27GE Myrtle HE1
DESCRIPTION:27GE Myrtle HE1 \nThese group is made of students preparing for their English exams in 2025/2026 \nSelect the button below to join the lesson online \n \n 
URL:https://myrtlelearning.com/event/25ge-myrtle-he1-2/2026-10-22/
LOCATION:Online Session\, 25 Pattens Gardens\, Rochester\, Other\, ME1 2QP\, United Kingdom
CATEGORIES:27GE Myrtle HE1
ATTACH;FMTTYPE=image/jpeg:https://myrtlelearning.com/wp-content/uploads/2023/08/myrtle-icon-whitejpg.jpg
ORGANIZER;CN="Abbie":MAILTO:barnesab@myrtlelearning.com
END:VEVENT
BEGIN:VEVENT
DTSTART;TZID=UTC:20261023T130000
DTEND;TZID=UTC:20261023T150000
DTSTAMP:20260421T191403
CREATED:20250627T113227Z
LAST-MODIFIED:20250930T135121Z
UID:10081146-1792760400-1792767600@myrtlelearning.com
SUMMARY:27GE Myrtle HE1
DESCRIPTION:27GE Myrtle HE1 \nThese group is made of students preparing for their English exams in 2025/2026 \nSelect the button below to join the lesson online \n \n 
URL:https://myrtlelearning.com/event/25ge-myrtle-he1-2/2026-10-23/
LOCATION:Online Session\, 25 Pattens Gardens\, Rochester\, Other\, ME1 2QP\, United Kingdom
CATEGORIES:27GE Myrtle HE1
ATTACH;FMTTYPE=image/jpeg:https://myrtlelearning.com/wp-content/uploads/2023/08/myrtle-icon-whitejpg.jpg
ORGANIZER;CN="Abbie":MAILTO:barnesab@myrtlelearning.com
END:VEVENT
BEGIN:VEVENT
DTSTART;TZID=UTC:20261029T130000
DTEND;TZID=UTC:20261029T150000
DTSTAMP:20260421T191403
CREATED:20250627T113227Z
LAST-MODIFIED:20250930T135121Z
UID:10081147-1793278800-1793286000@myrtlelearning.com
SUMMARY:27GE Myrtle HE1
DESCRIPTION:27GE Myrtle HE1 \nThese group is made of students preparing for their English exams in 2025/2026 \nSelect the button below to join the lesson online \n \n 
URL:https://myrtlelearning.com/event/25ge-myrtle-he1-2/2026-10-29/
LOCATION:Online Session\, 25 Pattens Gardens\, Rochester\, Other\, ME1 2QP\, United Kingdom
CATEGORIES:27GE Myrtle HE1
ATTACH;FMTTYPE=image/jpeg:https://myrtlelearning.com/wp-content/uploads/2023/08/myrtle-icon-whitejpg.jpg
ORGANIZER;CN="Abbie":MAILTO:barnesab@myrtlelearning.com
END:VEVENT
BEGIN:VEVENT
DTSTART;TZID=UTC:20261030T130000
DTEND;TZID=UTC:20261030T150000
DTSTAMP:20260421T191403
CREATED:20250627T113227Z
LAST-MODIFIED:20250930T135121Z
UID:10081148-1793365200-1793372400@myrtlelearning.com
SUMMARY:27GE Myrtle HE1
DESCRIPTION:27GE Myrtle HE1 \nThese group is made of students preparing for their English exams in 2025/2026 \nSelect the button below to join the lesson online \n \n 
URL:https://myrtlelearning.com/event/25ge-myrtle-he1-2/2026-10-30/
LOCATION:Online Session\, 25 Pattens Gardens\, Rochester\, Other\, ME1 2QP\, United Kingdom
CATEGORIES:27GE Myrtle HE1
ATTACH;FMTTYPE=image/jpeg:https://myrtlelearning.com/wp-content/uploads/2023/08/myrtle-icon-whitejpg.jpg
ORGANIZER;CN="Abbie":MAILTO:barnesab@myrtlelearning.com
END:VEVENT
END:VCALENDAR