BEGIN:VCALENDAR
VERSION:2.0
PRODID:-//Myrtle Learning - ECPv6.15.3//NONSGML v1.0//EN
CALSCALE:GREGORIAN
METHOD:PUBLISH
X-WR-CALNAME:Myrtle Learning
X-ORIGINAL-URL:https://myrtlelearning.com
X-WR-CALDESC:Events for Myrtle Learning
REFRESH-INTERVAL;VALUE=DURATION:PT1H
X-Robots-Tag:noindex
X-PUBLISHED-TTL:PT1H
BEGIN:VTIMEZONE
TZID:UTC
BEGIN:STANDARD
TZOFFSETFROM:+0000
TZOFFSETTO:+0000
TZNAME:UTC
DTSTART:20270101T000000
END:STANDARD
END:VTIMEZONE
BEGIN:VEVENT
DTSTART;TZID=UTC:20270304T130000
DTEND;TZID=UTC:20270304T150000
DTSTAMP:20260422T033324
CREATED:20250627T113227Z
LAST-MODIFIED:20250930T135121Z
UID:10081183-1804165200-1804172400@myrtlelearning.com
SUMMARY:27GE Myrtle HE1
DESCRIPTION:27GE Myrtle HE1 \nThese group is made of students preparing for their English exams in 2025/2026 \nSelect the button below to join the lesson online \n \n 
URL:https://myrtlelearning.com/event/25ge-myrtle-he1-2/2027-03-04/
LOCATION:Online Session\, 25 Pattens Gardens\, Rochester\, Other\, ME1 2QP\, United Kingdom
CATEGORIES:27GE Myrtle HE1
ATTACH;FMTTYPE=image/jpeg:https://myrtlelearning.com/wp-content/uploads/2023/08/myrtle-icon-whitejpg.jpg
ORGANIZER;CN="Abbie":MAILTO:barnesab@myrtlelearning.com
END:VEVENT
BEGIN:VEVENT
DTSTART;TZID=UTC:20270305T130000
DTEND;TZID=UTC:20270305T150000
DTSTAMP:20260422T033324
CREATED:20250627T113227Z
LAST-MODIFIED:20250930T135121Z
UID:10081184-1804251600-1804258800@myrtlelearning.com
SUMMARY:27GE Myrtle HE1
DESCRIPTION:27GE Myrtle HE1 \nThese group is made of students preparing for their English exams in 2025/2026 \nSelect the button below to join the lesson online \n \n 
URL:https://myrtlelearning.com/event/25ge-myrtle-he1-2/2027-03-05/
LOCATION:Online Session\, 25 Pattens Gardens\, Rochester\, Other\, ME1 2QP\, United Kingdom
CATEGORIES:27GE Myrtle HE1
ATTACH;FMTTYPE=image/jpeg:https://myrtlelearning.com/wp-content/uploads/2023/08/myrtle-icon-whitejpg.jpg
ORGANIZER;CN="Abbie":MAILTO:barnesab@myrtlelearning.com
END:VEVENT
BEGIN:VEVENT
DTSTART;TZID=UTC:20270311T130000
DTEND;TZID=UTC:20270311T150000
DTSTAMP:20260422T033324
CREATED:20250627T113227Z
LAST-MODIFIED:20250930T135121Z
UID:10081185-1804770000-1804777200@myrtlelearning.com
SUMMARY:27GE Myrtle HE1
DESCRIPTION:27GE Myrtle HE1 \nThese group is made of students preparing for their English exams in 2025/2026 \nSelect the button below to join the lesson online \n \n 
URL:https://myrtlelearning.com/event/25ge-myrtle-he1-2/2027-03-11/
LOCATION:Online Session\, 25 Pattens Gardens\, Rochester\, Other\, ME1 2QP\, United Kingdom
CATEGORIES:27GE Myrtle HE1
ATTACH;FMTTYPE=image/jpeg:https://myrtlelearning.com/wp-content/uploads/2023/08/myrtle-icon-whitejpg.jpg
ORGANIZER;CN="Abbie":MAILTO:barnesab@myrtlelearning.com
END:VEVENT
BEGIN:VEVENT
DTSTART;TZID=UTC:20270312T130000
DTEND;TZID=UTC:20270312T150000
DTSTAMP:20260422T033324
CREATED:20250627T113227Z
LAST-MODIFIED:20250930T135121Z
UID:10081186-1804856400-1804863600@myrtlelearning.com
SUMMARY:27GE Myrtle HE1
DESCRIPTION:27GE Myrtle HE1 \nThese group is made of students preparing for their English exams in 2025/2026 \nSelect the button below to join the lesson online \n \n 
URL:https://myrtlelearning.com/event/25ge-myrtle-he1-2/2027-03-12/
LOCATION:Online Session\, 25 Pattens Gardens\, Rochester\, Other\, ME1 2QP\, United Kingdom
CATEGORIES:27GE Myrtle HE1
ATTACH;FMTTYPE=image/jpeg:https://myrtlelearning.com/wp-content/uploads/2023/08/myrtle-icon-whitejpg.jpg
ORGANIZER;CN="Abbie":MAILTO:barnesab@myrtlelearning.com
END:VEVENT
BEGIN:VEVENT
DTSTART;TZID=UTC:20270318T130000
DTEND;TZID=UTC:20270318T150000
DTSTAMP:20260422T033324
CREATED:20250627T113227Z
LAST-MODIFIED:20250930T135121Z
UID:10081187-1805374800-1805382000@myrtlelearning.com
SUMMARY:27GE Myrtle HE1
DESCRIPTION:27GE Myrtle HE1 \nThese group is made of students preparing for their English exams in 2025/2026 \nSelect the button below to join the lesson online \n \n 
URL:https://myrtlelearning.com/event/25ge-myrtle-he1-2/2027-03-18/
LOCATION:Online Session\, 25 Pattens Gardens\, Rochester\, Other\, ME1 2QP\, United Kingdom
CATEGORIES:27GE Myrtle HE1
ATTACH;FMTTYPE=image/jpeg:https://myrtlelearning.com/wp-content/uploads/2023/08/myrtle-icon-whitejpg.jpg
ORGANIZER;CN="Abbie":MAILTO:barnesab@myrtlelearning.com
END:VEVENT
BEGIN:VEVENT
DTSTART;TZID=UTC:20270319T130000
DTEND;TZID=UTC:20270319T150000
DTSTAMP:20260422T033324
CREATED:20250627T113227Z
LAST-MODIFIED:20250930T135121Z
UID:10081188-1805461200-1805468400@myrtlelearning.com
SUMMARY:27GE Myrtle HE1
DESCRIPTION:27GE Myrtle HE1 \nThese group is made of students preparing for their English exams in 2025/2026 \nSelect the button below to join the lesson online \n \n 
URL:https://myrtlelearning.com/event/25ge-myrtle-he1-2/2027-03-19/
LOCATION:Online Session\, 25 Pattens Gardens\, Rochester\, Other\, ME1 2QP\, United Kingdom
CATEGORIES:27GE Myrtle HE1
ATTACH;FMTTYPE=image/jpeg:https://myrtlelearning.com/wp-content/uploads/2023/08/myrtle-icon-whitejpg.jpg
ORGANIZER;CN="Abbie":MAILTO:barnesab@myrtlelearning.com
END:VEVENT
BEGIN:VEVENT
DTSTART;TZID=UTC:20270325T130000
DTEND;TZID=UTC:20270325T150000
DTSTAMP:20260422T033324
CREATED:20250627T113227Z
LAST-MODIFIED:20250930T135121Z
UID:10081189-1805979600-1805986800@myrtlelearning.com
SUMMARY:27GE Myrtle HE1
DESCRIPTION:27GE Myrtle HE1 \nThese group is made of students preparing for their English exams in 2025/2026 \nSelect the button below to join the lesson online \n \n 
URL:https://myrtlelearning.com/event/25ge-myrtle-he1-2/2027-03-25/
LOCATION:Online Session\, 25 Pattens Gardens\, Rochester\, Other\, ME1 2QP\, United Kingdom
CATEGORIES:27GE Myrtle HE1
ATTACH;FMTTYPE=image/jpeg:https://myrtlelearning.com/wp-content/uploads/2023/08/myrtle-icon-whitejpg.jpg
ORGANIZER;CN="Abbie":MAILTO:barnesab@myrtlelearning.com
END:VEVENT
BEGIN:VEVENT
DTSTART;TZID=UTC:20270326T130000
DTEND;TZID=UTC:20270326T150000
DTSTAMP:20260422T033324
CREATED:20250627T113227Z
LAST-MODIFIED:20250930T135121Z
UID:10081190-1806066000-1806073200@myrtlelearning.com
SUMMARY:27GE Myrtle HE1
DESCRIPTION:27GE Myrtle HE1 \nThese group is made of students preparing for their English exams in 2025/2026 \nSelect the button below to join the lesson online \n \n 
URL:https://myrtlelearning.com/event/25ge-myrtle-he1-2/2027-03-26/
LOCATION:Online Session\, 25 Pattens Gardens\, Rochester\, Other\, ME1 2QP\, United Kingdom
CATEGORIES:27GE Myrtle HE1
ATTACH;FMTTYPE=image/jpeg:https://myrtlelearning.com/wp-content/uploads/2023/08/myrtle-icon-whitejpg.jpg
ORGANIZER;CN="Abbie":MAILTO:barnesab@myrtlelearning.com
END:VEVENT
END:VCALENDAR