BEGIN:VCALENDAR
VERSION:2.0
PRODID:-//Myrtle Learning - ECPv6.15.3//NONSGML v1.0//EN
CALSCALE:GREGORIAN
METHOD:PUBLISH
X-WR-CALNAME:Myrtle Learning
X-ORIGINAL-URL:https://myrtlelearning.com
X-WR-CALDESC:Events for Myrtle Learning
REFRESH-INTERVAL;VALUE=DURATION:PT1H
X-Robots-Tag:noindex
X-PUBLISHED-TTL:PT1H
BEGIN:VTIMEZONE
TZID:UTC
BEGIN:STANDARD
TZOFFSETFROM:+0000
TZOFFSETTO:+0000
TZNAME:UTC
DTSTART:20250101T000000
END:STANDARD
END:VTIMEZONE
BEGIN:VEVENT
DTSTART;TZID=UTC:20250902T180000
DTEND;TZID=UTC:20250902T200000
DTSTAMP:20260421T175642
CREATED:20250902T171309Z
LAST-MODIFIED:20250902T171313Z
UID:10048477-1756836000-1756843200@myrtlelearning.com
SUMMARY:27GM Myrtle 1
DESCRIPTION:This lesson covers KS3 maths on Tuesday and and science on Wednesday. \nSelect the button below to join the lesson online
URL:https://myrtlelearning.com/event/gcse-year-7-myrtle-1-2-2-2/2025-09-02/
LOCATION:Myrtle Learning Centre\, Pattens Gardens\, Rochester\, Kent\, ME1 2QP\, United Kingdom
CATEGORIES:27GM Myrtle 1
ATTACH;FMTTYPE=image/jpeg:https://myrtlelearning.com/wp-content/uploads/2023/08/myrtle-icon-whitejpg.jpg
END:VEVENT
BEGIN:VEVENT
DTSTART;TZID=UTC:20250909T180000
DTEND;TZID=UTC:20250909T200000
DTSTAMP:20260421T175642
CREATED:20250902T171309Z
LAST-MODIFIED:20250902T171313Z
UID:10078729-1757440800-1757448000@myrtlelearning.com
SUMMARY:27GM Myrtle 1
DESCRIPTION:This lesson covers KS3 maths on Tuesday and and science on Wednesday. \nSelect the button below to join the lesson online
URL:https://myrtlelearning.com/event/gcse-year-7-myrtle-1-2-2-2/2025-09-09/
LOCATION:Myrtle Learning Centre\, Pattens Gardens\, Rochester\, Kent\, ME1 2QP\, United Kingdom
CATEGORIES:27GM Myrtle 1
ATTACH;FMTTYPE=image/jpeg:https://myrtlelearning.com/wp-content/uploads/2023/08/myrtle-icon-whitejpg.jpg
END:VEVENT
BEGIN:VEVENT
DTSTART;TZID=UTC:20250916T180000
DTEND;TZID=UTC:20250916T200000
DTSTAMP:20260421T175642
CREATED:20250902T171309Z
LAST-MODIFIED:20250902T171313Z
UID:10078730-1758045600-1758052800@myrtlelearning.com
SUMMARY:27GM Myrtle 1
DESCRIPTION:This lesson covers KS3 maths on Tuesday and and science on Wednesday. \nSelect the button below to join the lesson online
URL:https://myrtlelearning.com/event/gcse-year-7-myrtle-1-2-2-2/2025-09-16/
LOCATION:Myrtle Learning Centre\, Pattens Gardens\, Rochester\, Kent\, ME1 2QP\, United Kingdom
CATEGORIES:27GM Myrtle 1
ATTACH;FMTTYPE=image/jpeg:https://myrtlelearning.com/wp-content/uploads/2023/08/myrtle-icon-whitejpg.jpg
END:VEVENT
BEGIN:VEVENT
DTSTART;TZID=UTC:20250923T180000
DTEND;TZID=UTC:20250923T200000
DTSTAMP:20260421T175642
CREATED:20250902T171309Z
LAST-MODIFIED:20250902T171313Z
UID:10078731-1758650400-1758657600@myrtlelearning.com
SUMMARY:27GM Myrtle 1
DESCRIPTION:This lesson covers KS3 maths on Tuesday and and science on Wednesday. \nSelect the button below to join the lesson online
URL:https://myrtlelearning.com/event/gcse-year-7-myrtle-1-2-2-2/2025-09-23/
LOCATION:Myrtle Learning Centre\, Pattens Gardens\, Rochester\, Kent\, ME1 2QP\, United Kingdom
CATEGORIES:27GM Myrtle 1
ATTACH;FMTTYPE=image/jpeg:https://myrtlelearning.com/wp-content/uploads/2023/08/myrtle-icon-whitejpg.jpg
END:VEVENT
BEGIN:VEVENT
DTSTART;TZID=UTC:20250930T180000
DTEND;TZID=UTC:20250930T200000
DTSTAMP:20260421T175642
CREATED:20250902T171309Z
LAST-MODIFIED:20250902T171313Z
UID:10078732-1759255200-1759262400@myrtlelearning.com
SUMMARY:27GM Myrtle 1
DESCRIPTION:This lesson covers KS3 maths on Tuesday and and science on Wednesday. \nSelect the button below to join the lesson online
URL:https://myrtlelearning.com/event/gcse-year-7-myrtle-1-2-2-2/2025-09-30/
LOCATION:Myrtle Learning Centre\, Pattens Gardens\, Rochester\, Kent\, ME1 2QP\, United Kingdom
CATEGORIES:27GM Myrtle 1
ATTACH;FMTTYPE=image/jpeg:https://myrtlelearning.com/wp-content/uploads/2023/08/myrtle-icon-whitejpg.jpg
END:VEVENT
END:VCALENDAR