BEGIN:VCALENDAR
VERSION:2.0
PRODID:-//Myrtle Learning - ECPv6.15.3//NONSGML v1.0//EN
CALSCALE:GREGORIAN
METHOD:PUBLISH
X-WR-CALNAME:Myrtle Learning
X-ORIGINAL-URL:https://myrtlelearning.com
X-WR-CALDESC:Events for Myrtle Learning
REFRESH-INTERVAL;VALUE=DURATION:PT1H
X-Robots-Tag:noindex
X-PUBLISHED-TTL:PT1H
BEGIN:VTIMEZONE
TZID:UTC
BEGIN:STANDARD
TZOFFSETFROM:+0000
TZOFFSETTO:+0000
TZNAME:UTC
DTSTART:20260101T000000
END:STANDARD
END:VTIMEZONE
BEGIN:VEVENT
DTSTART;TZID=UTC:20260703T150000
DTEND;TZID=UTC:20260703T170000
DTSTAMP:20260422T104648
CREATED:20260209T135908Z
LAST-MODIFIED:20260410T134657Z
UID:10101690-1783090800-1783098000@myrtlelearning.com
SUMMARY:27GM Myrtle 2
DESCRIPTION:This lesson covers KS4 maths on Friday. \nSelect the button below to join the lesson online
URL:https://myrtlelearning.com/event/27gm-myrtle-2-2/2026-07-03/
LOCATION:Myrtle Learning Centre\, Pattens Gardens\, Rochester\, Kent\, ME1 2QP\, United Kingdom
CATEGORIES:27GM Myrtle 2
ATTACH;FMTTYPE=image/jpeg:https://myrtlelearning.com/wp-content/uploads/2023/08/myrtle-icon-whitejpg.jpg
END:VEVENT
BEGIN:VEVENT
DTSTART;TZID=UTC:20260710T150000
DTEND;TZID=UTC:20260710T170000
DTSTAMP:20260422T104648
CREATED:20260209T135908Z
LAST-MODIFIED:20260410T134657Z
UID:10101691-1783695600-1783702800@myrtlelearning.com
SUMMARY:27GM Myrtle 2
DESCRIPTION:This lesson covers KS4 maths on Friday. \nSelect the button below to join the lesson online
URL:https://myrtlelearning.com/event/27gm-myrtle-2-2/2026-07-10/
LOCATION:Myrtle Learning Centre\, Pattens Gardens\, Rochester\, Kent\, ME1 2QP\, United Kingdom
CATEGORIES:27GM Myrtle 2
ATTACH;FMTTYPE=image/jpeg:https://myrtlelearning.com/wp-content/uploads/2023/08/myrtle-icon-whitejpg.jpg
END:VEVENT
BEGIN:VEVENT
DTSTART;TZID=UTC:20260717T150000
DTEND;TZID=UTC:20260717T170000
DTSTAMP:20260422T104648
CREATED:20260209T135908Z
LAST-MODIFIED:20260410T134657Z
UID:10101692-1784300400-1784307600@myrtlelearning.com
SUMMARY:27GM Myrtle 2
DESCRIPTION:This lesson covers KS4 maths on Friday. \nSelect the button below to join the lesson online
URL:https://myrtlelearning.com/event/27gm-myrtle-2-2/2026-07-17/
LOCATION:Myrtle Learning Centre\, Pattens Gardens\, Rochester\, Kent\, ME1 2QP\, United Kingdom
CATEGORIES:27GM Myrtle 2
ATTACH;FMTTYPE=image/jpeg:https://myrtlelearning.com/wp-content/uploads/2023/08/myrtle-icon-whitejpg.jpg
END:VEVENT
BEGIN:VEVENT
DTSTART;TZID=UTC:20260724T150000
DTEND;TZID=UTC:20260724T170000
DTSTAMP:20260422T104648
CREATED:20260209T135908Z
LAST-MODIFIED:20260410T134657Z
UID:10101693-1784905200-1784912400@myrtlelearning.com
SUMMARY:27GM Myrtle 2
DESCRIPTION:This lesson covers KS4 maths on Friday. \nSelect the button below to join the lesson online
URL:https://myrtlelearning.com/event/27gm-myrtle-2-2/2026-07-24/
LOCATION:Myrtle Learning Centre\, Pattens Gardens\, Rochester\, Kent\, ME1 2QP\, United Kingdom
CATEGORIES:27GM Myrtle 2
ATTACH;FMTTYPE=image/jpeg:https://myrtlelearning.com/wp-content/uploads/2023/08/myrtle-icon-whitejpg.jpg
END:VEVENT
BEGIN:VEVENT
DTSTART;TZID=UTC:20260731T150000
DTEND;TZID=UTC:20260731T170000
DTSTAMP:20260422T104648
CREATED:20260209T135908Z
LAST-MODIFIED:20260410T134657Z
UID:10101694-1785510000-1785517200@myrtlelearning.com
SUMMARY:27GM Myrtle 2
DESCRIPTION:This lesson covers KS4 maths on Friday. \nSelect the button below to join the lesson online
URL:https://myrtlelearning.com/event/27gm-myrtle-2-2/2026-07-31/
LOCATION:Myrtle Learning Centre\, Pattens Gardens\, Rochester\, Kent\, ME1 2QP\, United Kingdom
CATEGORIES:27GM Myrtle 2
ATTACH;FMTTYPE=image/jpeg:https://myrtlelearning.com/wp-content/uploads/2023/08/myrtle-icon-whitejpg.jpg
END:VEVENT
END:VCALENDAR