BEGIN:VCALENDAR
VERSION:2.0
PRODID:-//Myrtle Learning - ECPv6.15.3//NONSGML v1.0//EN
CALSCALE:GREGORIAN
METHOD:PUBLISH
X-WR-CALNAME:Myrtle Learning
X-ORIGINAL-URL:https://myrtlelearning.com
X-WR-CALDESC:Events for Myrtle Learning
REFRESH-INTERVAL;VALUE=DURATION:PT1H
X-Robots-Tag:noindex
X-PUBLISHED-TTL:PT1H
BEGIN:VTIMEZONE
TZID:UTC
BEGIN:STANDARD
TZOFFSETFROM:+0000
TZOFFSETTO:+0000
TZNAME:UTC
DTSTART:20270101T000000
END:STANDARD
END:VTIMEZONE
BEGIN:VEVENT
DTSTART;TZID=UTC:20270402T150000
DTEND;TZID=UTC:20270402T170000
DTSTAMP:20260423T020833
CREATED:20260209T135908Z
LAST-MODIFIED:20260410T134657Z
UID:10101729-1806678000-1806685200@myrtlelearning.com
SUMMARY:27GM Myrtle 2
DESCRIPTION:This lesson covers KS4 maths on Friday. \nSelect the button below to join the lesson online
URL:https://myrtlelearning.com/event/27gm-myrtle-2-2/2027-04-02/
LOCATION:Myrtle Learning Centre\, Pattens Gardens\, Rochester\, Kent\, ME1 2QP\, United Kingdom
CATEGORIES:27GM Myrtle 2
ATTACH;FMTTYPE=image/jpeg:https://myrtlelearning.com/wp-content/uploads/2023/08/myrtle-icon-whitejpg.jpg
END:VEVENT
BEGIN:VEVENT
DTSTART;TZID=UTC:20270409T150000
DTEND;TZID=UTC:20270409T170000
DTSTAMP:20260423T020833
CREATED:20260209T135908Z
LAST-MODIFIED:20260410T134657Z
UID:10101730-1807282800-1807290000@myrtlelearning.com
SUMMARY:27GM Myrtle 2
DESCRIPTION:This lesson covers KS4 maths on Friday. \nSelect the button below to join the lesson online
URL:https://myrtlelearning.com/event/27gm-myrtle-2-2/2027-04-09/
LOCATION:Myrtle Learning Centre\, Pattens Gardens\, Rochester\, Kent\, ME1 2QP\, United Kingdom
CATEGORIES:27GM Myrtle 2
ATTACH;FMTTYPE=image/jpeg:https://myrtlelearning.com/wp-content/uploads/2023/08/myrtle-icon-whitejpg.jpg
END:VEVENT
BEGIN:VEVENT
DTSTART;TZID=UTC:20270416T150000
DTEND;TZID=UTC:20270416T170000
DTSTAMP:20260423T020833
CREATED:20260209T135908Z
LAST-MODIFIED:20260410T134657Z
UID:10101731-1807887600-1807894800@myrtlelearning.com
SUMMARY:27GM Myrtle 2
DESCRIPTION:This lesson covers KS4 maths on Friday. \nSelect the button below to join the lesson online
URL:https://myrtlelearning.com/event/27gm-myrtle-2-2/2027-04-16/
LOCATION:Myrtle Learning Centre\, Pattens Gardens\, Rochester\, Kent\, ME1 2QP\, United Kingdom
CATEGORIES:27GM Myrtle 2
ATTACH;FMTTYPE=image/jpeg:https://myrtlelearning.com/wp-content/uploads/2023/08/myrtle-icon-whitejpg.jpg
END:VEVENT
BEGIN:VEVENT
DTSTART;TZID=UTC:20270423T150000
DTEND;TZID=UTC:20270423T170000
DTSTAMP:20260423T020833
CREATED:20260209T135908Z
LAST-MODIFIED:20260410T134657Z
UID:10101732-1808492400-1808499600@myrtlelearning.com
SUMMARY:27GM Myrtle 2
DESCRIPTION:This lesson covers KS4 maths on Friday. \nSelect the button below to join the lesson online
URL:https://myrtlelearning.com/event/27gm-myrtle-2-2/2027-04-23/
LOCATION:Myrtle Learning Centre\, Pattens Gardens\, Rochester\, Kent\, ME1 2QP\, United Kingdom
CATEGORIES:27GM Myrtle 2
ATTACH;FMTTYPE=image/jpeg:https://myrtlelearning.com/wp-content/uploads/2023/08/myrtle-icon-whitejpg.jpg
END:VEVENT
BEGIN:VEVENT
DTSTART;TZID=UTC:20270430T150000
DTEND;TZID=UTC:20270430T170000
DTSTAMP:20260423T020833
CREATED:20260209T135908Z
LAST-MODIFIED:20260410T134657Z
UID:10101733-1809097200-1809104400@myrtlelearning.com
SUMMARY:27GM Myrtle 2
DESCRIPTION:This lesson covers KS4 maths on Friday. \nSelect the button below to join the lesson online
URL:https://myrtlelearning.com/event/27gm-myrtle-2-2/2027-04-30/
LOCATION:Myrtle Learning Centre\, Pattens Gardens\, Rochester\, Kent\, ME1 2QP\, United Kingdom
CATEGORIES:27GM Myrtle 2
ATTACH;FMTTYPE=image/jpeg:https://myrtlelearning.com/wp-content/uploads/2023/08/myrtle-icon-whitejpg.jpg
END:VEVENT
END:VCALENDAR