BEGIN:VCALENDAR
VERSION:2.0
PRODID:-//Myrtle Learning - ECPv6.15.3//NONSGML v1.0//EN
CALSCALE:GREGORIAN
METHOD:PUBLISH
X-WR-CALNAME:Myrtle Learning
X-ORIGINAL-URL:https://myrtlelearning.com
X-WR-CALDESC:Events for Myrtle Learning
REFRESH-INTERVAL;VALUE=DURATION:PT1H
X-Robots-Tag:noindex
X-PUBLISHED-TTL:PT1H
BEGIN:VTIMEZONE
TZID:UTC
BEGIN:STANDARD
TZOFFSETFROM:+0000
TZOFFSETTO:+0000
TZNAME:UTC
DTSTART:20280101T000000
END:STANDARD
END:VTIMEZONE
BEGIN:VEVENT
DTSTART;TZID=UTC:20280902T160000
DTEND;TZID=UTC:20280902T180000
DTSTAMP:20260425T211513
CREATED:20260425T103622Z
LAST-MODIFIED:20260425T103624Z
UID:10103482-1851523200-1851530400@myrtlelearning.com
SUMMARY:27GM Myrtle 2
DESCRIPTION:This lesson covers KS4 maths on Saturday’s. \nSelect the button below to join the lesson online
URL:https://myrtlelearning.com/event/27gm-myrtle-2-2-2/2028-09-02/
LOCATION:Myrtle Learning Centre\, Pattens Gardens\, Rochester\, Kent\, ME1 2QP\, United Kingdom
CATEGORIES:27GM Myrtle 2
ATTACH;FMTTYPE=image/jpeg:https://myrtlelearning.com/wp-content/uploads/2023/08/myrtle-icon-whitejpg.jpg
END:VEVENT
BEGIN:VEVENT
DTSTART;TZID=UTC:20280909T160000
DTEND;TZID=UTC:20280909T180000
DTSTAMP:20260425T211513
CREATED:20260425T103622Z
LAST-MODIFIED:20260425T103624Z
UID:10103483-1852128000-1852135200@myrtlelearning.com
SUMMARY:27GM Myrtle 2
DESCRIPTION:This lesson covers KS4 maths on Saturday’s. \nSelect the button below to join the lesson online
URL:https://myrtlelearning.com/event/27gm-myrtle-2-2-2/2028-09-09/
LOCATION:Myrtle Learning Centre\, Pattens Gardens\, Rochester\, Kent\, ME1 2QP\, United Kingdom
CATEGORIES:27GM Myrtle 2
ATTACH;FMTTYPE=image/jpeg:https://myrtlelearning.com/wp-content/uploads/2023/08/myrtle-icon-whitejpg.jpg
END:VEVENT
BEGIN:VEVENT
DTSTART;TZID=UTC:20280916T160000
DTEND;TZID=UTC:20280916T180000
DTSTAMP:20260425T211513
CREATED:20260425T103622Z
LAST-MODIFIED:20260425T103624Z
UID:10103484-1852732800-1852740000@myrtlelearning.com
SUMMARY:27GM Myrtle 2
DESCRIPTION:This lesson covers KS4 maths on Saturday’s. \nSelect the button below to join the lesson online
URL:https://myrtlelearning.com/event/27gm-myrtle-2-2-2/2028-09-16/
LOCATION:Myrtle Learning Centre\, Pattens Gardens\, Rochester\, Kent\, ME1 2QP\, United Kingdom
CATEGORIES:27GM Myrtle 2
ATTACH;FMTTYPE=image/jpeg:https://myrtlelearning.com/wp-content/uploads/2023/08/myrtle-icon-whitejpg.jpg
END:VEVENT
BEGIN:VEVENT
DTSTART;TZID=UTC:20280923T160000
DTEND;TZID=UTC:20280923T180000
DTSTAMP:20260425T211513
CREATED:20260425T103622Z
LAST-MODIFIED:20260425T103624Z
UID:10103485-1853337600-1853344800@myrtlelearning.com
SUMMARY:27GM Myrtle 2
DESCRIPTION:This lesson covers KS4 maths on Saturday’s. \nSelect the button below to join the lesson online
URL:https://myrtlelearning.com/event/27gm-myrtle-2-2-2/2028-09-23/
LOCATION:Myrtle Learning Centre\, Pattens Gardens\, Rochester\, Kent\, ME1 2QP\, United Kingdom
CATEGORIES:27GM Myrtle 2
ATTACH;FMTTYPE=image/jpeg:https://myrtlelearning.com/wp-content/uploads/2023/08/myrtle-icon-whitejpg.jpg
END:VEVENT
BEGIN:VEVENT
DTSTART;TZID=UTC:20280930T160000
DTEND;TZID=UTC:20280930T180000
DTSTAMP:20260425T211513
CREATED:20260425T103622Z
LAST-MODIFIED:20260425T103624Z
UID:10103486-1853942400-1853949600@myrtlelearning.com
SUMMARY:27GM Myrtle 2
DESCRIPTION:This lesson covers KS4 maths on Saturday’s. \nSelect the button below to join the lesson online
URL:https://myrtlelearning.com/event/27gm-myrtle-2-2-2/2028-09-30/
LOCATION:Myrtle Learning Centre\, Pattens Gardens\, Rochester\, Kent\, ME1 2QP\, United Kingdom
CATEGORIES:27GM Myrtle 2
ATTACH;FMTTYPE=image/jpeg:https://myrtlelearning.com/wp-content/uploads/2023/08/myrtle-icon-whitejpg.jpg
END:VEVENT
END:VCALENDAR