BEGIN:VCALENDAR
VERSION:2.0
PRODID:-//Myrtle Learning - ECPv6.15.3//NONSGML v1.0//EN
CALSCALE:GREGORIAN
METHOD:PUBLISH
X-ORIGINAL-URL:https://myrtlelearning.com
X-WR-CALDESC:Events for Myrtle Learning
REFRESH-INTERVAL;VALUE=DURATION:PT1H
X-Robots-Tag:noindex
X-PUBLISHED-TTL:PT1H
BEGIN:VTIMEZONE
TZID:UTC
BEGIN:STANDARD
TZOFFSETFROM:+0000
TZOFFSETTO:+0000
TZNAME:UTC
DTSTART:20280101T000000
END:STANDARD
END:VTIMEZONE
BEGIN:VEVENT
DTSTART;TZID=UTC:20281104T160000
DTEND;TZID=UTC:20281104T180000
DTSTAMP:20260426T011831
CREATED:20260425T103622Z
LAST-MODIFIED:20260425T103624Z
UID:10103491-1856966400-1856973600@myrtlelearning.com
SUMMARY:27GM Myrtle 2
DESCRIPTION:This lesson covers KS4 maths on Saturday’s. \nSelect the button below to join the lesson online
URL:https://myrtlelearning.com/event/27gm-myrtle-2-2-2/2028-11-04/
LOCATION:Myrtle Learning Centre\, Pattens Gardens\, Rochester\, Kent\, ME1 2QP\, United Kingdom
CATEGORIES:27GM Myrtle 2
ATTACH;FMTTYPE=image/jpeg:https://myrtlelearning.com/wp-content/uploads/2023/08/myrtle-icon-whitejpg.jpg
END:VEVENT
BEGIN:VEVENT
DTSTART;TZID=UTC:20281111T160000
DTEND;TZID=UTC:20281111T180000
DTSTAMP:20260426T011831
CREATED:20260425T103622Z
LAST-MODIFIED:20260425T103624Z
UID:10103492-1857571200-1857578400@myrtlelearning.com
SUMMARY:27GM Myrtle 2
DESCRIPTION:This lesson covers KS4 maths on Saturday’s. \nSelect the button below to join the lesson online
URL:https://myrtlelearning.com/event/27gm-myrtle-2-2-2/2028-11-11/
LOCATION:Myrtle Learning Centre\, Pattens Gardens\, Rochester\, Kent\, ME1 2QP\, United Kingdom
CATEGORIES:27GM Myrtle 2
ATTACH;FMTTYPE=image/jpeg:https://myrtlelearning.com/wp-content/uploads/2023/08/myrtle-icon-whitejpg.jpg
END:VEVENT
BEGIN:VEVENT
DTSTART;TZID=UTC:20281118T160000
DTEND;TZID=UTC:20281118T180000
DTSTAMP:20260426T011831
CREATED:20260425T103622Z
LAST-MODIFIED:20260425T103624Z
UID:10103493-1858176000-1858183200@myrtlelearning.com
SUMMARY:27GM Myrtle 2
DESCRIPTION:This lesson covers KS4 maths on Saturday’s. \nSelect the button below to join the lesson online
URL:https://myrtlelearning.com/event/27gm-myrtle-2-2-2/2028-11-18/
LOCATION:Myrtle Learning Centre\, Pattens Gardens\, Rochester\, Kent\, ME1 2QP\, United Kingdom
CATEGORIES:27GM Myrtle 2
ATTACH;FMTTYPE=image/jpeg:https://myrtlelearning.com/wp-content/uploads/2023/08/myrtle-icon-whitejpg.jpg
END:VEVENT
BEGIN:VEVENT
DTSTART;TZID=UTC:20281125T160000
DTEND;TZID=UTC:20281125T180000
DTSTAMP:20260426T011831
CREATED:20260425T103622Z
LAST-MODIFIED:20260425T103624Z
UID:10103494-1858780800-1858788000@myrtlelearning.com
SUMMARY:27GM Myrtle 2
DESCRIPTION:This lesson covers KS4 maths on Saturday’s. \nSelect the button below to join the lesson online
URL:https://myrtlelearning.com/event/27gm-myrtle-2-2-2/2028-11-25/
LOCATION:Myrtle Learning Centre\, Pattens Gardens\, Rochester\, Kent\, ME1 2QP\, United Kingdom
CATEGORIES:27GM Myrtle 2
ATTACH;FMTTYPE=image/jpeg:https://myrtlelearning.com/wp-content/uploads/2023/08/myrtle-icon-whitejpg.jpg
END:VEVENT
END:VCALENDAR