BEGIN:VCALENDAR
VERSION:2.0
PRODID:-//Myrtle Learning - ECPv6.15.3//NONSGML v1.0//EN
CALSCALE:GREGORIAN
METHOD:PUBLISH
X-WR-CALNAME:Myrtle Learning
X-ORIGINAL-URL:https://myrtlelearning.com
X-WR-CALDESC:Events for Myrtle Learning
REFRESH-INTERVAL;VALUE=DURATION:PT1H
X-Robots-Tag:noindex
X-PUBLISHED-TTL:PT1H
BEGIN:VTIMEZONE
TZID:UTC
BEGIN:STANDARD
TZOFFSETFROM:+0000
TZOFFSETTO:+0000
TZNAME:UTC
DTSTART:20250101T000000
END:STANDARD
END:VTIMEZONE
BEGIN:VEVENT
DTSTART;TZID=UTC:20251103T100000
DTEND;TZID=UTC:20251103T120000
DTSTAMP:20260424T213429
CREATED:20251020T083749Z
LAST-MODIFIED:20251109T222346Z
UID:10085804-1762164000-1762171200@myrtlelearning.com
SUMMARY:27GM Myrtle HE1
DESCRIPTION:This lesson covers GCSE maths each week \nSelect the button below to join the lesson online
URL:https://myrtlelearning.com/event/27gm-myrtle-he1-2/2025-11-03/
LOCATION:Online Session\, 25 Pattens Gardens\, Rochester\, Other\, ME1 2QP\, United Kingdom
CATEGORIES:27GM Myrtle HE1
ATTACH;FMTTYPE=image/jpeg:https://myrtlelearning.com/wp-content/uploads/2023/08/myrtle-icon-whitejpg.jpg
END:VEVENT
BEGIN:VEVENT
DTSTART;TZID=UTC:20251104T100000
DTEND;TZID=UTC:20251104T120000
DTSTAMP:20260424T213429
CREATED:20251020T083749Z
LAST-MODIFIED:20251109T222346Z
UID:10085805-1762250400-1762257600@myrtlelearning.com
SUMMARY:27GM Myrtle HE1
DESCRIPTION:This lesson covers GCSE maths each week \nSelect the button below to join the lesson online
URL:https://myrtlelearning.com/event/27gm-myrtle-he1-2/2025-11-04/
LOCATION:Online Session\, 25 Pattens Gardens\, Rochester\, Other\, ME1 2QP\, United Kingdom
CATEGORIES:27GM Myrtle HE1
ATTACH;FMTTYPE=image/jpeg:https://myrtlelearning.com/wp-content/uploads/2023/08/myrtle-icon-whitejpg.jpg
END:VEVENT
BEGIN:VEVENT
DTSTART;TZID=UTC:20251105T100000
DTEND;TZID=UTC:20251105T120000
DTSTAMP:20260424T213429
CREATED:20251020T083749Z
LAST-MODIFIED:20251109T222346Z
UID:10085806-1762336800-1762344000@myrtlelearning.com
SUMMARY:27GM Myrtle HE1
DESCRIPTION:This lesson covers GCSE maths each week \nSelect the button below to join the lesson online
URL:https://myrtlelearning.com/event/27gm-myrtle-he1-2/2025-11-05/
LOCATION:Online Session\, 25 Pattens Gardens\, Rochester\, Other\, ME1 2QP\, United Kingdom
CATEGORIES:27GM Myrtle HE1
ATTACH;FMTTYPE=image/jpeg:https://myrtlelearning.com/wp-content/uploads/2023/08/myrtle-icon-whitejpg.jpg
END:VEVENT
BEGIN:VEVENT
DTSTART;TZID=UTC:20251106T100000
DTEND;TZID=UTC:20251106T120000
DTSTAMP:20260424T213429
CREATED:20251020T083749Z
LAST-MODIFIED:20251109T222346Z
UID:10085807-1762423200-1762430400@myrtlelearning.com
SUMMARY:27GM Myrtle HE1
DESCRIPTION:This lesson covers GCSE maths each week \nSelect the button below to join the lesson online
URL:https://myrtlelearning.com/event/27gm-myrtle-he1-2/2025-11-06/
LOCATION:Online Session\, 25 Pattens Gardens\, Rochester\, Other\, ME1 2QP\, United Kingdom
CATEGORIES:27GM Myrtle HE1
ATTACH;FMTTYPE=image/jpeg:https://myrtlelearning.com/wp-content/uploads/2023/08/myrtle-icon-whitejpg.jpg
END:VEVENT
BEGIN:VEVENT
DTSTART;TZID=UTC:20251107T100000
DTEND;TZID=UTC:20251107T120000
DTSTAMP:20260424T213429
CREATED:20251020T083749Z
LAST-MODIFIED:20251109T222346Z
UID:10085808-1762509600-1762516800@myrtlelearning.com
SUMMARY:27GM Myrtle HE1
DESCRIPTION:This lesson covers GCSE maths each week \nSelect the button below to join the lesson online
URL:https://myrtlelearning.com/event/27gm-myrtle-he1-2/2025-11-07/
LOCATION:Online Session\, 25 Pattens Gardens\, Rochester\, Other\, ME1 2QP\, United Kingdom
CATEGORIES:27GM Myrtle HE1
ATTACH;FMTTYPE=image/jpeg:https://myrtlelearning.com/wp-content/uploads/2023/08/myrtle-icon-whitejpg.jpg
END:VEVENT
BEGIN:VEVENT
DTSTART;TZID=UTC:20251110T100000
DTEND;TZID=UTC:20251110T120000
DTSTAMP:20260424T213429
CREATED:20251020T083749Z
LAST-MODIFIED:20251109T222346Z
UID:10085809-1762768800-1762776000@myrtlelearning.com
SUMMARY:27GM Myrtle HE1
DESCRIPTION:This lesson covers GCSE maths each week \nSelect the button below to join the lesson online
URL:https://myrtlelearning.com/event/27gm-myrtle-he1-2/2025-11-10/
LOCATION:Online Session\, 25 Pattens Gardens\, Rochester\, Other\, ME1 2QP\, United Kingdom
CATEGORIES:27GM Myrtle HE1
ATTACH;FMTTYPE=image/jpeg:https://myrtlelearning.com/wp-content/uploads/2023/08/myrtle-icon-whitejpg.jpg
END:VEVENT
BEGIN:VEVENT
DTSTART;TZID=UTC:20251111T100000
DTEND;TZID=UTC:20251111T120000
DTSTAMP:20260424T213429
CREATED:20251020T083749Z
LAST-MODIFIED:20251109T222346Z
UID:10085810-1762855200-1762862400@myrtlelearning.com
SUMMARY:27GM Myrtle HE1
DESCRIPTION:This lesson covers GCSE maths each week \nSelect the button below to join the lesson online
URL:https://myrtlelearning.com/event/27gm-myrtle-he1-2/2025-11-11/
LOCATION:Online Session\, 25 Pattens Gardens\, Rochester\, Other\, ME1 2QP\, United Kingdom
CATEGORIES:27GM Myrtle HE1
ATTACH;FMTTYPE=image/jpeg:https://myrtlelearning.com/wp-content/uploads/2023/08/myrtle-icon-whitejpg.jpg
END:VEVENT
BEGIN:VEVENT
DTSTART;TZID=UTC:20251112T100000
DTEND;TZID=UTC:20251112T120000
DTSTAMP:20260424T213429
CREATED:20251020T083749Z
LAST-MODIFIED:20251109T222346Z
UID:10085811-1762941600-1762948800@myrtlelearning.com
SUMMARY:27GM Myrtle HE1
DESCRIPTION:This lesson covers GCSE maths each week \nSelect the button below to join the lesson online
URL:https://myrtlelearning.com/event/27gm-myrtle-he1-2/2025-11-12/
LOCATION:Online Session\, 25 Pattens Gardens\, Rochester\, Other\, ME1 2QP\, United Kingdom
CATEGORIES:27GM Myrtle HE1
ATTACH;FMTTYPE=image/jpeg:https://myrtlelearning.com/wp-content/uploads/2023/08/myrtle-icon-whitejpg.jpg
END:VEVENT
BEGIN:VEVENT
DTSTART;TZID=UTC:20251113T100000
DTEND;TZID=UTC:20251113T120000
DTSTAMP:20260424T213429
CREATED:20251020T083749Z
LAST-MODIFIED:20251109T222346Z
UID:10085812-1763028000-1763035200@myrtlelearning.com
SUMMARY:27GM Myrtle HE1
DESCRIPTION:This lesson covers GCSE maths each week \nSelect the button below to join the lesson online
URL:https://myrtlelearning.com/event/27gm-myrtle-he1-2/2025-11-13/
LOCATION:Online Session\, 25 Pattens Gardens\, Rochester\, Other\, ME1 2QP\, United Kingdom
CATEGORIES:27GM Myrtle HE1
ATTACH;FMTTYPE=image/jpeg:https://myrtlelearning.com/wp-content/uploads/2023/08/myrtle-icon-whitejpg.jpg
END:VEVENT
BEGIN:VEVENT
DTSTART;TZID=UTC:20251114T100000
DTEND;TZID=UTC:20251114T120000
DTSTAMP:20260424T213429
CREATED:20251020T083749Z
LAST-MODIFIED:20251109T222346Z
UID:10085813-1763114400-1763121600@myrtlelearning.com
SUMMARY:27GM Myrtle HE1
DESCRIPTION:This lesson covers GCSE maths each week \nSelect the button below to join the lesson online
URL:https://myrtlelearning.com/event/27gm-myrtle-he1-2/2025-11-14/
LOCATION:Online Session\, 25 Pattens Gardens\, Rochester\, Other\, ME1 2QP\, United Kingdom
CATEGORIES:27GM Myrtle HE1
ATTACH;FMTTYPE=image/jpeg:https://myrtlelearning.com/wp-content/uploads/2023/08/myrtle-icon-whitejpg.jpg
END:VEVENT
BEGIN:VEVENT
DTSTART;TZID=UTC:20251117T100000
DTEND;TZID=UTC:20251117T120000
DTSTAMP:20260424T213429
CREATED:20251020T083749Z
LAST-MODIFIED:20251109T222346Z
UID:10085814-1763373600-1763380800@myrtlelearning.com
SUMMARY:27GM Myrtle HE1
DESCRIPTION:This lesson covers GCSE maths each week \nSelect the button below to join the lesson online
URL:https://myrtlelearning.com/event/27gm-myrtle-he1-2/2025-11-17/
LOCATION:Online Session\, 25 Pattens Gardens\, Rochester\, Other\, ME1 2QP\, United Kingdom
CATEGORIES:27GM Myrtle HE1
ATTACH;FMTTYPE=image/jpeg:https://myrtlelearning.com/wp-content/uploads/2023/08/myrtle-icon-whitejpg.jpg
END:VEVENT
BEGIN:VEVENT
DTSTART;TZID=UTC:20251118T100000
DTEND;TZID=UTC:20251118T120000
DTSTAMP:20260424T213429
CREATED:20251020T083749Z
LAST-MODIFIED:20251109T222346Z
UID:10085815-1763460000-1763467200@myrtlelearning.com
SUMMARY:27GM Myrtle HE1
DESCRIPTION:This lesson covers GCSE maths each week \nSelect the button below to join the lesson online
URL:https://myrtlelearning.com/event/27gm-myrtle-he1-2/2025-11-18/
LOCATION:Online Session\, 25 Pattens Gardens\, Rochester\, Other\, ME1 2QP\, United Kingdom
CATEGORIES:27GM Myrtle HE1
ATTACH;FMTTYPE=image/jpeg:https://myrtlelearning.com/wp-content/uploads/2023/08/myrtle-icon-whitejpg.jpg
END:VEVENT
BEGIN:VEVENT
DTSTART;TZID=UTC:20251119T100000
DTEND;TZID=UTC:20251119T120000
DTSTAMP:20260424T213429
CREATED:20251020T083749Z
LAST-MODIFIED:20251109T222346Z
UID:10085816-1763546400-1763553600@myrtlelearning.com
SUMMARY:27GM Myrtle HE1
DESCRIPTION:This lesson covers GCSE maths each week \nSelect the button below to join the lesson online
URL:https://myrtlelearning.com/event/27gm-myrtle-he1-2/2025-11-19/
LOCATION:Online Session\, 25 Pattens Gardens\, Rochester\, Other\, ME1 2QP\, United Kingdom
CATEGORIES:27GM Myrtle HE1
ATTACH;FMTTYPE=image/jpeg:https://myrtlelearning.com/wp-content/uploads/2023/08/myrtle-icon-whitejpg.jpg
END:VEVENT
BEGIN:VEVENT
DTSTART;TZID=UTC:20251120T100000
DTEND;TZID=UTC:20251120T120000
DTSTAMP:20260424T213429
CREATED:20251020T083749Z
LAST-MODIFIED:20251109T222346Z
UID:10085817-1763632800-1763640000@myrtlelearning.com
SUMMARY:27GM Myrtle HE1
DESCRIPTION:This lesson covers GCSE maths each week \nSelect the button below to join the lesson online
URL:https://myrtlelearning.com/event/27gm-myrtle-he1-2/2025-11-20/
LOCATION:Online Session\, 25 Pattens Gardens\, Rochester\, Other\, ME1 2QP\, United Kingdom
CATEGORIES:27GM Myrtle HE1
ATTACH;FMTTYPE=image/jpeg:https://myrtlelearning.com/wp-content/uploads/2023/08/myrtle-icon-whitejpg.jpg
END:VEVENT
BEGIN:VEVENT
DTSTART;TZID=UTC:20251121T100000
DTEND;TZID=UTC:20251121T120000
DTSTAMP:20260424T213429
CREATED:20251020T083749Z
LAST-MODIFIED:20251109T222346Z
UID:10085818-1763719200-1763726400@myrtlelearning.com
SUMMARY:27GM Myrtle HE1
DESCRIPTION:This lesson covers GCSE maths each week \nSelect the button below to join the lesson online
URL:https://myrtlelearning.com/event/27gm-myrtle-he1-2/2025-11-21/
LOCATION:Online Session\, 25 Pattens Gardens\, Rochester\, Other\, ME1 2QP\, United Kingdom
CATEGORIES:27GM Myrtle HE1
ATTACH;FMTTYPE=image/jpeg:https://myrtlelearning.com/wp-content/uploads/2023/08/myrtle-icon-whitejpg.jpg
END:VEVENT
BEGIN:VEVENT
DTSTART;TZID=UTC:20251124T100000
DTEND;TZID=UTC:20251124T120000
DTSTAMP:20260424T213429
CREATED:20251020T083749Z
LAST-MODIFIED:20251109T222346Z
UID:10085819-1763978400-1763985600@myrtlelearning.com
SUMMARY:27GM Myrtle HE1
DESCRIPTION:This lesson covers GCSE maths each week \nSelect the button below to join the lesson online
URL:https://myrtlelearning.com/event/27gm-myrtle-he1-2/2025-11-24/
LOCATION:Online Session\, 25 Pattens Gardens\, Rochester\, Other\, ME1 2QP\, United Kingdom
CATEGORIES:27GM Myrtle HE1
ATTACH;FMTTYPE=image/jpeg:https://myrtlelearning.com/wp-content/uploads/2023/08/myrtle-icon-whitejpg.jpg
END:VEVENT
BEGIN:VEVENT
DTSTART;TZID=UTC:20251125T100000
DTEND;TZID=UTC:20251125T120000
DTSTAMP:20260424T213429
CREATED:20251020T083749Z
LAST-MODIFIED:20251109T222346Z
UID:10085820-1764064800-1764072000@myrtlelearning.com
SUMMARY:27GM Myrtle HE1
DESCRIPTION:This lesson covers GCSE maths each week \nSelect the button below to join the lesson online
URL:https://myrtlelearning.com/event/27gm-myrtle-he1-2/2025-11-25/
LOCATION:Online Session\, 25 Pattens Gardens\, Rochester\, Other\, ME1 2QP\, United Kingdom
CATEGORIES:27GM Myrtle HE1
ATTACH;FMTTYPE=image/jpeg:https://myrtlelearning.com/wp-content/uploads/2023/08/myrtle-icon-whitejpg.jpg
END:VEVENT
BEGIN:VEVENT
DTSTART;TZID=UTC:20251126T100000
DTEND;TZID=UTC:20251126T120000
DTSTAMP:20260424T213429
CREATED:20251020T083749Z
LAST-MODIFIED:20251109T222346Z
UID:10085821-1764151200-1764158400@myrtlelearning.com
SUMMARY:27GM Myrtle HE1
DESCRIPTION:This lesson covers GCSE maths each week \nSelect the button below to join the lesson online
URL:https://myrtlelearning.com/event/27gm-myrtle-he1-2/2025-11-26/
LOCATION:Online Session\, 25 Pattens Gardens\, Rochester\, Other\, ME1 2QP\, United Kingdom
CATEGORIES:27GM Myrtle HE1
ATTACH;FMTTYPE=image/jpeg:https://myrtlelearning.com/wp-content/uploads/2023/08/myrtle-icon-whitejpg.jpg
END:VEVENT
BEGIN:VEVENT
DTSTART;TZID=UTC:20251127T100000
DTEND;TZID=UTC:20251127T120000
DTSTAMP:20260424T213429
CREATED:20251020T083749Z
LAST-MODIFIED:20251109T222346Z
UID:10085822-1764237600-1764244800@myrtlelearning.com
SUMMARY:27GM Myrtle HE1
DESCRIPTION:This lesson covers GCSE maths each week \nSelect the button below to join the lesson online
URL:https://myrtlelearning.com/event/27gm-myrtle-he1-2/2025-11-27/
LOCATION:Online Session\, 25 Pattens Gardens\, Rochester\, Other\, ME1 2QP\, United Kingdom
CATEGORIES:27GM Myrtle HE1
ATTACH;FMTTYPE=image/jpeg:https://myrtlelearning.com/wp-content/uploads/2023/08/myrtle-icon-whitejpg.jpg
END:VEVENT
BEGIN:VEVENT
DTSTART;TZID=UTC:20251128T100000
DTEND;TZID=UTC:20251128T120000
DTSTAMP:20260424T213429
CREATED:20251020T083749Z
LAST-MODIFIED:20251109T222346Z
UID:10085823-1764324000-1764331200@myrtlelearning.com
SUMMARY:27GM Myrtle HE1
DESCRIPTION:This lesson covers GCSE maths each week \nSelect the button below to join the lesson online
URL:https://myrtlelearning.com/event/27gm-myrtle-he1-2/2025-11-28/
LOCATION:Online Session\, 25 Pattens Gardens\, Rochester\, Other\, ME1 2QP\, United Kingdom
CATEGORIES:27GM Myrtle HE1
ATTACH;FMTTYPE=image/jpeg:https://myrtlelearning.com/wp-content/uploads/2023/08/myrtle-icon-whitejpg.jpg
END:VEVENT
END:VCALENDAR