BEGIN:VCALENDAR
VERSION:2.0
PRODID:-//Myrtle Learning - ECPv6.15.3//NONSGML v1.0//EN
CALSCALE:GREGORIAN
METHOD:PUBLISH
X-ORIGINAL-URL:https://myrtlelearning.com
X-WR-CALDESC:Events for Myrtle Learning
REFRESH-INTERVAL;VALUE=DURATION:PT1H
X-Robots-Tag:noindex
X-PUBLISHED-TTL:PT1H
BEGIN:VTIMEZONE
TZID:UTC
BEGIN:STANDARD
TZOFFSETFROM:+0000
TZOFFSETTO:+0000
TZNAME:UTC
DTSTART:20260101T000000
END:STANDARD
END:VTIMEZONE
BEGIN:VEVENT
DTSTART;TZID=UTC:20260121T180000
DTEND;TZID=UTC:20260121T200000
DTSTAMP:20260424T014543
CREATED:20260121T172207Z
LAST-MODIFIED:20260126T114845Z
UID:10054978-1769018400-1769025600@myrtlelearning.com
SUMMARY:27GS Myrtle 1
DESCRIPTION:27GS Myrtle 1 \nThese group is made of students preparing for their Science exams in 2027 \nSelect the button below to join the lesson online
URL:https://myrtlelearning.com/event/27gs-myrtle-1-2-2/2026-01-21/
LOCATION:Online Session\, 25 Pattens Gardens\, Rochester\, Other\, ME1 2QP\, United Kingdom
CATEGORIES:27GS Myrtle 1
ATTACH;FMTTYPE=image/jpeg:https://myrtlelearning.com/wp-content/uploads/2023/08/myrtle-icon-whitejpg.jpg
END:VEVENT
BEGIN:VEVENT
DTSTART;TZID=UTC:20260128T180000
DTEND;TZID=UTC:20260128T200000
DTSTAMP:20260424T014543
CREATED:20260121T172207Z
LAST-MODIFIED:20260126T114845Z
UID:10091515-1769623200-1769630400@myrtlelearning.com
SUMMARY:27GS Myrtle 1
DESCRIPTION:27GS Myrtle 1 \nThese group is made of students preparing for their Science exams in 2027 \nSelect the button below to join the lesson online
URL:https://myrtlelearning.com/event/27gs-myrtle-1-2-2/2026-01-28/
LOCATION:Online Session\, 25 Pattens Gardens\, Rochester\, Other\, ME1 2QP\, United Kingdom
CATEGORIES:27GS Myrtle 1
ATTACH;FMTTYPE=image/jpeg:https://myrtlelearning.com/wp-content/uploads/2023/08/myrtle-icon-whitejpg.jpg
END:VEVENT
END:VCALENDAR