BEGIN:VCALENDAR
VERSION:2.0
PRODID:-//Myrtle Learning - ECPv6.15.3//NONSGML v1.0//EN
CALSCALE:GREGORIAN
METHOD:PUBLISH
X-ORIGINAL-URL:https://myrtlelearning.com
X-WR-CALDESC:Events for Myrtle Learning
REFRESH-INTERVAL;VALUE=DURATION:PT1H
X-Robots-Tag:noindex
X-PUBLISHED-TTL:PT1H
BEGIN:VTIMEZONE
TZID:UTC
BEGIN:STANDARD
TZOFFSETFROM:+0000
TZOFFSETTO:+0000
TZNAME:UTC
DTSTART:20280101T000000
END:STANDARD
END:VTIMEZONE
BEGIN:VEVENT
DTSTART;TZID=UTC:20280705T180000
DTEND;TZID=UTC:20280705T200000
DTSTAMP:20260423T023722
CREATED:20260126T115618Z
LAST-MODIFIED:20260126T115618Z
UID:10094281-1846432800-1846440000@myrtlelearning.com
SUMMARY:27GS Myrtle 2
DESCRIPTION:27GS Myrtle 2 \nThese group is made of students preparing for their science exams in 2027 \nSelect the button below to join the lesson online
URL:https://myrtlelearning.com/event/27gs-myrtle-2/2028-07-05/
LOCATION:Online Session\, 25 Pattens Gardens\, Rochester\, Other\, ME1 2QP\, United Kingdom
CATEGORIES:27GS Myrtle 2
ATTACH;FMTTYPE=image/jpeg:https://myrtlelearning.com/wp-content/uploads/2023/08/myrtle-icon-whitejpg.jpg
ORGANIZER;CN="Abbie":MAILTO:barnesab@myrtlelearning.com
END:VEVENT
BEGIN:VEVENT
DTSTART;TZID=UTC:20280712T180000
DTEND;TZID=UTC:20280712T200000
DTSTAMP:20260423T023722
CREATED:20260126T115618Z
LAST-MODIFIED:20260126T115618Z
UID:10094282-1847037600-1847044800@myrtlelearning.com
SUMMARY:27GS Myrtle 2
DESCRIPTION:27GS Myrtle 2 \nThese group is made of students preparing for their science exams in 2027 \nSelect the button below to join the lesson online
URL:https://myrtlelearning.com/event/27gs-myrtle-2/2028-07-12/
LOCATION:Online Session\, 25 Pattens Gardens\, Rochester\, Other\, ME1 2QP\, United Kingdom
CATEGORIES:27GS Myrtle 2
ATTACH;FMTTYPE=image/jpeg:https://myrtlelearning.com/wp-content/uploads/2023/08/myrtle-icon-whitejpg.jpg
ORGANIZER;CN="Abbie":MAILTO:barnesab@myrtlelearning.com
END:VEVENT
BEGIN:VEVENT
DTSTART;TZID=UTC:20280719T180000
DTEND;TZID=UTC:20280719T200000
DTSTAMP:20260423T023722
CREATED:20260126T115618Z
LAST-MODIFIED:20260126T115618Z
UID:10094283-1847642400-1847649600@myrtlelearning.com
SUMMARY:27GS Myrtle 2
DESCRIPTION:27GS Myrtle 2 \nThese group is made of students preparing for their science exams in 2027 \nSelect the button below to join the lesson online
URL:https://myrtlelearning.com/event/27gs-myrtle-2/2028-07-19/
LOCATION:Online Session\, 25 Pattens Gardens\, Rochester\, Other\, ME1 2QP\, United Kingdom
CATEGORIES:27GS Myrtle 2
ATTACH;FMTTYPE=image/jpeg:https://myrtlelearning.com/wp-content/uploads/2023/08/myrtle-icon-whitejpg.jpg
ORGANIZER;CN="Abbie":MAILTO:barnesab@myrtlelearning.com
END:VEVENT
BEGIN:VEVENT
DTSTART;TZID=UTC:20280726T180000
DTEND;TZID=UTC:20280726T200000
DTSTAMP:20260423T023722
CREATED:20260126T115618Z
LAST-MODIFIED:20260126T115618Z
UID:10094284-1848247200-1848254400@myrtlelearning.com
SUMMARY:27GS Myrtle 2
DESCRIPTION:27GS Myrtle 2 \nThese group is made of students preparing for their science exams in 2027 \nSelect the button below to join the lesson online
URL:https://myrtlelearning.com/event/27gs-myrtle-2/2028-07-26/
LOCATION:Online Session\, 25 Pattens Gardens\, Rochester\, Other\, ME1 2QP\, United Kingdom
CATEGORIES:27GS Myrtle 2
ATTACH;FMTTYPE=image/jpeg:https://myrtlelearning.com/wp-content/uploads/2023/08/myrtle-icon-whitejpg.jpg
ORGANIZER;CN="Abbie":MAILTO:barnesab@myrtlelearning.com
END:VEVENT
END:VCALENDAR