BEGIN:VCALENDAR
VERSION:2.0
PRODID:-//Myrtle Learning - ECPv6.15.3//NONSGML v1.0//EN
CALSCALE:GREGORIAN
METHOD:PUBLISH
X-WR-CALNAME:Myrtle Learning
X-ORIGINAL-URL:https://myrtlelearning.com
X-WR-CALDESC:Events for Myrtle Learning
REFRESH-INTERVAL;VALUE=DURATION:PT1H
X-Robots-Tag:noindex
X-PUBLISHED-TTL:PT1H
BEGIN:VTIMEZONE
TZID:UTC
BEGIN:STANDARD
TZOFFSETFROM:+0000
TZOFFSETTO:+0000
TZNAME:UTC
DTSTART:20260101T000000
END:STANDARD
END:VTIMEZONE
BEGIN:VEVENT
DTSTART;TZID=UTC:20261102T183000
DTEND;TZID=UTC:20261102T193000
DTSTAMP:20260421T235107
CREATED:20260209T140300Z
LAST-MODIFIED:20260209T140300Z
UID:10098581-1793644200-1793647800@myrtlelearning.com
SUMMARY:27GS Myrtle 3
DESCRIPTION:27GS Myrtle 3 \nThis lesson covers KS4 science on Monday. \nSelect the button below to join the lesson online
URL:https://myrtlelearning.com/event/27gs-myrtle-3/2026-11-02/
LOCATION:Online Session\, 25 Pattens Gardens\, Rochester\, Other\, ME1 2QP\, United Kingdom
CATEGORIES:27GS Myrtle 3
ATTACH;FMTTYPE=image/jpeg:https://myrtlelearning.com/wp-content/uploads/2023/08/myrtle-icon-whitejpg.jpg
ORGANIZER;CN="Abbie":MAILTO:barnesab@myrtlelearning.com
END:VEVENT
BEGIN:VEVENT
DTSTART;TZID=UTC:20261109T183000
DTEND;TZID=UTC:20261109T193000
DTSTAMP:20260421T235107
CREATED:20260209T140300Z
LAST-MODIFIED:20260209T140300Z
UID:10098582-1794249000-1794252600@myrtlelearning.com
SUMMARY:27GS Myrtle 3
DESCRIPTION:27GS Myrtle 3 \nThis lesson covers KS4 science on Monday. \nSelect the button below to join the lesson online
URL:https://myrtlelearning.com/event/27gs-myrtle-3/2026-11-09/
LOCATION:Online Session\, 25 Pattens Gardens\, Rochester\, Other\, ME1 2QP\, United Kingdom
CATEGORIES:27GS Myrtle 3
ATTACH;FMTTYPE=image/jpeg:https://myrtlelearning.com/wp-content/uploads/2023/08/myrtle-icon-whitejpg.jpg
ORGANIZER;CN="Abbie":MAILTO:barnesab@myrtlelearning.com
END:VEVENT
BEGIN:VEVENT
DTSTART;TZID=UTC:20261116T183000
DTEND;TZID=UTC:20261116T193000
DTSTAMP:20260421T235107
CREATED:20260209T140300Z
LAST-MODIFIED:20260209T140300Z
UID:10098583-1794853800-1794857400@myrtlelearning.com
SUMMARY:27GS Myrtle 3
DESCRIPTION:27GS Myrtle 3 \nThis lesson covers KS4 science on Monday. \nSelect the button below to join the lesson online
URL:https://myrtlelearning.com/event/27gs-myrtle-3/2026-11-16/
LOCATION:Online Session\, 25 Pattens Gardens\, Rochester\, Other\, ME1 2QP\, United Kingdom
CATEGORIES:27GS Myrtle 3
ATTACH;FMTTYPE=image/jpeg:https://myrtlelearning.com/wp-content/uploads/2023/08/myrtle-icon-whitejpg.jpg
ORGANIZER;CN="Abbie":MAILTO:barnesab@myrtlelearning.com
END:VEVENT
BEGIN:VEVENT
DTSTART;TZID=UTC:20261123T183000
DTEND;TZID=UTC:20261123T193000
DTSTAMP:20260421T235107
CREATED:20260209T140300Z
LAST-MODIFIED:20260209T140300Z
UID:10098584-1795458600-1795462200@myrtlelearning.com
SUMMARY:27GS Myrtle 3
DESCRIPTION:27GS Myrtle 3 \nThis lesson covers KS4 science on Monday. \nSelect the button below to join the lesson online
URL:https://myrtlelearning.com/event/27gs-myrtle-3/2026-11-23/
LOCATION:Online Session\, 25 Pattens Gardens\, Rochester\, Other\, ME1 2QP\, United Kingdom
CATEGORIES:27GS Myrtle 3
ATTACH;FMTTYPE=image/jpeg:https://myrtlelearning.com/wp-content/uploads/2023/08/myrtle-icon-whitejpg.jpg
ORGANIZER;CN="Abbie":MAILTO:barnesab@myrtlelearning.com
END:VEVENT
BEGIN:VEVENT
DTSTART;TZID=UTC:20261130T183000
DTEND;TZID=UTC:20261130T193000
DTSTAMP:20260421T235107
CREATED:20260209T140300Z
LAST-MODIFIED:20260209T140300Z
UID:10098585-1796063400-1796067000@myrtlelearning.com
SUMMARY:27GS Myrtle 3
DESCRIPTION:27GS Myrtle 3 \nThis lesson covers KS4 science on Monday. \nSelect the button below to join the lesson online
URL:https://myrtlelearning.com/event/27gs-myrtle-3/2026-11-30/
LOCATION:Online Session\, 25 Pattens Gardens\, Rochester\, Other\, ME1 2QP\, United Kingdom
CATEGORIES:27GS Myrtle 3
ATTACH;FMTTYPE=image/jpeg:https://myrtlelearning.com/wp-content/uploads/2023/08/myrtle-icon-whitejpg.jpg
ORGANIZER;CN="Abbie":MAILTO:barnesab@myrtlelearning.com
END:VEVENT
END:VCALENDAR