BEGIN:VCALENDAR
VERSION:2.0
PRODID:-//Myrtle Learning - ECPv6.15.3//NONSGML v1.0//EN
CALSCALE:GREGORIAN
METHOD:PUBLISH
X-WR-CALNAME:Myrtle Learning
X-ORIGINAL-URL:https://myrtlelearning.com
X-WR-CALDESC:Events for Myrtle Learning
REFRESH-INTERVAL;VALUE=DURATION:PT1H
X-Robots-Tag:noindex
X-PUBLISHED-TTL:PT1H
BEGIN:VTIMEZONE
TZID:UTC
BEGIN:STANDARD
TZOFFSETFROM:+0000
TZOFFSETTO:+0000
TZNAME:UTC
DTSTART:20270101T000000
END:STANDARD
END:VTIMEZONE
BEGIN:VEVENT
DTSTART;TZID=UTC:20271101T183000
DTEND;TZID=UTC:20271101T193000
DTSTAMP:20260422T201441
CREATED:20260209T140300Z
LAST-MODIFIED:20260209T140300Z
UID:10098633-1825093800-1825097400@myrtlelearning.com
SUMMARY:27GS Myrtle 3
DESCRIPTION:27GS Myrtle 3 \nThis lesson covers KS4 science on Monday. \nSelect the button below to join the lesson online
URL:https://myrtlelearning.com/event/27gs-myrtle-3/2027-11-01/
LOCATION:Online Session\, 25 Pattens Gardens\, Rochester\, Other\, ME1 2QP\, United Kingdom
CATEGORIES:27GS Myrtle 3
ATTACH;FMTTYPE=image/jpeg:https://myrtlelearning.com/wp-content/uploads/2023/08/myrtle-icon-whitejpg.jpg
ORGANIZER;CN="Abbie":MAILTO:barnesab@myrtlelearning.com
END:VEVENT
BEGIN:VEVENT
DTSTART;TZID=UTC:20271108T183000
DTEND;TZID=UTC:20271108T193000
DTSTAMP:20260422T201441
CREATED:20260209T140300Z
LAST-MODIFIED:20260209T140300Z
UID:10098634-1825698600-1825702200@myrtlelearning.com
SUMMARY:27GS Myrtle 3
DESCRIPTION:27GS Myrtle 3 \nThis lesson covers KS4 science on Monday. \nSelect the button below to join the lesson online
URL:https://myrtlelearning.com/event/27gs-myrtle-3/2027-11-08/
LOCATION:Online Session\, 25 Pattens Gardens\, Rochester\, Other\, ME1 2QP\, United Kingdom
CATEGORIES:27GS Myrtle 3
ATTACH;FMTTYPE=image/jpeg:https://myrtlelearning.com/wp-content/uploads/2023/08/myrtle-icon-whitejpg.jpg
ORGANIZER;CN="Abbie":MAILTO:barnesab@myrtlelearning.com
END:VEVENT
BEGIN:VEVENT
DTSTART;TZID=UTC:20271115T183000
DTEND;TZID=UTC:20271115T193000
DTSTAMP:20260422T201441
CREATED:20260209T140300Z
LAST-MODIFIED:20260209T140300Z
UID:10098635-1826303400-1826307000@myrtlelearning.com
SUMMARY:27GS Myrtle 3
DESCRIPTION:27GS Myrtle 3 \nThis lesson covers KS4 science on Monday. \nSelect the button below to join the lesson online
URL:https://myrtlelearning.com/event/27gs-myrtle-3/2027-11-15/
LOCATION:Online Session\, 25 Pattens Gardens\, Rochester\, Other\, ME1 2QP\, United Kingdom
CATEGORIES:27GS Myrtle 3
ATTACH;FMTTYPE=image/jpeg:https://myrtlelearning.com/wp-content/uploads/2023/08/myrtle-icon-whitejpg.jpg
ORGANIZER;CN="Abbie":MAILTO:barnesab@myrtlelearning.com
END:VEVENT
BEGIN:VEVENT
DTSTART;TZID=UTC:20271122T183000
DTEND;TZID=UTC:20271122T193000
DTSTAMP:20260422T201441
CREATED:20260209T140300Z
LAST-MODIFIED:20260209T140300Z
UID:10098636-1826908200-1826911800@myrtlelearning.com
SUMMARY:27GS Myrtle 3
DESCRIPTION:27GS Myrtle 3 \nThis lesson covers KS4 science on Monday. \nSelect the button below to join the lesson online
URL:https://myrtlelearning.com/event/27gs-myrtle-3/2027-11-22/
LOCATION:Online Session\, 25 Pattens Gardens\, Rochester\, Other\, ME1 2QP\, United Kingdom
CATEGORIES:27GS Myrtle 3
ATTACH;FMTTYPE=image/jpeg:https://myrtlelearning.com/wp-content/uploads/2023/08/myrtle-icon-whitejpg.jpg
ORGANIZER;CN="Abbie":MAILTO:barnesab@myrtlelearning.com
END:VEVENT
BEGIN:VEVENT
DTSTART;TZID=UTC:20271129T183000
DTEND;TZID=UTC:20271129T193000
DTSTAMP:20260422T201441
CREATED:20260209T140300Z
LAST-MODIFIED:20260209T140300Z
UID:10098637-1827513000-1827516600@myrtlelearning.com
SUMMARY:27GS Myrtle 3
DESCRIPTION:27GS Myrtle 3 \nThis lesson covers KS4 science on Monday. \nSelect the button below to join the lesson online
URL:https://myrtlelearning.com/event/27gs-myrtle-3/2027-11-29/
LOCATION:Online Session\, 25 Pattens Gardens\, Rochester\, Other\, ME1 2QP\, United Kingdom
CATEGORIES:27GS Myrtle 3
ATTACH;FMTTYPE=image/jpeg:https://myrtlelearning.com/wp-content/uploads/2023/08/myrtle-icon-whitejpg.jpg
ORGANIZER;CN="Abbie":MAILTO:barnesab@myrtlelearning.com
END:VEVENT
END:VCALENDAR