BEGIN:VCALENDAR
VERSION:2.0
PRODID:-//Myrtle Learning - ECPv6.15.3//NONSGML v1.0//EN
CALSCALE:GREGORIAN
METHOD:PUBLISH
X-WR-CALNAME:Myrtle Learning
X-ORIGINAL-URL:https://myrtlelearning.com
X-WR-CALDESC:Events for Myrtle Learning
REFRESH-INTERVAL;VALUE=DURATION:PT1H
X-Robots-Tag:noindex
X-PUBLISHED-TTL:PT1H
BEGIN:VTIMEZONE
TZID:UTC
BEGIN:STANDARD
TZOFFSETFROM:+0000
TZOFFSETTO:+0000
TZNAME:UTC
DTSTART:20280101T000000
END:STANDARD
END:VTIMEZONE
BEGIN:VEVENT
DTSTART;TZID=UTC:20280501T183000
DTEND;TZID=UTC:20280501T193000
DTSTAMP:20260423T085420
CREATED:20260209T140300Z
LAST-MODIFIED:20260209T140300Z
UID:10098659-1840818600-1840822200@myrtlelearning.com
SUMMARY:27GS Myrtle 3
DESCRIPTION:27GS Myrtle 3 \nThis lesson covers KS4 science on Monday. \nSelect the button below to join the lesson online
URL:https://myrtlelearning.com/event/27gs-myrtle-3/2028-05-01/
LOCATION:Online Session\, 25 Pattens Gardens\, Rochester\, Other\, ME1 2QP\, United Kingdom
CATEGORIES:27GS Myrtle 3
ATTACH;FMTTYPE=image/jpeg:https://myrtlelearning.com/wp-content/uploads/2023/08/myrtle-icon-whitejpg.jpg
ORGANIZER;CN="Abbie":MAILTO:barnesab@myrtlelearning.com
END:VEVENT
BEGIN:VEVENT
DTSTART;TZID=UTC:20280508T183000
DTEND;TZID=UTC:20280508T193000
DTSTAMP:20260423T085420
CREATED:20260209T140300Z
LAST-MODIFIED:20260209T140300Z
UID:10098660-1841423400-1841427000@myrtlelearning.com
SUMMARY:27GS Myrtle 3
DESCRIPTION:27GS Myrtle 3 \nThis lesson covers KS4 science on Monday. \nSelect the button below to join the lesson online
URL:https://myrtlelearning.com/event/27gs-myrtle-3/2028-05-08/
LOCATION:Online Session\, 25 Pattens Gardens\, Rochester\, Other\, ME1 2QP\, United Kingdom
CATEGORIES:27GS Myrtle 3
ATTACH;FMTTYPE=image/jpeg:https://myrtlelearning.com/wp-content/uploads/2023/08/myrtle-icon-whitejpg.jpg
ORGANIZER;CN="Abbie":MAILTO:barnesab@myrtlelearning.com
END:VEVENT
BEGIN:VEVENT
DTSTART;TZID=UTC:20280515T183000
DTEND;TZID=UTC:20280515T193000
DTSTAMP:20260423T085420
CREATED:20260209T140300Z
LAST-MODIFIED:20260209T140300Z
UID:10098661-1842028200-1842031800@myrtlelearning.com
SUMMARY:27GS Myrtle 3
DESCRIPTION:27GS Myrtle 3 \nThis lesson covers KS4 science on Monday. \nSelect the button below to join the lesson online
URL:https://myrtlelearning.com/event/27gs-myrtle-3/2028-05-15/
LOCATION:Online Session\, 25 Pattens Gardens\, Rochester\, Other\, ME1 2QP\, United Kingdom
CATEGORIES:27GS Myrtle 3
ATTACH;FMTTYPE=image/jpeg:https://myrtlelearning.com/wp-content/uploads/2023/08/myrtle-icon-whitejpg.jpg
ORGANIZER;CN="Abbie":MAILTO:barnesab@myrtlelearning.com
END:VEVENT
BEGIN:VEVENT
DTSTART;TZID=UTC:20280522T183000
DTEND;TZID=UTC:20280522T193000
DTSTAMP:20260423T085420
CREATED:20260209T140300Z
LAST-MODIFIED:20260209T140300Z
UID:10098662-1842633000-1842636600@myrtlelearning.com
SUMMARY:27GS Myrtle 3
DESCRIPTION:27GS Myrtle 3 \nThis lesson covers KS4 science on Monday. \nSelect the button below to join the lesson online
URL:https://myrtlelearning.com/event/27gs-myrtle-3/2028-05-22/
LOCATION:Online Session\, 25 Pattens Gardens\, Rochester\, Other\, ME1 2QP\, United Kingdom
CATEGORIES:27GS Myrtle 3
ATTACH;FMTTYPE=image/jpeg:https://myrtlelearning.com/wp-content/uploads/2023/08/myrtle-icon-whitejpg.jpg
ORGANIZER;CN="Abbie":MAILTO:barnesab@myrtlelearning.com
END:VEVENT
BEGIN:VEVENT
DTSTART;TZID=UTC:20280529T183000
DTEND;TZID=UTC:20280529T193000
DTSTAMP:20260423T085420
CREATED:20260209T140300Z
LAST-MODIFIED:20260209T140300Z
UID:10098663-1843237800-1843241400@myrtlelearning.com
SUMMARY:27GS Myrtle 3
DESCRIPTION:27GS Myrtle 3 \nThis lesson covers KS4 science on Monday. \nSelect the button below to join the lesson online
URL:https://myrtlelearning.com/event/27gs-myrtle-3/2028-05-29/
LOCATION:Online Session\, 25 Pattens Gardens\, Rochester\, Other\, ME1 2QP\, United Kingdom
CATEGORIES:27GS Myrtle 3
ATTACH;FMTTYPE=image/jpeg:https://myrtlelearning.com/wp-content/uploads/2023/08/myrtle-icon-whitejpg.jpg
ORGANIZER;CN="Abbie":MAILTO:barnesab@myrtlelearning.com
END:VEVENT
END:VCALENDAR