BEGIN:VCALENDAR
VERSION:2.0
PRODID:-//Myrtle Learning - ECPv6.15.3//NONSGML v1.0//EN
CALSCALE:GREGORIAN
METHOD:PUBLISH
X-ORIGINAL-URL:https://myrtlelearning.com
X-WR-CALDESC:Events for Myrtle Learning
REFRESH-INTERVAL;VALUE=DURATION:PT1H
X-Robots-Tag:noindex
X-PUBLISHED-TTL:PT1H
BEGIN:VTIMEZONE
TZID:UTC
BEGIN:STANDARD
TZOFFSETFROM:+0000
TZOFFSETTO:+0000
TZNAME:UTC
DTSTART:20280101T000000
END:STANDARD
END:VTIMEZONE
BEGIN:VEVENT
DTSTART;TZID=UTC:20281002T183000
DTEND;TZID=UTC:20281002T193000
DTSTAMP:20260423T161218
CREATED:20260209T140300Z
LAST-MODIFIED:20260209T140300Z
UID:10098681-1854124200-1854127800@myrtlelearning.com
SUMMARY:27GS Myrtle 3
DESCRIPTION:27GS Myrtle 3 \nThis lesson covers KS4 science on Monday. \nSelect the button below to join the lesson online
URL:https://myrtlelearning.com/event/27gs-myrtle-3/2028-10-02/
LOCATION:Online Session\, 25 Pattens Gardens\, Rochester\, Other\, ME1 2QP\, United Kingdom
CATEGORIES:27GS Myrtle 3
ATTACH;FMTTYPE=image/jpeg:https://myrtlelearning.com/wp-content/uploads/2023/08/myrtle-icon-whitejpg.jpg
ORGANIZER;CN="Abbie":MAILTO:barnesab@myrtlelearning.com
END:VEVENT
BEGIN:VEVENT
DTSTART;TZID=UTC:20281009T183000
DTEND;TZID=UTC:20281009T193000
DTSTAMP:20260423T161218
CREATED:20260209T140300Z
LAST-MODIFIED:20260209T140300Z
UID:10098682-1854729000-1854732600@myrtlelearning.com
SUMMARY:27GS Myrtle 3
DESCRIPTION:27GS Myrtle 3 \nThis lesson covers KS4 science on Monday. \nSelect the button below to join the lesson online
URL:https://myrtlelearning.com/event/27gs-myrtle-3/2028-10-09/
LOCATION:Online Session\, 25 Pattens Gardens\, Rochester\, Other\, ME1 2QP\, United Kingdom
CATEGORIES:27GS Myrtle 3
ATTACH;FMTTYPE=image/jpeg:https://myrtlelearning.com/wp-content/uploads/2023/08/myrtle-icon-whitejpg.jpg
ORGANIZER;CN="Abbie":MAILTO:barnesab@myrtlelearning.com
END:VEVENT
BEGIN:VEVENT
DTSTART;TZID=UTC:20281016T183000
DTEND;TZID=UTC:20281016T193000
DTSTAMP:20260423T161218
CREATED:20260209T140300Z
LAST-MODIFIED:20260209T140300Z
UID:10098683-1855333800-1855337400@myrtlelearning.com
SUMMARY:27GS Myrtle 3
DESCRIPTION:27GS Myrtle 3 \nThis lesson covers KS4 science on Monday. \nSelect the button below to join the lesson online
URL:https://myrtlelearning.com/event/27gs-myrtle-3/2028-10-16/
LOCATION:Online Session\, 25 Pattens Gardens\, Rochester\, Other\, ME1 2QP\, United Kingdom
CATEGORIES:27GS Myrtle 3
ATTACH;FMTTYPE=image/jpeg:https://myrtlelearning.com/wp-content/uploads/2023/08/myrtle-icon-whitejpg.jpg
ORGANIZER;CN="Abbie":MAILTO:barnesab@myrtlelearning.com
END:VEVENT
BEGIN:VEVENT
DTSTART;TZID=UTC:20281023T183000
DTEND;TZID=UTC:20281023T193000
DTSTAMP:20260423T161218
CREATED:20260209T140300Z
LAST-MODIFIED:20260209T140300Z
UID:10098684-1855938600-1855942200@myrtlelearning.com
SUMMARY:27GS Myrtle 3
DESCRIPTION:27GS Myrtle 3 \nThis lesson covers KS4 science on Monday. \nSelect the button below to join the lesson online
URL:https://myrtlelearning.com/event/27gs-myrtle-3/2028-10-23/
LOCATION:Online Session\, 25 Pattens Gardens\, Rochester\, Other\, ME1 2QP\, United Kingdom
CATEGORIES:27GS Myrtle 3
ATTACH;FMTTYPE=image/jpeg:https://myrtlelearning.com/wp-content/uploads/2023/08/myrtle-icon-whitejpg.jpg
ORGANIZER;CN="Abbie":MAILTO:barnesab@myrtlelearning.com
END:VEVENT
BEGIN:VEVENT
DTSTART;TZID=UTC:20281030T183000
DTEND;TZID=UTC:20281030T193000
DTSTAMP:20260423T161218
CREATED:20260209T140300Z
LAST-MODIFIED:20260209T140300Z
UID:10098685-1856543400-1856547000@myrtlelearning.com
SUMMARY:27GS Myrtle 3
DESCRIPTION:27GS Myrtle 3 \nThis lesson covers KS4 science on Monday. \nSelect the button below to join the lesson online
URL:https://myrtlelearning.com/event/27gs-myrtle-3/2028-10-30/
LOCATION:Online Session\, 25 Pattens Gardens\, Rochester\, Other\, ME1 2QP\, United Kingdom
CATEGORIES:27GS Myrtle 3
ATTACH;FMTTYPE=image/jpeg:https://myrtlelearning.com/wp-content/uploads/2023/08/myrtle-icon-whitejpg.jpg
ORGANIZER;CN="Abbie":MAILTO:barnesab@myrtlelearning.com
END:VEVENT
END:VCALENDAR