BEGIN:VCALENDAR
VERSION:2.0
PRODID:-//Myrtle Learning - ECPv6.15.3//NONSGML v1.0//EN
CALSCALE:GREGORIAN
METHOD:PUBLISH
X-ORIGINAL-URL:https://myrtlelearning.com
X-WR-CALDESC:Events for Myrtle Learning
REFRESH-INTERVAL;VALUE=DURATION:PT1H
X-Robots-Tag:noindex
X-PUBLISHED-TTL:PT1H
BEGIN:VTIMEZONE
TZID:UTC
BEGIN:STANDARD
TZOFFSETFROM:+0000
TZOFFSETTO:+0000
TZNAME:UTC
DTSTART:20250101T000000
END:STANDARD
END:VTIMEZONE
BEGIN:VEVENT
DTSTART;TZID=UTC:20251001T130000
DTEND;TZID=UTC:20251001T150000
DTSTAMP:20260421T123920
CREATED:20250909T120836Z
LAST-MODIFIED:20251014T101904Z
UID:10082868-1759323600-1759330800@myrtlelearning.com
SUMMARY:27GS Myrtle HE1
DESCRIPTION:27GS Myrtle HE1 \nThese group is made of students preparing for their Science exams in 2025/2026 \nSelect the button below to join the lesson online \n \n 
URL:https://myrtlelearning.com/event/25gs-myrtle-he1-2-2/2025-10-01/
LOCATION:Online Session\, 25 Pattens Gardens\, Rochester\, Other\, ME1 2QP\, United Kingdom
CATEGORIES:27GS Myrtle HE1
ATTACH;FMTTYPE=image/jpeg:https://myrtlelearning.com/wp-content/uploads/2023/08/myrtle-icon-whitejpg.jpg
ORGANIZER;CN="Abbie":MAILTO:barnesab@myrtlelearning.com
END:VEVENT
BEGIN:VEVENT
DTSTART;TZID=UTC:20251006T130000
DTEND;TZID=UTC:20251006T150000
DTSTAMP:20260421T123920
CREATED:20250909T120836Z
LAST-MODIFIED:20251014T101904Z
UID:10080745-1759755600-1759762800@myrtlelearning.com
SUMMARY:27GS Myrtle HE1
DESCRIPTION:27GS Myrtle HE1 \nThese group is made of students preparing for their Science exams in 2025/2026 \nSelect the button below to join the lesson online \n \n 
URL:https://myrtlelearning.com/event/25gs-myrtle-he1-2-2/2025-10-06/
LOCATION:Online Session\, 25 Pattens Gardens\, Rochester\, Other\, ME1 2QP\, United Kingdom
CATEGORIES:27GS Myrtle HE1
ATTACH;FMTTYPE=image/jpeg:https://myrtlelearning.com/wp-content/uploads/2023/08/myrtle-icon-whitejpg.jpg
ORGANIZER;CN="Abbie":MAILTO:barnesab@myrtlelearning.com
END:VEVENT
BEGIN:VEVENT
DTSTART;TZID=UTC:20251007T130000
DTEND;TZID=UTC:20251007T150000
DTSTAMP:20260421T123920
CREATED:20250909T120836Z
LAST-MODIFIED:20251014T101904Z
UID:10079680-1759842000-1759849200@myrtlelearning.com
SUMMARY:27GS Myrtle HE1
DESCRIPTION:27GS Myrtle HE1 \nThese group is made of students preparing for their Science exams in 2025/2026 \nSelect the button below to join the lesson online \n \n 
URL:https://myrtlelearning.com/event/25gs-myrtle-he1-2-2/2025-10-07/
LOCATION:Online Session\, 25 Pattens Gardens\, Rochester\, Other\, ME1 2QP\, United Kingdom
CATEGORIES:27GS Myrtle HE1
ATTACH;FMTTYPE=image/jpeg:https://myrtlelearning.com/wp-content/uploads/2023/08/myrtle-icon-whitejpg.jpg
ORGANIZER;CN="Abbie":MAILTO:barnesab@myrtlelearning.com
END:VEVENT
BEGIN:VEVENT
DTSTART;TZID=UTC:20251008T130000
DTEND;TZID=UTC:20251008T150000
DTSTAMP:20260421T123920
CREATED:20250909T120836Z
LAST-MODIFIED:20251014T101904Z
UID:10082869-1759928400-1759935600@myrtlelearning.com
SUMMARY:27GS Myrtle HE1
DESCRIPTION:27GS Myrtle HE1 \nThese group is made of students preparing for their Science exams in 2025/2026 \nSelect the button below to join the lesson online \n \n 
URL:https://myrtlelearning.com/event/25gs-myrtle-he1-2-2/2025-10-08/
LOCATION:Online Session\, 25 Pattens Gardens\, Rochester\, Other\, ME1 2QP\, United Kingdom
CATEGORIES:27GS Myrtle HE1
ATTACH;FMTTYPE=image/jpeg:https://myrtlelearning.com/wp-content/uploads/2023/08/myrtle-icon-whitejpg.jpg
ORGANIZER;CN="Abbie":MAILTO:barnesab@myrtlelearning.com
END:VEVENT
BEGIN:VEVENT
DTSTART;TZID=UTC:20251013T130000
DTEND;TZID=UTC:20251013T150000
DTSTAMP:20260421T123920
CREATED:20250909T120836Z
LAST-MODIFIED:20251014T101904Z
UID:10080746-1760360400-1760367600@myrtlelearning.com
SUMMARY:27GS Myrtle HE1
DESCRIPTION:27GS Myrtle HE1 \nThese group is made of students preparing for their Science exams in 2025/2026 \nSelect the button below to join the lesson online \n \n 
URL:https://myrtlelearning.com/event/25gs-myrtle-he1-2-2/2025-10-13/
LOCATION:Online Session\, 25 Pattens Gardens\, Rochester\, Other\, ME1 2QP\, United Kingdom
CATEGORIES:27GS Myrtle HE1
ATTACH;FMTTYPE=image/jpeg:https://myrtlelearning.com/wp-content/uploads/2023/08/myrtle-icon-whitejpg.jpg
ORGANIZER;CN="Abbie":MAILTO:barnesab@myrtlelearning.com
END:VEVENT
BEGIN:VEVENT
DTSTART;TZID=UTC:20251014T130000
DTEND;TZID=UTC:20251014T150000
DTSTAMP:20260421T123920
CREATED:20250909T120836Z
LAST-MODIFIED:20251014T101904Z
UID:10079681-1760446800-1760454000@myrtlelearning.com
SUMMARY:27GS Myrtle HE1
DESCRIPTION:27GS Myrtle HE1 \nThese group is made of students preparing for their Science exams in 2025/2026 \nSelect the button below to join the lesson online \n \n 
URL:https://myrtlelearning.com/event/25gs-myrtle-he1-2-2/2025-10-14/
LOCATION:Online Session\, 25 Pattens Gardens\, Rochester\, Other\, ME1 2QP\, United Kingdom
CATEGORIES:27GS Myrtle HE1
ATTACH;FMTTYPE=image/jpeg:https://myrtlelearning.com/wp-content/uploads/2023/08/myrtle-icon-whitejpg.jpg
ORGANIZER;CN="Abbie":MAILTO:barnesab@myrtlelearning.com
END:VEVENT
BEGIN:VEVENT
DTSTART;TZID=UTC:20251015T130000
DTEND;TZID=UTC:20251015T150000
DTSTAMP:20260421T123920
CREATED:20250909T120836Z
LAST-MODIFIED:20251014T101904Z
UID:10082870-1760533200-1760540400@myrtlelearning.com
SUMMARY:27GS Myrtle HE1
DESCRIPTION:27GS Myrtle HE1 \nThese group is made of students preparing for their Science exams in 2025/2026 \nSelect the button below to join the lesson online \n \n 
URL:https://myrtlelearning.com/event/25gs-myrtle-he1-2-2/2025-10-15/
LOCATION:Online Session\, 25 Pattens Gardens\, Rochester\, Other\, ME1 2QP\, United Kingdom
CATEGORIES:27GS Myrtle HE1
ATTACH;FMTTYPE=image/jpeg:https://myrtlelearning.com/wp-content/uploads/2023/08/myrtle-icon-whitejpg.jpg
ORGANIZER;CN="Abbie":MAILTO:barnesab@myrtlelearning.com
END:VEVENT
BEGIN:VEVENT
DTSTART;TZID=UTC:20251020T130000
DTEND;TZID=UTC:20251020T150000
DTSTAMP:20260421T123920
CREATED:20250909T120836Z
LAST-MODIFIED:20251014T101904Z
UID:10080747-1760965200-1760972400@myrtlelearning.com
SUMMARY:27GS Myrtle HE1
DESCRIPTION:27GS Myrtle HE1 \nThese group is made of students preparing for their Science exams in 2025/2026 \nSelect the button below to join the lesson online \n \n 
URL:https://myrtlelearning.com/event/25gs-myrtle-he1-2-2/2025-10-20/
LOCATION:Online Session\, 25 Pattens Gardens\, Rochester\, Other\, ME1 2QP\, United Kingdom
CATEGORIES:27GS Myrtle HE1
ATTACH;FMTTYPE=image/jpeg:https://myrtlelearning.com/wp-content/uploads/2023/08/myrtle-icon-whitejpg.jpg
ORGANIZER;CN="Abbie":MAILTO:barnesab@myrtlelearning.com
END:VEVENT
BEGIN:VEVENT
DTSTART;TZID=UTC:20251021T130000
DTEND;TZID=UTC:20251021T150000
DTSTAMP:20260421T123920
CREATED:20250909T120836Z
LAST-MODIFIED:20251014T101904Z
UID:10079682-1761051600-1761058800@myrtlelearning.com
SUMMARY:27GS Myrtle HE1
DESCRIPTION:27GS Myrtle HE1 \nThese group is made of students preparing for their Science exams in 2025/2026 \nSelect the button below to join the lesson online \n \n 
URL:https://myrtlelearning.com/event/25gs-myrtle-he1-2-2/2025-10-21/
LOCATION:Online Session\, 25 Pattens Gardens\, Rochester\, Other\, ME1 2QP\, United Kingdom
CATEGORIES:27GS Myrtle HE1
ATTACH;FMTTYPE=image/jpeg:https://myrtlelearning.com/wp-content/uploads/2023/08/myrtle-icon-whitejpg.jpg
ORGANIZER;CN="Abbie":MAILTO:barnesab@myrtlelearning.com
END:VEVENT
BEGIN:VEVENT
DTSTART;TZID=UTC:20251022T130000
DTEND;TZID=UTC:20251022T150000
DTSTAMP:20260421T123920
CREATED:20250909T120836Z
LAST-MODIFIED:20251014T101904Z
UID:10082871-1761138000-1761145200@myrtlelearning.com
SUMMARY:27GS Myrtle HE1
DESCRIPTION:27GS Myrtle HE1 \nThese group is made of students preparing for their Science exams in 2025/2026 \nSelect the button below to join the lesson online \n \n 
URL:https://myrtlelearning.com/event/25gs-myrtle-he1-2-2/2025-10-22/
LOCATION:Online Session\, 25 Pattens Gardens\, Rochester\, Other\, ME1 2QP\, United Kingdom
CATEGORIES:27GS Myrtle HE1
ATTACH;FMTTYPE=image/jpeg:https://myrtlelearning.com/wp-content/uploads/2023/08/myrtle-icon-whitejpg.jpg
ORGANIZER;CN="Abbie":MAILTO:barnesab@myrtlelearning.com
END:VEVENT
BEGIN:VEVENT
DTSTART;TZID=UTC:20251027T130000
DTEND;TZID=UTC:20251027T150000
DTSTAMP:20260421T123920
CREATED:20250909T120836Z
LAST-MODIFIED:20251014T101904Z
UID:10080748-1761570000-1761577200@myrtlelearning.com
SUMMARY:27GS Myrtle HE1
DESCRIPTION:27GS Myrtle HE1 \nThese group is made of students preparing for their Science exams in 2025/2026 \nSelect the button below to join the lesson online \n \n 
URL:https://myrtlelearning.com/event/25gs-myrtle-he1-2-2/2025-10-27/
LOCATION:Online Session\, 25 Pattens Gardens\, Rochester\, Other\, ME1 2QP\, United Kingdom
CATEGORIES:27GS Myrtle HE1
ATTACH;FMTTYPE=image/jpeg:https://myrtlelearning.com/wp-content/uploads/2023/08/myrtle-icon-whitejpg.jpg
ORGANIZER;CN="Abbie":MAILTO:barnesab@myrtlelearning.com
END:VEVENT
BEGIN:VEVENT
DTSTART;TZID=UTC:20251028T130000
DTEND;TZID=UTC:20251028T150000
DTSTAMP:20260421T123920
CREATED:20250909T120836Z
LAST-MODIFIED:20251014T101904Z
UID:10079683-1761656400-1761663600@myrtlelearning.com
SUMMARY:27GS Myrtle HE1
DESCRIPTION:27GS Myrtle HE1 \nThese group is made of students preparing for their Science exams in 2025/2026 \nSelect the button below to join the lesson online \n \n 
URL:https://myrtlelearning.com/event/25gs-myrtle-he1-2-2/2025-10-28/
LOCATION:Online Session\, 25 Pattens Gardens\, Rochester\, Other\, ME1 2QP\, United Kingdom
CATEGORIES:27GS Myrtle HE1
ATTACH;FMTTYPE=image/jpeg:https://myrtlelearning.com/wp-content/uploads/2023/08/myrtle-icon-whitejpg.jpg
ORGANIZER;CN="Abbie":MAILTO:barnesab@myrtlelearning.com
END:VEVENT
BEGIN:VEVENT
DTSTART;TZID=UTC:20251029T130000
DTEND;TZID=UTC:20251029T150000
DTSTAMP:20260421T123920
CREATED:20250909T120836Z
LAST-MODIFIED:20251014T101904Z
UID:10082872-1761742800-1761750000@myrtlelearning.com
SUMMARY:27GS Myrtle HE1
DESCRIPTION:27GS Myrtle HE1 \nThese group is made of students preparing for their Science exams in 2025/2026 \nSelect the button below to join the lesson online \n \n 
URL:https://myrtlelearning.com/event/25gs-myrtle-he1-2-2/2025-10-29/
LOCATION:Online Session\, 25 Pattens Gardens\, Rochester\, Other\, ME1 2QP\, United Kingdom
CATEGORIES:27GS Myrtle HE1
ATTACH;FMTTYPE=image/jpeg:https://myrtlelearning.com/wp-content/uploads/2023/08/myrtle-icon-whitejpg.jpg
ORGANIZER;CN="Abbie":MAILTO:barnesab@myrtlelearning.com
END:VEVENT
END:VCALENDAR