BEGIN:VCALENDAR
VERSION:2.0
PRODID:-//Myrtle Learning - ECPv6.15.3//NONSGML v1.0//EN
CALSCALE:GREGORIAN
METHOD:PUBLISH
X-ORIGINAL-URL:https://myrtlelearning.com
X-WR-CALDESC:Events for Myrtle Learning
REFRESH-INTERVAL;VALUE=DURATION:PT1H
X-Robots-Tag:noindex
X-PUBLISHED-TTL:PT1H
BEGIN:VTIMEZONE
TZID:UTC
BEGIN:STANDARD
TZOFFSETFROM:+0000
TZOFFSETTO:+0000
TZNAME:UTC
DTSTART:20250101T000000
END:STANDARD
END:VTIMEZONE
BEGIN:VEVENT
DTSTART;TZID=UTC:20251201T130000
DTEND;TZID=UTC:20251201T150000
DTSTAMP:20260421T101451
CREATED:20250909T120836Z
LAST-MODIFIED:20251014T101904Z
UID:10080753-1764594000-1764601200@myrtlelearning.com
SUMMARY:27GS Myrtle HE1
DESCRIPTION:27GS Myrtle HE1 \nThese group is made of students preparing for their Science exams in 2025/2026 \nSelect the button below to join the lesson online \n \n 
URL:https://myrtlelearning.com/event/25gs-myrtle-he1-2-2/2025-12-01/
LOCATION:Online Session\, 25 Pattens Gardens\, Rochester\, Other\, ME1 2QP\, United Kingdom
CATEGORIES:27GS Myrtle HE1
ATTACH;FMTTYPE=image/jpeg:https://myrtlelearning.com/wp-content/uploads/2023/08/myrtle-icon-whitejpg.jpg
ORGANIZER;CN="Abbie":MAILTO:barnesab@myrtlelearning.com
END:VEVENT
BEGIN:VEVENT
DTSTART;TZID=UTC:20251202T130000
DTEND;TZID=UTC:20251202T150000
DTSTAMP:20260421T101451
CREATED:20250909T120836Z
LAST-MODIFIED:20251014T101904Z
UID:10079688-1764680400-1764687600@myrtlelearning.com
SUMMARY:27GS Myrtle HE1
DESCRIPTION:27GS Myrtle HE1 \nThese group is made of students preparing for their Science exams in 2025/2026 \nSelect the button below to join the lesson online \n \n 
URL:https://myrtlelearning.com/event/25gs-myrtle-he1-2-2/2025-12-02/
LOCATION:Online Session\, 25 Pattens Gardens\, Rochester\, Other\, ME1 2QP\, United Kingdom
CATEGORIES:27GS Myrtle HE1
ATTACH;FMTTYPE=image/jpeg:https://myrtlelearning.com/wp-content/uploads/2023/08/myrtle-icon-whitejpg.jpg
ORGANIZER;CN="Abbie":MAILTO:barnesab@myrtlelearning.com
END:VEVENT
BEGIN:VEVENT
DTSTART;TZID=UTC:20251203T130000
DTEND;TZID=UTC:20251203T150000
DTSTAMP:20260421T101451
CREATED:20250909T120836Z
LAST-MODIFIED:20251014T101904Z
UID:10082877-1764766800-1764774000@myrtlelearning.com
SUMMARY:27GS Myrtle HE1
DESCRIPTION:27GS Myrtle HE1 \nThese group is made of students preparing for their Science exams in 2025/2026 \nSelect the button below to join the lesson online \n \n 
URL:https://myrtlelearning.com/event/25gs-myrtle-he1-2-2/2025-12-03/
LOCATION:Online Session\, 25 Pattens Gardens\, Rochester\, Other\, ME1 2QP\, United Kingdom
CATEGORIES:27GS Myrtle HE1
ATTACH;FMTTYPE=image/jpeg:https://myrtlelearning.com/wp-content/uploads/2023/08/myrtle-icon-whitejpg.jpg
ORGANIZER;CN="Abbie":MAILTO:barnesab@myrtlelearning.com
END:VEVENT
BEGIN:VEVENT
DTSTART;TZID=UTC:20251208T130000
DTEND;TZID=UTC:20251208T150000
DTSTAMP:20260421T101451
CREATED:20250909T120836Z
LAST-MODIFIED:20251014T101904Z
UID:10080754-1765198800-1765206000@myrtlelearning.com
SUMMARY:27GS Myrtle HE1
DESCRIPTION:27GS Myrtle HE1 \nThese group is made of students preparing for their Science exams in 2025/2026 \nSelect the button below to join the lesson online \n \n 
URL:https://myrtlelearning.com/event/25gs-myrtle-he1-2-2/2025-12-08/
LOCATION:Online Session\, 25 Pattens Gardens\, Rochester\, Other\, ME1 2QP\, United Kingdom
CATEGORIES:27GS Myrtle HE1
ATTACH;FMTTYPE=image/jpeg:https://myrtlelearning.com/wp-content/uploads/2023/08/myrtle-icon-whitejpg.jpg
ORGANIZER;CN="Abbie":MAILTO:barnesab@myrtlelearning.com
END:VEVENT
BEGIN:VEVENT
DTSTART;TZID=UTC:20251209T130000
DTEND;TZID=UTC:20251209T150000
DTSTAMP:20260421T101451
CREATED:20250909T120836Z
LAST-MODIFIED:20251014T101904Z
UID:10079689-1765285200-1765292400@myrtlelearning.com
SUMMARY:27GS Myrtle HE1
DESCRIPTION:27GS Myrtle HE1 \nThese group is made of students preparing for their Science exams in 2025/2026 \nSelect the button below to join the lesson online \n \n 
URL:https://myrtlelearning.com/event/25gs-myrtle-he1-2-2/2025-12-09/
LOCATION:Online Session\, 25 Pattens Gardens\, Rochester\, Other\, ME1 2QP\, United Kingdom
CATEGORIES:27GS Myrtle HE1
ATTACH;FMTTYPE=image/jpeg:https://myrtlelearning.com/wp-content/uploads/2023/08/myrtle-icon-whitejpg.jpg
ORGANIZER;CN="Abbie":MAILTO:barnesab@myrtlelearning.com
END:VEVENT
BEGIN:VEVENT
DTSTART;TZID=UTC:20251210T130000
DTEND;TZID=UTC:20251210T150000
DTSTAMP:20260421T101451
CREATED:20250909T120836Z
LAST-MODIFIED:20251014T101904Z
UID:10082878-1765371600-1765378800@myrtlelearning.com
SUMMARY:27GS Myrtle HE1
DESCRIPTION:27GS Myrtle HE1 \nThese group is made of students preparing for their Science exams in 2025/2026 \nSelect the button below to join the lesson online \n \n 
URL:https://myrtlelearning.com/event/25gs-myrtle-he1-2-2/2025-12-10/
LOCATION:Online Session\, 25 Pattens Gardens\, Rochester\, Other\, ME1 2QP\, United Kingdom
CATEGORIES:27GS Myrtle HE1
ATTACH;FMTTYPE=image/jpeg:https://myrtlelearning.com/wp-content/uploads/2023/08/myrtle-icon-whitejpg.jpg
ORGANIZER;CN="Abbie":MAILTO:barnesab@myrtlelearning.com
END:VEVENT
BEGIN:VEVENT
DTSTART;TZID=UTC:20251215T130000
DTEND;TZID=UTC:20251215T150000
DTSTAMP:20260421T101451
CREATED:20250909T120836Z
LAST-MODIFIED:20251014T101904Z
UID:10080755-1765803600-1765810800@myrtlelearning.com
SUMMARY:27GS Myrtle HE1
DESCRIPTION:27GS Myrtle HE1 \nThese group is made of students preparing for their Science exams in 2025/2026 \nSelect the button below to join the lesson online \n \n 
URL:https://myrtlelearning.com/event/25gs-myrtle-he1-2-2/2025-12-15/
LOCATION:Online Session\, 25 Pattens Gardens\, Rochester\, Other\, ME1 2QP\, United Kingdom
CATEGORIES:27GS Myrtle HE1
ATTACH;FMTTYPE=image/jpeg:https://myrtlelearning.com/wp-content/uploads/2023/08/myrtle-icon-whitejpg.jpg
ORGANIZER;CN="Abbie":MAILTO:barnesab@myrtlelearning.com
END:VEVENT
BEGIN:VEVENT
DTSTART;TZID=UTC:20251216T130000
DTEND;TZID=UTC:20251216T150000
DTSTAMP:20260421T101451
CREATED:20250909T120836Z
LAST-MODIFIED:20251014T101904Z
UID:10079690-1765890000-1765897200@myrtlelearning.com
SUMMARY:27GS Myrtle HE1
DESCRIPTION:27GS Myrtle HE1 \nThese group is made of students preparing for their Science exams in 2025/2026 \nSelect the button below to join the lesson online \n \n 
URL:https://myrtlelearning.com/event/25gs-myrtle-he1-2-2/2025-12-16/
LOCATION:Online Session\, 25 Pattens Gardens\, Rochester\, Other\, ME1 2QP\, United Kingdom
CATEGORIES:27GS Myrtle HE1
ATTACH;FMTTYPE=image/jpeg:https://myrtlelearning.com/wp-content/uploads/2023/08/myrtle-icon-whitejpg.jpg
ORGANIZER;CN="Abbie":MAILTO:barnesab@myrtlelearning.com
END:VEVENT
BEGIN:VEVENT
DTSTART;TZID=UTC:20251217T130000
DTEND;TZID=UTC:20251217T150000
DTSTAMP:20260421T101451
CREATED:20250909T120836Z
LAST-MODIFIED:20251014T101904Z
UID:10082879-1765976400-1765983600@myrtlelearning.com
SUMMARY:27GS Myrtle HE1
DESCRIPTION:27GS Myrtle HE1 \nThese group is made of students preparing for their Science exams in 2025/2026 \nSelect the button below to join the lesson online \n \n 
URL:https://myrtlelearning.com/event/25gs-myrtle-he1-2-2/2025-12-17/
LOCATION:Online Session\, 25 Pattens Gardens\, Rochester\, Other\, ME1 2QP\, United Kingdom
CATEGORIES:27GS Myrtle HE1
ATTACH;FMTTYPE=image/jpeg:https://myrtlelearning.com/wp-content/uploads/2023/08/myrtle-icon-whitejpg.jpg
ORGANIZER;CN="Abbie":MAILTO:barnesab@myrtlelearning.com
END:VEVENT
BEGIN:VEVENT
DTSTART;TZID=UTC:20251222T130000
DTEND;TZID=UTC:20251222T150000
DTSTAMP:20260421T101451
CREATED:20250909T120836Z
LAST-MODIFIED:20251014T101904Z
UID:10080756-1766408400-1766415600@myrtlelearning.com
SUMMARY:27GS Myrtle HE1
DESCRIPTION:27GS Myrtle HE1 \nThese group is made of students preparing for their Science exams in 2025/2026 \nSelect the button below to join the lesson online \n \n 
URL:https://myrtlelearning.com/event/25gs-myrtle-he1-2-2/2025-12-22/
LOCATION:Online Session\, 25 Pattens Gardens\, Rochester\, Other\, ME1 2QP\, United Kingdom
CATEGORIES:27GS Myrtle HE1
ATTACH;FMTTYPE=image/jpeg:https://myrtlelearning.com/wp-content/uploads/2023/08/myrtle-icon-whitejpg.jpg
ORGANIZER;CN="Abbie":MAILTO:barnesab@myrtlelearning.com
END:VEVENT
BEGIN:VEVENT
DTSTART;TZID=UTC:20251223T130000
DTEND;TZID=UTC:20251223T150000
DTSTAMP:20260421T101451
CREATED:20250909T120836Z
LAST-MODIFIED:20251014T101904Z
UID:10079691-1766494800-1766502000@myrtlelearning.com
SUMMARY:27GS Myrtle HE1
DESCRIPTION:27GS Myrtle HE1 \nThese group is made of students preparing for their Science exams in 2025/2026 \nSelect the button below to join the lesson online \n \n 
URL:https://myrtlelearning.com/event/25gs-myrtle-he1-2-2/2025-12-23/
LOCATION:Online Session\, 25 Pattens Gardens\, Rochester\, Other\, ME1 2QP\, United Kingdom
CATEGORIES:27GS Myrtle HE1
ATTACH;FMTTYPE=image/jpeg:https://myrtlelearning.com/wp-content/uploads/2023/08/myrtle-icon-whitejpg.jpg
ORGANIZER;CN="Abbie":MAILTO:barnesab@myrtlelearning.com
END:VEVENT
BEGIN:VEVENT
DTSTART;TZID=UTC:20251224T130000
DTEND;TZID=UTC:20251224T150000
DTSTAMP:20260421T101451
CREATED:20250909T120836Z
LAST-MODIFIED:20251014T101904Z
UID:10082880-1766581200-1766588400@myrtlelearning.com
SUMMARY:27GS Myrtle HE1
DESCRIPTION:27GS Myrtle HE1 \nThese group is made of students preparing for their Science exams in 2025/2026 \nSelect the button below to join the lesson online \n \n 
URL:https://myrtlelearning.com/event/25gs-myrtle-he1-2-2/2025-12-24/
LOCATION:Online Session\, 25 Pattens Gardens\, Rochester\, Other\, ME1 2QP\, United Kingdom
CATEGORIES:27GS Myrtle HE1
ATTACH;FMTTYPE=image/jpeg:https://myrtlelearning.com/wp-content/uploads/2023/08/myrtle-icon-whitejpg.jpg
ORGANIZER;CN="Abbie":MAILTO:barnesab@myrtlelearning.com
END:VEVENT
BEGIN:VEVENT
DTSTART;TZID=UTC:20251229T130000
DTEND;TZID=UTC:20251229T150000
DTSTAMP:20260421T101451
CREATED:20250909T120836Z
LAST-MODIFIED:20251014T101904Z
UID:10080757-1767013200-1767020400@myrtlelearning.com
SUMMARY:27GS Myrtle HE1
DESCRIPTION:27GS Myrtle HE1 \nThese group is made of students preparing for their Science exams in 2025/2026 \nSelect the button below to join the lesson online \n \n 
URL:https://myrtlelearning.com/event/25gs-myrtle-he1-2-2/2025-12-29/
LOCATION:Online Session\, 25 Pattens Gardens\, Rochester\, Other\, ME1 2QP\, United Kingdom
CATEGORIES:27GS Myrtle HE1
ATTACH;FMTTYPE=image/jpeg:https://myrtlelearning.com/wp-content/uploads/2023/08/myrtle-icon-whitejpg.jpg
ORGANIZER;CN="Abbie":MAILTO:barnesab@myrtlelearning.com
END:VEVENT
BEGIN:VEVENT
DTSTART;TZID=UTC:20251230T130000
DTEND;TZID=UTC:20251230T150000
DTSTAMP:20260421T101451
CREATED:20250909T120836Z
LAST-MODIFIED:20251014T101904Z
UID:10079692-1767099600-1767106800@myrtlelearning.com
SUMMARY:27GS Myrtle HE1
DESCRIPTION:27GS Myrtle HE1 \nThese group is made of students preparing for their Science exams in 2025/2026 \nSelect the button below to join the lesson online \n \n 
URL:https://myrtlelearning.com/event/25gs-myrtle-he1-2-2/2025-12-30/
LOCATION:Online Session\, 25 Pattens Gardens\, Rochester\, Other\, ME1 2QP\, United Kingdom
CATEGORIES:27GS Myrtle HE1
ATTACH;FMTTYPE=image/jpeg:https://myrtlelearning.com/wp-content/uploads/2023/08/myrtle-icon-whitejpg.jpg
ORGANIZER;CN="Abbie":MAILTO:barnesab@myrtlelearning.com
END:VEVENT
BEGIN:VEVENT
DTSTART;TZID=UTC:20251231T130000
DTEND;TZID=UTC:20251231T150000
DTSTAMP:20260421T101451
CREATED:20250909T120836Z
LAST-MODIFIED:20251014T101904Z
UID:10082881-1767186000-1767193200@myrtlelearning.com
SUMMARY:27GS Myrtle HE1
DESCRIPTION:27GS Myrtle HE1 \nThese group is made of students preparing for their Science exams in 2025/2026 \nSelect the button below to join the lesson online \n \n 
URL:https://myrtlelearning.com/event/25gs-myrtle-he1-2-2/2025-12-31/
LOCATION:Online Session\, 25 Pattens Gardens\, Rochester\, Other\, ME1 2QP\, United Kingdom
CATEGORIES:27GS Myrtle HE1
ATTACH;FMTTYPE=image/jpeg:https://myrtlelearning.com/wp-content/uploads/2023/08/myrtle-icon-whitejpg.jpg
ORGANIZER;CN="Abbie":MAILTO:barnesab@myrtlelearning.com
END:VEVENT
END:VCALENDAR